{"text_format":"1","workbook":"xlsx","n_sheets":2,"sheets":["List1","Poriadok"],"not_rendered":{"charts":0,"images":0,"macros":1,"external_links":2,"defined_names":4,"comments":1,"pivot_tables":0},"unopened":[],"bounds":{"document_bytes":16777216,"sheet_cells":100000,"rows_first":2000,"rows_last":500,"rows_between":2000,"halvings":0,"cell_chars":16384,"cell_head_chars":4096},"cells_cut":0,"cells_raw":0,"read":"whole","date_system":"1900"}

{"sheet":"List1","index":0,"n_rows":0,"n_cols":0,"rows_kept":0,"cut":false,"hidden":true,"merged":[]}

{"sheet":"Poriadok","index":1,"n_rows":56,"n_cols":23,"rows_kept":56,"cut":false,"hidden":false,"merged":[]}
[]
[null,null,"aud","CADAUD","JPYAUD","NZDAUD","USDAUD","EURAUD","GBPAUD","CHFAUD",null,null,null,"cad","AUDCAD","CHFCAD","JPYCAD","EURCAD","GBPCAD","USDCAD","NZDCAD"]
[null,null,null,{"$f":"1.0038","v":1.0038},{"$f":"1.2534","v":1.2534000000000001},{"$f":"0.8029","v":0.80289999999999995},{"$f":"0.9838","v":0.98380000000000001},1.2732000000000001,1.58453,{"$f":"1.0515","v":1.0515000000000001},null,null,null,null,1.0153000000000001,{"$f":"1.0331","v":1.0330999999999999},{"$f":"1.249","v":1.2490000000000001},1.2471000000000001,1.56247,0.97230000000000005,0.79020000000000001]
[]
[null,null,"eur","AUDEUR","CADEUR","CHFEUR","GBPEUR","JPYEUR","USDEUR","NZDEUR",null,null,null,"gbp","EURGBP","CADGBP","AUDGBP","NZDGBP","CHFGBP","JPYGBP","USDGBP"]
[null,null,null,{"$f":"0.8516","v":0.85160000000000002},{"$f":"0.817","v":0.81699999999999995},{"$f":"0.8327","v":0.8327},{"$f":"1.2716","v":1.2716000000000001},{"$f":"1.0347","v":1.0347},{"$f":"0.8108","v":0.81079999999999997},{"$f":"0.6553","v":0.65529999999999999},null,null,null,null,0.80220000000000002,{"$f":"0.6261","v":0.62609999999999999},{"$f":"0.63","v":0.63},{"$f":"0.4895","v":0.48949999999999999},{"$f":"0.6614","v":0.66139999999999999},{"$f":"0.8329","v":0.83289999999999997},{"$f":"0.6506","v":0.65059999999999996}]
[]
[null,null,"chf","CADCHF","JPYCHF","EURCHF","GBPCHF","USDCHF","AUDCHF","NZDCHF",null,null,null,"jpy","AUDJPY","CADJPY","CHFJPY","EURJPY","GBPJPY","NZDJPY","USDJPY"]
[null,null,null,0.97399999999999998,{"$f":"1.2812","v":1.2811999999999999},1.2010000000000001,1.5255000000000001,0.9768,1.0281,0.78049999999999997,null,null,null,null,0.86939999999999995,0.83199999999999996,0.88200000000000001,1.0652900000000001,1.3239000000000001,0.68600000000000005,0.8236]
[]
[null,null,"nzd","GBPNZD","JPYNZD","USDNZD","EURNZD","CADNZD","CHFNZD","AUDNZD",null,null,null,"usd","AUDUSD","GBPUSD","NZDUSD","CADUSD","CHFUSD","JPYUSD","EURUSD"]
[null,null,null,1.9912099999999999,{"$f":"1.6017","v":1.6016999999999999},{"$f":"1.254","v":1.254},1.5730999999999999,{"$f":"1.2782","v":1.2782},{"$f":"1.3156","v":1.3156000000000001},1.2835000000000001,null,null,null,null,1.0576000000000001,1.6224000000000001,0.83420000000000005,{"$f":"1.036","v":1.036},{"$f":"1.078","v":1.0780000000000001},{"$f":"1.2881","v":1.2881},1.3139000000000001]
[]
[]
[]
["Aktuálny kurz","AUD",null,"CADAUD","JPYAUD","NZDAUD","USDAUD","EURAUD","GBPAUD","CHFAUD","pv",null,"CAD",null,"AUDCAD","CHFCAD","JPYCAD","EURCAD","GBPCAD","USDCAD","NZDCAD","pv"]
[null,null,"Ask",{"$f":"1/[1]!AUDCAD","v":0.9660902328277462},{"$f":"1/[1]!AUDJPY*100","v":1.0821339681852613},{"$f":"1/[1]!AUDNZD","v":0.79264426125554843},{"$f":"1/[1]!AUDUSD","v":0.9537434430138293},{"$f":"[1]!EURAUD","v":1.2484},{"$f":"[1]!GBPAUD","v":1.5347},{"$f":"1/[1]!AUDCHF","v":1.0317787866281469},{"$f":"(0.0001/G19)*10000","v":1.0483499785377022},null,null,"Ask",{"$f":"[1]!AUDCAD","v":1.0350999999999999},{"$f":"1/[1]!CADCHF","v":1.0678056593699947},{"$f":"1/[1]!CADJPY*100","v":1.1190689346463742},{"$f":"[1]!EURCAD","v":1.2916000000000001},{"$f":"[1]!GBPCAD","v":1.5874999999999999},{"$f":"[1]!USDCAD","v":0.98719999999999997},{"$f":"[1]!NZDCAD","v":0.82179999999999997},{"$f":"(0.0001/T19)*10000","v":1.0131199027404894}]
[null,null,"Bid",{"$f":"1/[2]!AUDCAD","v":0.96693096112937538},{"$f":"1/[2]!AUDJPY*100","v":1.0826025765941323},{"$f":"1/[2]!AUDNZD","v":0.79447048542146659},{"$f":"1/[2]!AUDUSD","v":0.95401640908223617},{"$f":"[2]!EURAUD","v":1.2473000000000001},{"$f":"[2]!GBPAUD","v":1.5327999999999999},{"$f":"1/[2]!AUDCHF","v":1.0332713370531101},null,null,null,"Bid",{"$f":"[2]!AUDCAD","v":1.0342},{"$f":"1/[2]!CADCHF","v":1.0686044026501389},{"$f":"1/[2]!CADJPY*100","v":1.1201971546992271},{"$f":"[2]!EURCAD","v":1.2907},{"$f":"[2]!GBPCAD","v":1.5861000000000001},{"$f":"[2]!USDCAD","v":0.9869},{"$f":"[2]!NZDCAD","v":0.82040000000000002}]
[null,null,"Priemer",{"$f":"(D17+D18)/2","v":0.96651059697856079},{"$f":"(E17+E18)/2","v":1.0823682723896968},0.79355737333850751,0.95387992604803273,1.2478500000000001,1.5337499999999999,1.0325250618406285,null,null,null,"Priemer",{"$f":"(O17+O18)/2","v":1.0346500000000001},{"$f":"(P17+P18)/2","v":1.0682050310100668},1.1196330446728007,1.29115,1.5868,0.98704999999999998,0.82109999999999994]
[null,null,"spread",{"$f":"ABS(D17-D18)*10000","v":8.4072830162917889},{"$f":"ABS(E17-E18)*10000","v":4.686084088709741},18.262241659181555,2.7296606840687687,10.999999999998789,19.000000000000128,14.925504249632127,{"$f":"SUM(D20:J20)","v":79.010773697882897},null,null,"spread",{"$f":"ABS(O17-O18)*10000","v":8.9999999999990088},{"$f":"ABS(P17-P18)*10000","v":7.9874328014417628},11.282200528528463,9.0000000000012292,13.999999999998458,2.9999999999996696,13.999999999999568,{"$f":"SUM(O20:U20)","v":68.269633329968158}]
[]
[null,"EUR",null,"AUDEUR","CADEUR","CHFEUR","GBPEUR","JPYEUR","USDEUR","NZDEUR","pv",null,"GBP",null,"EURGBP","CADGBP","AUDGBP","NZDGBP","CHFGBP","JPYGBP","USDGBP","pv"]
[null,null,"Ask",{"$f":"1/[1]!EURAUD","v":0.80102531239987185},{"$f":"1/[1]!EURCAD","v":0.77423350882626196},{"$f":"1/[1]!EURCHF","v":0.82726671078755787},{"$f":"1/[1]!EURGBP","v":1.2288031457360531},{"$f":"1/[1]!EURJPY*100","v":0.8671522719389525},{"$f":"1/[1]!EURUSD","v":0.7643506840938622},{"$f":"1/[1]!EURNZD","v":0.63548551093035077},{"$f":"(0.0001/I25)*10000","v":1.3081499828001375},null,null,"Ask",{"$f":"[1]!EURGBP","v":0.81379999999999997},{"$f":"1/[1]!GBPCAD","v":0.62992125984251968},{"$f":"1/[1]!GBPAUD","v":0.65159314524011214},{"$f":"1/[1]!GBPNZD","v":0.51698288786641167},{"$f":"1/[1]!GBPCHF","v":0.672992798977051},{"$f":"1/[1]!GBPJPY*100","v":0.70546737213403876},{"$f":"1/[1]!GBPUSD","v":0.62189054726368154},{"$f":"(0.0001/U25)*10000","v":1.6078499860061575}]
[null,null,"Bid",{"$f":"1/[2]!EURAUD","v":0.80173174055960872},{"$f":"1/[2]!EURCAD","v":0.77477337878670494},{"$f":"1/[2]!EURCHF","v":0.8275405494869249},{"$f":"1/[2]!EURGBP","v":1.2292562999385372},{"$f":"1/[2]!EURJPY*100","v":0.86737791655824426},{"$f":"1/[2]!EURUSD","v":0.76452599388379205},{"$f":"1/[2]!EURNZD","v":0.63645621181262735},null,null,null,"Bid",{"$f":"[2]!EURGBP","v":0.8135},{"$f":"1/[2]!GBPCAD","v":0.63047727129436981},{"$f":"1/[2]!GBPAUD","v":0.6524008350730689},{"$f":"1/[2]!GBPNZD","v":0.51789321042001135},{"$f":"1/[2]!GBPCHF","v":0.67330999192028007},{"$f":"1/[2]!GBPJPY*100","v":0.70581592320722752},{"$f":"1/[2]!GBPUSD","v":0.62200659326988872}]
[null,null,"Priemer",{"$f":"(D23+D24)/2","v":0.80137852647974028},{"$f":"(E23+E24)/2","v":0.7745034438064835},0.82740363013724139,1.2290297228372951,0.86726509424859843,0.76443833898882718,0.63597086137148906,null,null,null,"Priemer",{"$f":"(O23+O24)/2","v":0.81364999999999998},{"$f":"(P23+P24)/2","v":0.63019926556844474},0.65199699015659052,0.51743804914321156,0.67315139544866553,0.70564164767063309,0.62194857026678507]
[null,null,"spread",{"$f":"ABS(D23-D24)*10000","v":7.0642815973687156},{"$f":"ABS(E23-E24)*10000","v":5.3986996044297353},2.7383869936703498,4.5315420248415172,2.2564461929175383,1.7530978992985613,9.7070088227657614,{"$f":"SUM(D26:J26)","v":33.449463135292177},null,null,"spread",{"$f":"ABS(O23-O24)*10000","v":2.9999999999996696},{"$f":"ABS(P23-P24)*10000","v":5.5601145185013578},8.0768983295675945,9.1032255359968506,3.171929432290721,3.4855107318876311,1.160460062071822,{"$f":"SUM(O26:U26)","v":33.558138610315645}]
[]
[null,"CHF",null,"CADCHF","JPYCHF","EURCHF","GBPCHF","USDCHF","AUDCHF","NZDCHF","pv",null,"JPY",null,"AUDJPY","CADJPY","CHFJPY","EURJPY","GBPJPY","NZDJPY","USDJPY","pv"]
[null,null,"Ask",{"$f":"[1]!CADCHF","v":0.9365},{"$f":"1/[1]!CHFJPY*100","v":1.0478885046631037},{"$f":"[1]!EURCHF","v":1.2088000000000001},{"$f":"[1]!GBPCHF","v":1.4859},{"$f":"[1]!USDCHF","v":0.92420000000000002},{"$f":"[1]!AUDCHF","v":0.96919999999999995},{"$f":"[1]!NZDCHF","v":0.76959999999999995},{"$f":"(0.0001/H31)*10000","v":1.0821925220496726},null,null,"Ask",{"$f":"[1]!AUDJPY/100","v":0.92409999999999992},{"$f":"[1]!CADJPY/100","v":0.89359999999999995},{"$f":"[1]!CHFJPY/100","v":0.95430000000000004},{"$f":"[1]!EURJPY/100","v":1.1532},{"$f":"[1]!GBPJPY/100","v":1.4175},{"$f":"[1]!NZDJPY/100","v":0.7339},{"$f":"[1]!USDJPY/100","v":0.88159999999999994},{"$f":"(0.0001/U31)*10000","v":1.1344942991661469}]
[null,null,"Bid",{"$f":"[2]!CADCHF","v":0.93579999999999997},{"$f":"1/[2]!CHFJPY*100","v":1.0484378276368211},{"$f":"[2]!EURCHF","v":1.2083999999999999},{"$f":"[2]!GBPCHF","v":1.4852000000000001},{"$f":"[2]!USDCHF","v":0.92390000000000005},{"$f":"[2]!AUDCHF","v":0.96779999999999999},{"$f":"[2]!NZDCHF","v":0.76770000000000005},null,null,null,"Bid",{"$f":"[2]!AUDJPY/100","v":0.92370000000000008},{"$f":"[2]!CADJPY/100","v":0.89269999999999994},{"$f":"[2]!CHFJPY/100","v":0.95379999999999998},{"$f":"[2]!EURJPY/100","v":1.1529},{"$f":"[2]!GBPJPY/100","v":1.4168000000000001},{"$f":"[2]!NZDJPY/100","v":0.73250000000000004},{"$f":"[2]!USDJPY/100","v":0.88129999999999997}]
[null,null,"Priemer",{"$f":"(D29+D30)/2","v":0.93615000000000004},{"$f":"(E29+E30)/2","v":1.0481631661499624},1.2086000000000001,1.4855499999999999,0.92405000000000004,0.96849999999999992,0.76865000000000006,null,null,null,"Priemer",{"$f":"(O29+O30)/2","v":0.92389999999999994},{"$f":"(P29+P30)/2","v":0.89314999999999989},0.95405000000000006,1.1530499999999999,1.4171499999999999,0.73320000000000007,0.88144999999999996]
[null,null,"spread",{"$f":"ABS(D29-D30)*10000","v":7.0000000000003393},{"$f":"ABS(E29-E30)*10000","v":5.4932297371745875},4.0000000000017799,6.9999999999992291,2.9999999999996696,13.999999999999568,18.999999999999019,{"$f":"SUM(D32:J32)","v":59.49322973717419},null,null,"spread",{"$f":"ABS(O29-O30)*10000","v":3.9999999999984492},{"$f":"ABS(P29-P30)*10000","v":9.000000000000119},5.0000000000005596,2.9999999999996696,6.9999999999992291,13.999999999999568,2.9999999999996696,{"$f":"SUM(O32:U32)","v":44.999999999997257}]
[]
[null,null,"NZD","GBPNZD","JPYNZD","USDNZD","EURNZD","CADNZD","CHFNZD","AUDNZD","pv",null,"USD",null,"AUDUSD","GBPUSD","NZDUSD","CADUSD","CHFUSD","JPYUSD","EURUSD","pv"]
[null,null,"Ask",{"$f":"[1]!GBPNZD","v":1.9342999999999999},{"$f":"1/[1]!NZDJPY*100","v":1.3625834582368168},{"$f":"1/[1]!NZDUSD","v":1.2017786323759165},{"$f":"[1]!EURNZD","v":1.5736000000000001},{"$f":"1/[1]!NZDCAD","v":1.2168410805548795},{"$f":"1/[1]!NZDCHF","v":1.2993762993762994},{"$f":"[1]!AUDNZD","v":1.2616000000000001},{"$f":"(0.0001/F37)*10000","v":0.83194997295510542},null,null,"Ask",{"$f":"[1]!AUDUSD","v":1.0485},{"$f":"[1]!GBPUSD","v":1.6080000000000001},{"$f":"[1]!NZDUSD","v":0.83209999999999995},{"$f":"1/[1]!USDCAD","v":1.012965964343598},{"$f":"1/[1]!USDCHF","v":1.0820168794633196},{"$f":"1/[1]!USDJPY*100","v":1.1343012704174229},{"$f":"[1]!EURUSD","v":1.3083},1]
[null,null,"Bid",{"$f":"[2]!GBPNZD","v":1.9309000000000001},{"$f":"1/[2]!NZDJPY*100","v":1.3651877133105803},{"$f":"1/[2]!NZDUSD","v":1.202212070209185},{"$f":"[2]!EURNZD","v":1.5711999999999999},{"$f":"1/[2]!NZDCAD","v":1.2189176011701608},{"$f":"1/[2]!NZDCHF","v":1.3025921583952065},{"$f":"[2]!AUDNZD","v":1.2586999999999999},null,null,null,"Bid",{"$f":"[2]!AUDUSD","v":1.0482},{"$f":"[2]!GBPUSD","v":1.6076999999999999},{"$f":"[2]!NZDUSD","v":0.83179999999999998},{"$f":"1/[2]!USDCAD","v":1.0132738879319081},{"$f":"1/[2]!USDCHF","v":1.0823682216690118},{"$f":"1/[2]!USDJPY*100","v":1.1346873936230568},{"$f":"[2]!EURUSD","v":1.3080000000000001}]
[null,null,"Priemer",{"$f":"(D35+D36)/2","v":1.9325999999999999},{"$f":"(E35+E36)/2","v":1.3638855857736987},{"$f":"(F35+F36)/2","v":1.2019953512925508},1.5724,1.2178793408625201,1.3009842288857529,1.2601499999999999,null,null,null,"Priemer",{"$f":"(O35+O36)/2","v":1.0483500000000001},{"$f":"(P35+P36)/2","v":1.60785},0.83194999999999997,1.013119926137753,1.0821925505661656,1.1344943320202399,1.3081499999999999]
[null,null,"spread",{"$f":"ABS(D35-D36)*10000","v":33.999999999998479},26.042550737634951,4.3343783326843521,24.000000000001798,20.765206152812965,32.158590189070857,29.000000000001247,{"$f":"SUM(D38:J38)","v":170.30072541220466},null,null,"spread",{"$f":"ABS(O35-O36)*10000","v":2.9999999999996696},3.00000000000189,2.9999999999996696,3.0792358831011057,3.5134220569221775,3.8612320563391478,2.9999999999996696,{"$f":"SUM(O38:U38)","v":22.45388999636333}]
[]
[]
["Rozdiely",null,"aud","CADAUD","JPYAUD","NZDAUD","USDAUD","EURAUD","GBPAUD","CHFAUD",null,null,null,"cad","AUDCAD","CHFCAD","JPYCAD","EURCAD","GBPCAD","USDCAD","NZDCAD"]
[null,null,{"$f":"(D42+E42+F42+G42+H42+I42+J42)","v":3426.8876940457385},{"$f":"((D3-D19))*10000","v":372.89403021439239},1710.3172761030328,93.426266614924373,299.20073951967277,253.49999999999983,507.80000000000047,189.74938159371567,null,null,null,{"$f":"O42+P42+Q42+R42+S42+T42+U42","v":-391.18075682867175},{"$f":"(O3-O19)*10000","v":-193.49999999999977},-351.05031010066898,1293.6695532719943,-440.4999999999992,-243.29999999999961,-147.49999999999929,-308.99999999999926]
[]
[null,null,"eur","AUDEUR","CADEUR","CHFEUR","GBPEUR","JPYEUR","USDEUR","NZDEUR",null,null,null,"gbp","EURGBP","CADGBP","AUDGBP","NZDGBP","CHFGBP","JPYGBP","USDGBP"]
[null,null,{"$f":"D45+E45+F45+G45+H45+I45+J45","v":3737.1038213032498},{"$f":"((D6-D25))*10000","v":502.21473520259741},{"$f":"((E6-E25))*10000","v":424.96556193516443},{"$f":"((F6-F25))*10000","v":52.963698627586098},425.70277162705008,1674.3490575140152,463.61661011172782,193.29138628510933,null,null,null,{"$f":"O45+P45+Q45+R45+S45+T45+U45","v":786.74081745669423},{"$f":"(O6-O25)*10000","v":-114.4999999999996},{"$f":"(P6-P25)*10000","v":-40.992655684447541},-219.96990156590513,-279.38049143211572,-117.51395448665546,1272.5835232936688,286.51429733214883]
[]
[null,null,"chf","CADCHF","JPYCHF","EURCHF","GBPCHF","USDCHF","AUDCHF","NZDCHF",null,null,null,"jpy","AUDJPY","CADJPY","CHFJPY","EURJPY","GBPJPY","NZDJPY","USDJPY"]
[null,null,{"$f":"D48+E48+F48+G48+H48+I48+J48","v":4274.3683385003751},{"$f":"(D9-D31)*10000","v":378.49999999999937},{"$f":"(E9-E31)*10000","v":2330.3683385003746},-76.000000000000512,399.50000000000153,527.49999999999966,596.00000000000102,118.49999999999916,null,null,null,{"$f":"O48+P48+Q48+R48+S48+T48+U48","v":-4737.5999999999967},{"$f":"(O9-O31)*10000","v":-544.99999999999989},{"$f":"(P9-P31)*10000","v":-611.49999999999932},-720.50000000000057,-877.59999999999843,-932.49999999999829,-472.00000000000017,-578.49999999999955,null,{"$f":"-1","v":-1}]
[null,null,null,null,null,null,null,null,null,null,null,null,null,null,null,null,null,null,null,null,null,null,1]
[null,null,"nzd","GBPNZD","JPYNZD","USDNZD","EURNZD","CADNZD","CHFNZD","AUDNZD",null,null,null,"usd","AUDUSD","GBPUSD","NZDUSD","CADUSD","CHFUSD","JPYUSD","EURUSD"]
[null,null,{"$f":"D51+E51+F51+G51+H51+I51+J51","v":4474.1549318547759},{"$f":"(D12-D37)*10000","v":586.10000000000048},2378.1441422630123,520.04648707449257,6.9999999999992291,603.20659137479856,146.15771114247167,233.50000000000205,null,null,null,{"$f":"O51+P51+Q51+R51+S51+T51+U51","v":2040.931912758419},{"$f":"(O12-O37)*10000","v":92.499999999999801},145.50000000000063,22.500000000000853,228.80073862246996,-41.925505661655208,1536.0566797976016,57.500000000001435]
[]
[]
[]
[]
[null,null,null,null,null,null,null,null,null,null,null,null,null,null,null,null,null,null,null,null,null,{"$f":"SUM(#REF!)","v":{"$error":"#REF!"}}]