{"text_format":"1","workbook":"xlsx","n_sheets":4,"sheets":["+NZD","List1","28 párový prehľad","Poriadok"],"not_rendered":{"charts":0,"images":1,"macros":1,"external_links":4,"defined_names":4,"comments":1,"pivot_tables":0},"unopened":[],"bounds":{"document_bytes":16777216,"sheet_cells":100000,"rows_first":2000,"rows_last":500,"rows_between":2000,"halvings":0,"cell_chars":16384,"cell_head_chars":4096},"cells_cut":0,"cells_raw":0,"read":"whole","date_system":"1900"}

{"sheet":"+NZD","index":0,"n_rows":53,"n_cols":36,"rows_kept":53,"cut":false,"hidden":false,"merged":[[16,0,17,1]]}
[]
[null,null,null,null,null,null,null,null,null,null,null,null,null,null,null,null,null,null,null,null,null,null,null,null,null,null,null,null,null,null,null,null,null,"Pair","BUY","SELL"]
[null,"AUDCAD","AUDJPY","AUDNZD","AUDUSD","CADCHF","CADJPY","CHFJPY","EURAUD","EURCAD","EURCHF","EURGBP","EURJPY","GBPCAD","GBPAUD","GBPNZD","GBPCHF","GBPJPY","GBPUSD","NZDJPY","NZDUSD","USDCAD","USDCHF","USDJPY","AUDCHF","EURUSD","EURNZD","NZDCAD","NZDCHF",null,null,null,null,"AUDCAD",{"$f":"HLOOKUP(LEFT(AH3,3),$C$17:$J$18,2,FALSE)","v":4.2857142857142856},{"$f":"HLOOKUP(RIGHT(AH3,3),$C$17:$J$18,2,FALSE)","v":6.1428571428571432}]
["High",{"$f":"[1]!AUDCAD","v":1.0369999999999999},{"$f":"[1]!AUDJPY","v":91.76},{"$f":"[1]!AUDNZD","v":1.2626999999999999},{"$f":"[1]!AUDUSD","v":1.0528},{"$f":"[1]!CADCHF","v":0.93779999999999997},{"$f":"[1]!CADJPY","v":88.65},{"$f":"[1]!CHFJPY","v":95.18},{"$f":"[1]!EURAUD","v":1.2564},{"$f":"[1]!EURCAD","v":1.3001},{"$f":"[1]!EURCHF","v":1.2105999999999999},{"$f":"[1]!EURGBP","v":0.81189999999999996},{"$f":"[1]!EURJPY","v":115.22},{"$f":"[1]!GBPCAD","v":1.6023000000000001},{"$f":"[1]!GBPAUD","v":1.5482},{"$f":"[1]!GBPNZD","v":1.9517},{"$f":"[1]!GBPCHF","v":1.4952000000000001},{"$f":"[1]!GBPJPY","v":141.96},{"$f":"[1]!GBPUSD","v":1.6256999999999999},{"$f":"[1]!NZDJPY","v":72.8},{"$f":"[1]!NZDUSD","v":0.83540000000000003},{"$f":"[1]!USDCAD","v":0.98699999999999999},{"$f":"[1]!USDCHF","v":0.92430000000000001},{"$f":"[1]!USDJPY","v":87.38},{"$f":"[1]!AUDCHF","v":0.97109999999999996},{"$f":"[1]!EURUSD","v":1.3190999999999999},{"$f":"[1]!EURNZD","v":1.5833999999999999},{"$f":"[1]!NZDCAD","v":0.82220000000000004},{"$f":"[1]!NZDCHF","v":0.76990000000000003},null,null,null,null,"AUDJPY",{"$f":"HLOOKUP(LEFT(AH4,3),$C$17:$J$18,2,FALSE)","v":4.2857142857142856},{"$f":"HLOOKUP(RIGHT(AH4,3),$C$17:$J$18,2,FALSE)","v":7}]
["Ask",{"$f":"[2]!AUDCAD","v":1.0366},{"$f":"[2]!AUDJPY","v":91.4},{"$f":"[2]!AUDNZD","v":1.2646999999999999},{"$f":"[2]!AUDUSD","v":1.0521},{"$f":"[2]!CADCHF","v":0.93610000000000004},{"$f":"[2]!CADJPY","v":88.26},{"$f":"[2]!CHFJPY","v":94.29},{"$f":"[2]!EURAUD","v":1.2475000000000001},{"$f":"[2]!EURCAD","v":1.2925},{"$f":"[2]!EURCHF","v":1.2090000000000001},{"$f":"[2]!EURGBP","v":0.81130000000000002},{"$f":"[2]!EURJPY","v":113.97},{"$f":"[2]!GBPCAD","v":1.5933999999999999},{"$f":"[2]!GBPAUD","v":1.5383},{"$f":"[2]!GBPNZD","v":1.9436},{"$f":"[2]!GBPCHF","v":1.4907999999999999},{"$f":"[2]!GBPJPY","v":140.52000000000001},{"$f":"[2]!GBPUSD","v":1.6171},{"$f":"[2]!NZDJPY","v":72.41},{"$f":"[2]!NZDUSD","v":0.83279999999999998},{"$f":"[2]!USDCAD","v":0.98529999999999995},{"$f":"[2]!USDCHF","v":0.92190000000000005},{"$f":"[2]!USDJPY","v":86.91},{"$f":"[2]!AUDCHF","v":0.97019999999999995},{"$f":"[2]!EURUSD","v":1.3118000000000001},{"$f":"[2]!EURNZD","v":1.5763},{"$f":"[2]!NZDCAD","v":0.82089999999999996},{"$f":"[2]!NZDCHF","v":0.76849999999999996},null,0,0,null,"AUDNZD",4.2857142857142856,2.2857142857142856]
["Bid",{"$f":"[3]!AUDCAD","v":1.0357000000000001},{"$f":"[3]!AUDJPY","v":91.36},{"$f":"[3]!AUDNZD","v":1.2618},{"$f":"[3]!AUDUSD","v":1.0518000000000001},{"$f":"[3]!CADCHF","v":0.93540000000000001},{"$f":"[3]!CADJPY","v":88.17},{"$f":"[3]!CHFJPY","v":94.24},{"$f":"[3]!EURAUD","v":1.2464},{"$f":"[3]!EURCAD","v":1.2916000000000001},{"$f":"[3]!EURCHF","v":1.2085999999999999},{"$f":"[3]!EURGBP","v":0.81100000000000005},{"$f":"[3]!EURJPY","v":113.94},{"$f":"[3]!GBPCAD","v":1.5920000000000001},{"$f":"[3]!GBPAUD","v":1.5364},{"$f":"[3]!GBPNZD","v":1.9401999999999999},{"$f":"[3]!GBPCHF","v":1.4901},{"$f":"[3]!GBPJPY","v":140.44999999999999},{"$f":"[3]!GBPUSD","v":1.6168},{"$f":"[3]!NZDJPY","v":72.27},{"$f":"[3]!NZDUSD","v":0.83250000000000002},{"$f":"[3]!USDCAD","v":0.98499999999999999},{"$f":"[3]!USDCHF","v":0.92159999999999997},{"$f":"[3]!USDJPY","v":86.88},{"$f":"[3]!AUDCHF","v":0.96879999999999999},{"$f":"[3]!EURUSD","v":1.3115000000000001},{"$f":"[3]!EURNZD","v":1.5739000000000001},{"$f":"[3]!NZDCAD","v":0.81950000000000001},{"$f":"[3]!NZDCHF","v":0.76659999999999995},null,3,1,null,"AUDUSD",4.2857142857142856,4.5714285714285712]
["Low",{"$f":"[4]!AUDCAD","v":1.0333000000000001},{"$f":"[4]!AUDJPY","v":91.1},{"$f":"[4]!AUDNZD","v":1.2565999999999999},{"$f":"[4]!AUDUSD","v":1.0474000000000001},{"$f":"[4]!CADCHF","v":0.93030000000000002},{"$f":"[4]!CADJPY","v":87.94},{"$f":"[4]!CHFJPY","v":93.97},{"$f":"[4]!EURAUD","v":1.2438},{"$f":"[4]!EURCAD","v":1.2887999999999999},{"$f":"[4]!EURCHF","v":1.2081999999999999},{"$f":"[4]!EURGBP","v":0.8085},{"$f":"[4]!EURJPY","v":113.64},{"$f":"[4]!GBPCAD","v":1.59},{"$f":"[4]!GBPAUD","v":1.5343},{"$f":"[4]!GBPNZD","v":1.9339},{"$f":"[4]!GBPCHF","v":1.4898},{"$f":"[4]!GBPJPY","v":140.15},{"$f":"[4]!GBPUSD","v":1.6144000000000001},{"$f":"[4]!NZDJPY","v":72.17},{"$f":"[4]!NZDUSD","v":0.83120000000000005},{"$f":"[4]!USDCAD","v":0.98409999999999997},{"$f":"[4]!USDCHF","v":0.9173},{"$f":"[4]!USDJPY","v":86.76},{"$f":"[4]!AUDCHF","v":0.96220000000000006},{"$f":"[4]!EURUSD","v":1.3081},{"$f":"[4]!EURNZD","v":1.5680000000000001},{"$f":"[4]!NZDCAD","v":0.81910000000000005},{"$f":"[4]!NZDCHF","v":0.76270000000000004},null,10,2,null,"CADCHF",6.1428571428571432,5.5714285714285712]
[null,null,null,null,null,null,null,null,null,null,null,null,null,null,null,null,null,null,null,null,null,null,null,null,null,null,null,null,null,null,25,3,null,"CADJPY",6.1428571428571432,7]
["PIP Range",{"$f":"($B4:$AC4-$B7:$AC7)*100000","v":369.99999999998147},{"$f":"($B4:$AC4-$B7:$AC7)*1000","v":660.0000000000108},{"$f":"($B4:$AC4-$B7:$AC7)*100000","v":609.99999999999943},539.99999999998499,749.99999999999511,{"$f":"($B4:$AC4-$B7:$AC7)*1000","v":710.00000000000796},{"$f":"($B4:$AC4-$B7:$AC7)*1000","v":1210.000000000008},{"$f":"($B4:$AC4-$B7:$AC7)*100000","v":1259.9999999999945},1130.0000000000089,239.99999999999577,339.99999999999585,{"$f":"($B4:$AC4-$B7:$AC7)*1000","v":1579.9999999999982},1229.9999999999977,1390.0000000000023,1780.0000000000039,540.00000000000716,{"$f":"($B4:$AC4-$B7:$AC7)*1000","v":1810.0000000000023},1129.9999999999866,{"$f":"($B4:$AC4-$B7:$AC7)*1000","v":629.99999999999545},419.99999999999818,290.00000000000136,700.00000000000057,{"$f":"($B4:$AC4-$B7:$AC7)*1000","v":619.99999999999034},889.99999999999079,1099.9999999999898,1539.9999999999859,309.99999999999915,{"$f":"($B4:$AC4-$B7:$AC7)*100000","v":719.99999999999841},null,40,4,null,"CHFJPY",5.5714285714285712,7]
["Bid Ratio",{"$f":"($B6:$AC6-$B7:$AC7)/$B22:$AC22*100000","v":0.15533830104321777},{"$f":"($B6:$AC6-$B7:$AC7)/$B22:$AC22*1000","v":0.20800000000000607},{"$f":"($B6:$AC6-$B7:$AC7)/$B22:$AC22*100000","v":0.29796612925078725},0.32041728763040245,0.44124915323127306,{"$f":"($B6:$AC6-$B7:$AC7)/$B22:$AC22*1000","v":0.19493442622951346},{"$f":"($B6:$AC6-$B7:$AC7)/$B22:$AC22*1000","v":0.19386885245901533},0.2430670640834538,0.26437068147948967,3.6924265004738187E-2,0.18239737162986638,{"$f":"($B6:$AC6-$B7:$AC7)/$B22:$AC22*1000","v":0.33024590163934431},0.1982780111096078,9.5300907736079618E-2,0.80697358081561177,3.6233504945125741E-2,{"$f":"($B6:$AC6-$B7:$AC7)/$B22:$AC22*1000","v":0.39393442622948949},0.22208372849207245,{"$f":"($B6:$AC6-$B7:$AC7)/$B22:$AC22*1000","v":6.2704918032783913E-2},7.4325972090501499E-2,4.5320688253625195E-2,0.30422747595176891,{"$f":"($B6:$AC6-$B7:$AC7)/$B22:$AC22*1000","v":8.0557377049174608E-2},0.57977794336810751,0.3090909090909183,0.63119848259044276,2.2988754911256321E-2,0.26721948245494781,null,50,5,null,"EURAUD",2.8571428571428572,4.2857142857142856]
[null,null,null,null,null,null,null,null,null,null,null,null,null,null,null,null,null,null,null,null,null,null,null,null,null,null,null,null,null,null,60,6,null,"EURCAD",2.8571428571428572,6.1428571428571432]
["Relative",{"$f":"LEFT(B3,3)","v":"AUD"},{"$f":"LEFT(C3,3)","v":"AUD"},"AUD","AUD",{"$f":"LEFT(F3,3)","v":"CAD"},"CAD","CHF","EUR","EUR","EUR","EUR","EUR","GBP","GBP","GBP","GBP","GBP","GBP","NZD","NZD","USD","USD","USD",{"$f":"LEFT(Y3,3)","v":"AUD"},{"$f":"LEFT(Z3,3)","v":"EUR"},{"$f":"LEFT(AA3,3)","v":"EUR"},{"$f":"LEFT(AB3,3)","v":"NZD"},{"$f":"LEFT(AC3,3)","v":"NZD"},null,75,7,null,"EURCHF",2.8571428571428572,5.5714285714285712]
["Strength",{"$f":"LOOKUP(100*B10,$AE5:$AE14,$AF5:$AF14)","v":2},{"$f":"LOOKUP(100*C10,$AE5:$AE14,$AF5:$AF14)","v":2},3,3,{"$f":"LOOKUP(100*F10,$AE5:$AE14,$AF5:$AF14)","v":4},2,2,2,3,1,2,3,2,1,7,1,3,2,1,1,1,3,1,{"$f":"LOOKUP(100*Y10,$AE5:$AE14,$AF5:$AF14)","v":5},{"$f":"LOOKUP(100*Z10,$AE5:$AE14,$AF5:$AF14)","v":3},{"$f":"LOOKUP(100*AA10,$AE5:$AE14,$AF5:$AF14)","v":6},{"$f":"LOOKUP(100*AB10,$AE5:$AE14,$AF5:$AF14)","v":0},{"$f":"LOOKUP(100*AC10,$AE5:$AE14,$AF5:$AF14)","v":3},null,90,8,null,"EURGBP",2.8571428571428572,3.2857142857142856]
[null,{"$f":"RIGHT(B3,3)","v":"CAD"},{"$f":"RIGHT(C3,3)","v":"JPY"},"NZD","USD",{"$f":"RIGHT(F3,3)","v":"CHF"},"JPY","JPY","AUD","CAD","CHF","GBP","JPY","CAD","AUD","NZD","CHF","JPY","USD","JPY","USD","CAD","CHF","JPY",{"$f":"RIGHT(Y3,3)","v":"CHF"},{"$f":"RIGHT(Z3,3)","v":"USD"},{"$f":"RIGHT(AA3,3)","v":"NZD"},{"$f":"RIGHT(AB3,3)","v":"CAD"},{"$f":"RIGHT(AC3,3)","v":"CHF"},null,97,9,null,"EURJPY",2.8571428571428572,7]
[null,{"$f":"9-B13","v":7},{"$f":"9-C13","v":7},6,6,{"$f":"9-F13","v":5},7,7,7,6,8,7,6,7,8,2,8,6,7,8,8,8,6,8,{"$f":"9-Y13","v":4},{"$f":"9-Z13","v":6},{"$f":"9-AA13","v":3},{"$f":"9-AB13","v":9},{"$f":"9-AC13","v":6},null,null,null,null,"GBPCAD",3.2857142857142856,6.1428571428571432]
[null,null,null,null,null,null,null,null,null,null,null,null,null,null,null,null,null,null,null,null,null,null,null,null,null,null,null,null,null,null,null,null,null,"GBPAUD",3.2857142857142856,4.2857142857142856]
["Total Strength",null,"USD","EUR","GBP","CHF","NZD","AUD","JPY","CAD",null,"Strong",null,null,null,null,null,null,null,null,null,null,null,null,null,null,null,null,null,null,null,null,null,"GBPCAD",3.2857142857142856,6.1428571428571432]
[null,null,{"$f":"(V13+W13+X13+E15+S15+U15+Z15)/C19","v":4.5714285714285712},{"$f":"(I13+J13+K13+L13+M13+Z13+AA13)/D19","v":2.8571428571428572},{"$f":"(N13+O13+P13+Q13+R13+S13+L15)/E19","v":3.2857142857142856},{"$f":"(F15+H13+K15+Q15+W15+Y15+AC15)/F19","v":5.5714285714285712},{"$f":"(T13+U13+D15+P15+AA15+AB13+AC13)/G19","v":2.2857142857142856},{"$f":"(B13+C13+D13+E13+I15+O15+Y13)/H19","v":4.2857142857142856},{"$f":"(C15+G15+H15+M15+R15+T15+X15)/I19","v":7},{"$f":"(F13+G13+B15+J15+N15+V15+AB15)/J19","v":6.1428571428571432},null,"Rising",null,null,null,null,null,null,null,null,null,null,null,null,null,null,null,null,null,null,null,null,null,"GBPCHF",3.2857142857142856,5.5714285714285712]
[null,"# of evaluation points",{"$f":"COUNTIF($B$12:$AC$15,\"=USD\")","v":7},{"$f":"COUNTIF($B$12:$AC$15,\"=EUR\")","v":7},{"$f":"COUNTIF($B$12:$AC$15,\"=GBP\")","v":7},{"$f":"COUNTIF($B$12:$AC$15,\"=CHF\")","v":7},{"$f":"COUNTIF($B$12:$AC$15,\"=NZD\")","v":7},{"$f":"COUNTIF($B$12:$AC$15,\"=AUD\")","v":7},{"$f":"COUNTIF($B$12:$AC$15,\"=JPY\")","v":7},{"$f":"COUNTIF($B$12:$AC$15,\"=CAD\")","v":7},null,"Neutral",null,null,null,null,null,null,null,null,null,null,null,null,null,null,null,null,null,null,null,null,null,"GBPJPY",3.2857142857142856,7]
[null,null,null,null,null,null,null,null,null,null,null,"Weak",null,null,null,null,null,null,null,null,null,null,null,null,null,"eurusd",null,null,null,null,null,null,null,"GBPUSD",3.2857142857142856,4.5714285714285712]
[null,{"$f":"B9*C41*F41","v":35352.019999998229},{"$f":"C9*C46*F46","v":77943.360000001267},{"$f":"D9*C52*F52","v":51598.679999999957},{"$f":"E9*C42*F42","v":58049.999999998385},{"$f":"F9*C39*F39","v":95789.999999999374},{"$f":"G9*C40*F40","v":88830.940000001006},{"$f":"H9*C35*F35","v":128255.16000000082},{"$f":"I9*C43*F43","v":173887.55999999924},{"$f":"J9*C37*F37","v":157499.40000000125},{"$f":"K9*C31*F31","v":32704.559999999427},{"$f":"L9*C30*F30","v":36618.679999999549},{"$f":"M9*C32*F32","v":256754.7399999997},{"$f":"N9*C38*F38","v":180009.26999999967},{"$f":"O9*C44*F44","v":93118.880000000165},{"$f":"P9*C49*F49","v":336576.64000000077},{"$f":"Q9*C33*F33","v":96278.220000001282},{"$f":"R9*C34*F34","v":350854.02000000043},{"$f":"S9*C27*F27","v":154357.99999999817},{"$f":"T9*C51*F51","v":58315.949999999575},{"$f":"U9*C48*F48","v":35447.999999999847},{"$f":"V9*C36*F36","v":21557.440000000101},{"$f":"(W9*C28*F28)","v":73109.400000000067},{"$f":"(X9*C29*F29)","v":61441.379999999044},{"$f":"(Y9*C45*F45)","v":115412.52999999882},{"$f":"(Z9*C26*F26)","v":147619.9999999986},{"$f":"(AA9*C47*F47)","v":243209.11999999778},{"$f":"(AB9*C53*F53)","v":26300.399999999925},{"$f":"(AC9*C50*F50)","v":72825.119999999835},null,null,null,null,"NZDJPY",2.2857142857142856,7]
[null,{"$f":"(Z21/$B21:$AC21)*$B9:$AC9","v":1545.0149666129259},{"$f":"(Z21/$B21:$AC21)*$B9:$AC9","v":1249.9999999999882},{"$f":"(Z21/$B21:$AC21)*$B9:$AC9","v":1745.1647987894098},{"$f":"(Z21/$B21:$AC21)*$B9:$AC9","v":1373.2093023255684},{"$f":"(Z21/$B21:$AC21)*$B9:$AC9","v":1155.8095834638164},{"$f":"(Z21/$B21:$AC21)*$B9:$AC9","v":1179.8839458413813},{"$f":"(Z21/$B21:$AC21)*$B9:$AC9","v":1392.6940639269278},{"$f":"(Z21/$B21:$AC21)*$B9:$AC9","v":1069.6636378128387},{"$f":"(Z21/$B21:$AC21)*$B9:$AC9","v":1059.1189553737881},{"$f":"(Z21/$B21:$AC21)*$B9:$AC9","v":1083.2984758088678},{"$f":"(Z21/$B21:$AC21)*$B9:$AC9","v":1370.6337858164065},{"$f":"(Z21/$B21:$AC21)*$B9:$AC9","v":908.41399851078802},{"$f":"(Z21/$B21:$AC21)*$B9:$AC9","v":1008.6847194036078},{"$f":"(Z21/$B21:$AC21)*$B9:$AC9","v":2203.546692142324},{"$f":"(Z21/$B21:$AC21)*$B9:$AC9","v":780.6947029954232},{"$f":"(Z21/$B21:$AC21)*$B9:$AC9","v":827.96295984698554},{"$f":"(Z21/$B21:$AC21)*$B9:$AC9","v":761.54806491884426},{"$f":"(Z21/$B21:$AC21)*$B9:$AC9","v":1080.6734992679253},{"$f":"(Z21/$B21:$AC21)*$B9:$AC9","v":1594.7712418300505},{"$f":"(Z21/$B21:$AC21)*$B9:$AC9","v":1749.0521327014053},{"$f":"(Z21/$B21:$AC21)*$B9:$AC9","v":1985.848041325853},{"$f":"(Z21/$B21:$AC21)*$B9:$AC9","v":1413.4160586737},{"$f":"(Z21/$B21:$AC21)*$B9:$AC9","v":1489.6214896214756},{"$f":"(Z21/$B21:$AC21)*$B9:$AC9","v":1138.366865365474},{"$f":"(Z21/$B21:$AC21)*$B9:$AC9","v":1099.9999999999898},{"$f":"(Z21/$B21:$AC21)*$B9:$AC9","v":934.72975026593497},{"$f":"(Z21/$B21:$AC21)*$B9:$AC9","v":1739.9811409712236},{"$f":"(Z21/$B21:$AC21)*$B9:$AC9","v":1459.4744231111324}]
[]
[null,null,null,null,null,null,null,null,null,null,null,null,null,null,null,null,null,null,null,null,null,null,null,null,null,null,null,null,null,null,null,null,null,"NZDUSD",2.2857142857142856,4.5714285714285712]
[null,null,"pips","$","%","pip value",null,null,null,null,null,null,null,null,null,null,null,null,null,null,null,null,null,null,null,null,null,null,null,null,null,null,null,"USDCAD",4.5714285714285712,6.1428571428571432]
[null,"EURUSD",134.19999999999999,"1,342.0",0.95,1,null,null,null,null,null,null,null,null,null,null,null,null,null,null,null,null,null,null,null,null,null,null,null,null,null,null,null,"USDCHF",4.5714285714285712,5.5714285714285712]
[null,"GBPUSD",136.6,"1,366.2",0.84,1,null,null,null,null,null,null,null,null,null,null,null,null,null,null,null,null,null,null,null,null,null,null,null,null,null,null,null,"USDJPY",4.5714285714285712,7]
[null,"USDCHF",101.4,"1,125.8",1.1200000000000001,1.03]
[null,"USDJPY",81.900000000000006,"1,016.3",1.01,1.21]
[null,"EURGBP",68.599999999999994,"1,113.5",0.79,1.57]
[null,"EURCHF",132.30000000000001,"1,469.1",1.03,1.03]
[null,"EURJPY",134.30000000000001,"1,666.7",1.17,1.21]
[null,"GBPCHF",173.1,"1,921.8",1.18,1.03]
[null,"GBPJPY",160.19999999999999,"1,987.3",1.21,1.21]
[null,"CHFJPY",87.6,"1,087.0",0.98,1.21]
[null,"USDCAD",73.599999999999994,748,0.75,1.01]
[null,"EURCAD",138,"1,402.6",1,1.01]
[null,"GBPCAD",144.9,"1,472.3",0.91,1.01]
[null,"CADCHF",124,"1,376.3",1.34,1.03]
[null,"CADJPY",103.4,"1,282.5",1.25,1.21]
[null,"AUDCAD",94.6,961.9,0.96,1.01]
[null,"AUDUSD",107.5,"1,074.8",1.07,1]
[null,"EURAUD",139.4,"1,388.0",0.99,0.99]
[null,"AUDGBP",63.2,"1,025.9",1.02,1.06]
[null,"AUDCHF",125.9,"1,398.0",1.38,1.03]
[null,"AUDJPY",97.6,"1,211.3",1.2,1.21]
[null,"EURNZD",207.8,"1,517.4",1.08,0.76]
[null,"NZDUSD",84.4,844.2,1.1499999999999999,1]
[null,"GBPNZD",248.8,"1,816.6",1.1299999999999999,0.76]
[null,"NZDCHF",98.2,"1,090.5",1.48,1.03]
[null,"NZDJPY",76.5,949.2,1.28,1.21]
[null,"AUDNZD",111.3,812.5,0.81,0.76]
[null,"NZDCAD",84,853.5,1.17,1.01]

{"sheet":"List1","index":1,"n_rows":0,"n_cols":0,"rows_kept":0,"cut":false,"hidden":true,"merged":[]}

{"sheet":"28 párový prehľad","index":2,"n_rows":66,"n_cols":30,"rows_kept":66,"cut":false,"hidden":false,"merged":[]}
[]
[]
[]
[null,null,"AUDCAD","AUDJPY","AUDNZD","AUDUSD","CADCHF","CADJPY","CHFJPY","EURAUD","EURCAD","EURCHF","EURGBP","EURJPY","GBPCAD","GBPAUD","GBPNZD","GBPCHF","GBPJPY","GBPUSD","NZDJPY","NZDUSD","USDCAD","USDCHF","USDJPY","AUDCHF","EURUSD","EURNZD","NZDCAD","NZDCHF"]
[null,"High",{"$f":"[1]!AUDCAD","v":1.0369999999999999},{"$f":"[1]!AUDJPY","v":91.76},{"$f":"[1]!AUDNZD","v":1.2626999999999999},{"$f":"[1]!AUDUSD","v":1.0528},{"$f":"[1]!CADCHF","v":0.93779999999999997},{"$f":"[1]!CADJPY","v":88.65},{"$f":"[1]!CHFJPY","v":95.18},{"$f":"[1]!EURAUD","v":1.2564},{"$f":"[1]!EURCAD","v":1.3001},{"$f":"[1]!EURCHF","v":1.2105999999999999},{"$f":"[1]!EURGBP","v":0.81189999999999996},{"$f":"[1]!EURJPY","v":115.22},{"$f":"[1]!GBPCAD","v":1.6023000000000001},{"$f":"[1]!GBPAUD","v":1.5482},{"$f":"[1]!GBPNZD","v":1.9517},{"$f":"[1]!GBPCHF","v":1.4952000000000001},{"$f":"[1]!GBPJPY","v":141.96},{"$f":"[1]!GBPUSD","v":1.6256999999999999},{"$f":"[1]!NZDJPY","v":72.8},{"$f":"[1]!NZDUSD","v":0.83540000000000003},{"$f":"[1]!USDCAD","v":0.98699999999999999},{"$f":"[1]!USDCHF","v":0.92430000000000001},{"$f":"[1]!USDJPY","v":87.38},{"$f":"[1]!AUDCHF","v":0.97109999999999996},{"$f":"[1]!EURUSD","v":1.3190999999999999},{"$f":"[1]!EURNZD","v":1.5833999999999999},{"$f":"[1]!NZDCAD","v":0.82220000000000004},{"$f":"[1]!NZDCHF","v":0.76990000000000003}]
[null,"Ask",{"$f":"[2]!AUDCAD","v":1.0366},{"$f":"[2]!AUDJPY","v":91.4},{"$f":"[2]!AUDNZD","v":1.2646999999999999},{"$f":"[2]!AUDUSD","v":1.0521},{"$f":"[2]!CADCHF","v":0.93610000000000004},{"$f":"[2]!CADJPY","v":88.26},{"$f":"[2]!CHFJPY","v":94.29},{"$f":"[2]!EURAUD","v":1.2475000000000001},{"$f":"[2]!EURCAD","v":1.2925},{"$f":"[2]!EURCHF","v":1.2090000000000001},{"$f":"[2]!EURGBP","v":0.81130000000000002},{"$f":"[2]!EURJPY","v":113.97},{"$f":"[2]!GBPCAD","v":1.5933999999999999},{"$f":"[2]!GBPAUD","v":1.5383},{"$f":"[2]!GBPNZD","v":1.9436},{"$f":"[2]!GBPCHF","v":1.4907999999999999},{"$f":"[2]!GBPJPY","v":140.52000000000001},{"$f":"[2]!GBPUSD","v":1.6171},{"$f":"[2]!NZDJPY","v":72.41},{"$f":"[2]!NZDUSD","v":0.83279999999999998},{"$f":"[2]!USDCAD","v":0.98529999999999995},{"$f":"[2]!USDCHF","v":0.92190000000000005},{"$f":"[2]!USDJPY","v":86.91},{"$f":"[2]!AUDCHF","v":0.97019999999999995},{"$f":"[2]!EURUSD","v":1.3118000000000001},{"$f":"[2]!EURNZD","v":1.5763},{"$f":"[2]!NZDCAD","v":0.82089999999999996},{"$f":"[2]!NZDCHF","v":0.76849999999999996}]
[null,"Bid",{"$f":"[3]!AUDCAD","v":1.0357000000000001},{"$f":"[3]!AUDJPY","v":91.36},{"$f":"[3]!AUDNZD","v":1.2618},{"$f":"[3]!AUDUSD","v":1.0518000000000001},{"$f":"[3]!CADCHF","v":0.93540000000000001},{"$f":"[3]!CADJPY","v":88.17},{"$f":"[3]!CHFJPY","v":94.24},{"$f":"[3]!EURAUD","v":1.2464},{"$f":"[3]!EURCAD","v":1.2916000000000001},{"$f":"[3]!EURCHF","v":1.2085999999999999},{"$f":"[3]!EURGBP","v":0.81100000000000005},{"$f":"[3]!EURJPY","v":113.94},{"$f":"[3]!GBPCAD","v":1.5920000000000001},{"$f":"[3]!GBPAUD","v":1.5364},{"$f":"[3]!GBPNZD","v":1.9401999999999999},{"$f":"[3]!GBPCHF","v":1.4901},{"$f":"[3]!GBPJPY","v":140.44999999999999},{"$f":"[3]!GBPUSD","v":1.6168},{"$f":"[3]!NZDJPY","v":72.27},{"$f":"[3]!NZDUSD","v":0.83250000000000002},{"$f":"[3]!USDCAD","v":0.98499999999999999},{"$f":"[3]!USDCHF","v":0.92159999999999997},{"$f":"[3]!USDJPY","v":86.88},{"$f":"[3]!AUDCHF","v":0.96879999999999999},{"$f":"[3]!EURUSD","v":1.3115000000000001},{"$f":"[3]!EURNZD","v":1.5739000000000001},{"$f":"[3]!NZDCAD","v":0.81950000000000001},{"$f":"[3]!NZDCHF","v":0.76659999999999995}]
[null,"Low",{"$f":"[4]!AUDCAD","v":1.0333000000000001},{"$f":"[4]!AUDJPY","v":91.1},{"$f":"[4]!AUDNZD","v":1.2565999999999999},{"$f":"[4]!AUDUSD","v":1.0474000000000001},{"$f":"[4]!CADCHF","v":0.93030000000000002},{"$f":"[4]!CADJPY","v":87.94},{"$f":"[4]!CHFJPY","v":93.97},{"$f":"[4]!EURAUD","v":1.2438},{"$f":"[4]!EURCAD","v":1.2887999999999999},{"$f":"[4]!EURCHF","v":1.2081999999999999},{"$f":"[4]!EURGBP","v":0.8085},{"$f":"[4]!EURJPY","v":113.64},{"$f":"[4]!GBPCAD","v":1.59},{"$f":"[4]!GBPAUD","v":1.5343},{"$f":"[4]!GBPNZD","v":1.9339},{"$f":"[4]!GBPCHF","v":1.4898},{"$f":"[4]!GBPJPY","v":140.15},{"$f":"[4]!GBPUSD","v":1.6144000000000001},{"$f":"[4]!NZDJPY","v":72.17},{"$f":"[4]!NZDUSD","v":0.83120000000000005},{"$f":"[4]!USDCAD","v":0.98409999999999997},{"$f":"[4]!USDCHF","v":0.9173},{"$f":"[4]!USDJPY","v":86.76},{"$f":"[4]!AUDCHF","v":0.96220000000000006},{"$f":"[4]!EURUSD","v":1.3081},{"$f":"[4]!EURNZD","v":1.5680000000000001},{"$f":"[4]!NZDCAD","v":0.81910000000000005},{"$f":"[4]!NZDCHF","v":0.76270000000000004}]
[]
["12w","Volatilita",69.7,85.5,71.5,108.8,76.8,69,88,104.8,98.7,40.700000000000003,58.7,105.5,114,132.80000000000001,181.3,111.9,104.3,116.4,68,86.1,76.599999999999994,93.3,45.9,85.7,127,152.19999999999999,61.5,71.400000000000006]
[null,"Dnes",{"$f":"(C5-C8)*10000","v":36.999999999998145},{"$f":"(D5-D8)*100","v":66.00000000000108},{"$f":"(E5-E8)*10000","v":60.999999999999943},53.999999999998494,74.999999999999517,{"$f":"(H5-H8)*100","v":71.000000000000796},{"$f":"(I5-I8)*100","v":121.0000000000008},125.99999999999945,113.00000000000088,23.999999999999577,33.999999999999588,{"$f":"(N5-N8)*100","v":157.99999999999983},122.99999999999977,139.00000000000023,178.00000000000037,54.000000000000711,{"$f":"(S5-S8)*100","v":181.00000000000023},112.99999999999866,{"$f":"(U5-U8)*100","v":62.999999999999545},41.999999999999815,29.000000000000135,70.000000000000057,{"$f":"(Y5-Y8)*100","v":61.999999999999034},88.999999999999076,109.99999999999899,153.99999999999858,30.999999999999915,71.999999999999844]
[null,null,{"$f":"1/(C10/C11)","v":0.53084648493541098},{"$f":"1/(D10/D11)","v":0.77192982456141612},0.85314685314685224,0.49632352941175084,0.97656249999999389,1.0289855072463883,1.3750000000000089,1.2022900763358726,1.1448834853090262,0.58968058968057924,0.57921635434411567,1.4976303317535531,1.0789473684210507,1.0466867469879535,0.98179812465526939,0.48257372654156133,1.7353787152444893,0.97079037800686141,0.9264705882352875,0.48780487804877842,0.37859007832898356,0.75026795284030079,1.3507625272330945,1.0385064177362786,0.86614173228345659,1.0118265440210157,0.50406504065040514,1.0084033613445356]
[]
[]
[]
[null,null,"Priemer:",{"$f":"SUM(C12:AD12)/28","v":0.91662534704658161},null,"MIN:",{"$f":"MIN(C12:AD12)","v":0.37859007832898356},null,"MAX:",{"$f":"MAX(C12:AD12)","v":1.7353787152444893}]
[]
[]
[]
[]
[]
[null,"AUD",null,"AUDCAD","AUDJPY","AUDNZD","AUDUSD","EURAUD","GBPAUD","AUDCHF",null,null,"CAD",null,"AUDCAD","CADCHF","CADJPY","EURCAD","GBPCAD","USDCAD","NZDCAD"]
[null,null,"High",{"$f":"[1]!AUDCAD","v":1.0369999999999999},{"$f":"[1]!AUDJPY","v":91.76},{"$f":"[1]!AUDNZD","v":1.2626999999999999},{"$f":"[1]!AUDUSD","v":1.0528},{"$f":"[1]!EURAUD","v":1.2564},{"$f":"[1]!GBPAUD","v":1.5482},{"$f":"[1]!AUDCHF","v":0.97109999999999996},null,null,null,"High",{"$f":"[1]!AUDCAD","v":1.0369999999999999},{"$f":"[1]!CADCHF","v":0.93779999999999997},{"$f":"[1]!CADJPY","v":88.65},{"$f":"[1]!EURCAD","v":1.3001},{"$f":"[1]!GBPCAD","v":1.6023000000000001},{"$f":"[1]!USDCAD","v":0.98699999999999999},{"$f":"[1]!NZDCAD","v":0.82220000000000004}]
["Priemer",{"$f":"SUM(D30:J30)/7","v":0.84853284758793357},"Ask",{"$f":"[2]!AUDCAD","v":1.0366},{"$f":"[2]!AUDJPY","v":91.4},{"$f":"[2]!AUDNZD","v":1.2646999999999999},{"$f":"[2]!AUDUSD","v":1.0521},{"$f":"[2]!EURAUD","v":1.2475000000000001},{"$f":"[2]!GBPAUD","v":1.5383},{"$f":"[2]!AUDCHF","v":0.97019999999999995},null,"Priemer",{"$f":"SUM(O30:U30)/7","v":0.80612578069875129},"Ask",{"$f":"[2]!AUDCAD","v":1.0366},{"$f":"[2]!CADCHF","v":0.93610000000000004},{"$f":"[2]!CADJPY","v":88.26},{"$f":"[2]!EURCAD","v":1.2925},{"$f":"[2]!GBPCAD","v":1.5933999999999999},{"$f":"[2]!USDCAD","v":0.98529999999999995},{"$f":"[2]!NZDCAD","v":0.82089999999999996}]
[null,null,"Bid",{"$f":"[3]!AUDCAD","v":1.0357000000000001},{"$f":"[3]!AUDJPY","v":91.36},{"$f":"[3]!AUDNZD","v":1.2618},{"$f":"[3]!AUDUSD","v":1.0518000000000001},{"$f":"[3]!EURAUD","v":1.2464},{"$f":"[3]!GBPAUD","v":1.5364},{"$f":"[3]!AUDCHF","v":0.96879999999999999},null,null,null,"Bid",{"$f":"[3]!AUDCAD","v":1.0357000000000001},{"$f":"[3]!CADCHF","v":0.93540000000000001},{"$f":"[3]!CADJPY","v":88.17},{"$f":"[3]!EURCAD","v":1.2916000000000001},{"$f":"[3]!GBPCAD","v":1.5920000000000001},{"$f":"[3]!USDCAD","v":0.98499999999999999},{"$f":"[3]!NZDCAD","v":0.81950000000000001}]
["Min",{"$f":"MIN(D30:J30)","v":0.49632352941175084},"Low",{"$f":"[4]!AUDCAD","v":1.0333000000000001},{"$f":"[4]!AUDJPY","v":91.1},{"$f":"[4]!AUDNZD","v":1.2565999999999999},{"$f":"[4]!AUDUSD","v":1.0474000000000001},{"$f":"[4]!EURAUD","v":1.2438},{"$f":"[4]!GBPAUD","v":1.5343},{"$f":"[4]!AUDCHF","v":0.96220000000000006},null,"Min",{"$f":"MIN(O30:U30)","v":0.37859007832898356},"Low",{"$f":"[4]!AUDCAD","v":1.0333000000000001},{"$f":"[4]!CADCHF","v":0.93030000000000002},{"$f":"[4]!CADJPY","v":87.94},{"$f":"[4]!EURCAD","v":1.2887999999999999},{"$f":"[4]!GBPCAD","v":1.59},{"$f":"[4]!USDCAD","v":0.98409999999999997},{"$f":"[4]!NZDCAD","v":0.81910000000000005}]
[]
["Max",{"$f":"MAX(D30:J30)","v":1.2022900763358726},"Volatilita",69.7,85.5,71.5,108.8,104.8,132.80000000000001,85.7,null,"Max",{"$f":"MAX(O30:U30)","v":1.1448834853090262},"Volatilita",69.7,76.8,69,98.7,114,76.599999999999994,61.5]
[null,null,"Dnes",{"$f":"(D23-D26)*10000","v":36.999999999998145},{"$f":"(E23-E26)*100","v":66.00000000000108},{"$f":"(F23-F26)*10000","v":60.999999999999943},{"$f":"(G23-G26)*10000","v":53.999999999998494},{"$f":"(H23-H26)*10000","v":125.99999999999945},{"$f":"(I23-I26)*10000","v":139.00000000000023},{"$f":"(J23-J26)*10000","v":88.999999999999076},null,null,null,"Dnes",{"$f":"(O23-O26)*10000","v":36.999999999998145},{"$f":"(P23-P26)*10000","v":74.999999999999517},{"$f":"(Q23-Q26)*100","v":71.000000000000796},{"$f":"(R23-R26)*10000","v":113.00000000000088},{"$f":"(S23-S26)*10000","v":122.99999999999977},{"$f":"(T23-T26)*10000","v":29.000000000000135},{"$f":"(U23-U26)*10000","v":30.999999999999915}]
[null,null,null,{"$f":"1/(D28/D29)","v":0.53084648493541098},{"$f":"1/(E28/E29)","v":0.77192982456141612},0.85314685314685224,0.49632352941175084,1.2022900763358726,1.0466867469879535,1.0385064177362786,null,null,null,null,{"$f":"1/(O28/O29)","v":0.53084648493541098},{"$f":"1/(P28/P29)","v":0.97656249999999389},1.0289855072463883,1.1448834853090262,1.0789473684210507,0.37859007832898356,0.50406504065040514]
[]
[]
[]
[null,"EUR",null,"EURAUD","EURCAD","EURCHF","EURGBP","EURJPY","EURUSD","EURNZD",null,null,"GBP",null,"EURGBP","GBPCAD","GBPAUD","GBPNZD","GBPCHF","GBPJPY","GBPUSD"]
[null,null,"High",{"$f":"[1]!EURAUD","v":1.2564},{"$f":"[1]!EURCAD","v":1.3001},{"$f":"[1]!EURCHF","v":1.2105999999999999},{"$f":"[1]!EURGBP","v":0.81189999999999996},{"$f":"[1]!EURJPY","v":115.22},{"$f":"[1]!EURUSD","v":1.3190999999999999},{"$f":"[1]!EURNZD","v":1.5833999999999999},null,null,null,"High",{"$f":"[1]!EURGBP","v":0.81189999999999996},{"$f":"[1]!GBPCAD","v":1.6023000000000001},{"$f":"[1]!GBPAUD","v":1.5482},{"$f":"[1]!GBPNZD","v":1.9517},{"$f":"[1]!GBPCHF","v":1.4952000000000001},{"$f":"[1]!GBPJPY","v":141.96},{"$f":"[1]!GBPUSD","v":1.6256999999999999}]
["Priemer",{"$f":"SUM(D42:J42)/7","v":0.98452415910394553},"Ask",{"$f":"[2]!EURAUD","v":1.2475000000000001},{"$f":"[2]!EURCAD","v":1.2925},{"$f":"[2]!EURCHF","v":1.2090000000000001},{"$f":"[2]!EURGBP","v":0.81130000000000002},{"$f":"[2]!EURJPY","v":113.97},{"$f":"[2]!EURUSD","v":1.3118000000000001},{"$f":"[2]!EURNZD","v":1.5763},null,"Priemer",{"$f":"SUM(O42:U42)/7","v":0.98219877345732876},"Ask",{"$f":"[2]!EURGBP","v":0.81130000000000002},{"$f":"[2]!GBPCAD","v":1.5933999999999999},{"$f":"[2]!GBPAUD","v":1.5383},{"$f":"[2]!GBPNZD","v":1.9436},{"$f":"[2]!GBPCHF","v":1.4907999999999999},{"$f":"[2]!GBPJPY","v":140.52000000000001},{"$f":"[2]!GBPUSD","v":1.6171}]
[null,null,"Bid",{"$f":"[3]!EURAUD","v":1.2464},{"$f":"[3]!EURCAD","v":1.2916000000000001},{"$f":"[3]!EURCHF","v":1.2085999999999999},{"$f":"[3]!EURGBP","v":0.81100000000000005},{"$f":"[3]!EURJPY","v":113.94},{"$f":"[3]!EURUSD","v":1.3115000000000001},{"$f":"[3]!EURNZD","v":1.5739000000000001},null,null,null,"Bid",{"$f":"[3]!EURGBP","v":0.81100000000000005},{"$f":"[3]!GBPCAD","v":1.5920000000000001},{"$f":"[3]!GBPAUD","v":1.5364},{"$f":"[3]!GBPNZD","v":1.9401999999999999},{"$f":"[3]!GBPCHF","v":1.4901},{"$f":"[3]!GBPJPY","v":140.44999999999999},{"$f":"[3]!GBPUSD","v":1.6168}]
["Min",{"$f":"MIN(D42:J42)","v":0.57921635434411567},"Low",{"$f":"[4]!EURAUD","v":1.2438},{"$f":"[4]!EURCAD","v":1.2887999999999999},{"$f":"[4]!EURCHF","v":1.2081999999999999},{"$f":"[4]!EURGBP","v":0.8085},{"$f":"[4]!EURJPY","v":113.64},{"$f":"[4]!EURUSD","v":1.3081},{"$f":"[4]!EURNZD","v":1.5680000000000001},null,"Min",{"$f":"MIN(O42:U42)","v":0.48257372654156133},"Low",{"$f":"[4]!EURGBP","v":0.8085},{"$f":"[4]!GBPCAD","v":1.59},{"$f":"[4]!GBPAUD","v":1.5343},{"$f":"[4]!GBPNZD","v":1.9339},{"$f":"[4]!GBPCHF","v":1.4898},{"$f":"[4]!GBPJPY","v":140.15},{"$f":"[4]!GBPUSD","v":1.6144000000000001}]
[]
["Max",{"$f":"MAX(D42:J42)","v":1.4976303317535531},"Volatilita",104.8,98.7,40.700000000000003,58.7,105.5,127,152.19999999999999,null,"Max",{"$f":"MAX(O42:U42)","v":1.7353787152444893},"Volatilita",58.7,114,132.80000000000001,181.3,111.9,104.3,116.4]
[null,null,"Dnes",{"$f":"(D35-D38)*10000","v":125.99999999999945},{"$f":"(E35-E38)*10000","v":113.00000000000088},{"$f":"(F35-F38)*10000","v":23.999999999999577},{"$f":"(G35-G38)*10000","v":33.999999999999588},{"$f":"(H35-H38)*100","v":157.99999999999983},{"$f":"(I35-I38)*10000","v":109.99999999999899},{"$f":"(J35-J38)*10000","v":153.99999999999858},null,null,null,"Dnes",{"$f":"(O35-O38)*10000","v":33.999999999999588},{"$f":"(P35-P38)*10000","v":122.99999999999977},{"$f":"(Q35-Q38)*10000","v":139.00000000000023},{"$f":"(R35-R38)*10000","v":178.00000000000037},{"$f":"(S35-S38)*10000","v":54.000000000000711},{"$f":"(T35-T38)*100","v":181.00000000000023},{"$f":"(U35-U38)*10000","v":112.99999999999866}]
[null,null,null,{"$f":"1/(D40/D41)","v":1.2022900763358726},1.1448834853090262,0.58968058968057924,0.57921635434411567,1.4976303317535531,0.86614173228345659,1.0118265440210157,null,null,null,null,{"$f":"1/(O40/O41)","v":0.57921635434411567},1.0789473684210507,1.0466867469879535,0.98179812465526939,0.48257372654156133,1.7353787152444893,0.97079037800686141]
[]
[]
[]
[null,"CHF",null,"CADCHF","CHFJPY","EURCHF","GBPCHF","USDCHF","AUDCHF","NZDCHF",null,null,"JPY",null,"AUDJPY","CADJPY","CHFJPY","EURJPY","GBPJPY","NZDJPY","USDJPY"]
[null,null,"High",{"$f":"[1]!CADCHF","v":0.93779999999999997},{"$f":"[1]!CHFJPY","v":95.18},{"$f":"[1]!EURCHF","v":1.2105999999999999},{"$f":"[1]!GBPCHF","v":1.4952000000000001},{"$f":"[1]!USDCHF","v":0.92430000000000001},{"$f":"[1]!AUDCHF","v":0.97109999999999996},{"$f":"[1]!NZDCHF","v":0.76990000000000003},null,null,null,"High",{"$f":"[1]!AUDJPY","v":91.76},{"$f":"[1]!CADJPY","v":88.65},{"$f":"[1]!CHFJPY","v":95.18},{"$f":"[1]!EURJPY","v":115.22},{"$f":"[1]!GBPJPY","v":141.96},{"$f":"[1]!NZDJPY","v":72.8},{"$f":"[1]!USDJPY","v":87.38}]
["Priemer",{"$f":"SUM(D54:J54)/7","v":0.88871350687760831},"Ask",{"$f":"[2]!CADCHF","v":0.93610000000000004},{"$f":"[2]!CHFJPY","v":94.29},{"$f":"[2]!EURCHF","v":1.2090000000000001},{"$f":"[2]!GBPCHF","v":1.4907999999999999},{"$f":"[2]!USDCHF","v":0.92190000000000005},{"$f":"[2]!AUDCHF","v":0.97019999999999995},{"$f":"[2]!NZDCHF","v":0.76849999999999996},null,"Priemer",{"$f":"SUM(O54:U54)/7","v":1.2408796420391768},"Ask",{"$f":"[2]!AUDJPY","v":91.4},{"$f":"[2]!CADJPY","v":88.26},{"$f":"[2]!CHFJPY","v":94.29},{"$f":"[2]!EURJPY","v":113.97},{"$f":"[2]!GBPJPY","v":140.52000000000001},{"$f":"[2]!NZDJPY","v":72.41},{"$f":"[2]!USDJPY","v":86.91}]
[null,null,"Bid",{"$f":"[3]!CADCHF","v":0.93540000000000001},{"$f":"[3]!CHFJPY","v":94.24},{"$f":"[3]!EURCHF","v":1.2085999999999999},{"$f":"[3]!GBPCHF","v":1.4901},{"$f":"[3]!USDCHF","v":0.92159999999999997},{"$f":"[3]!AUDCHF","v":0.96879999999999999},{"$f":"[3]!NZDCHF","v":0.76659999999999995},null,null,null,"Bid",{"$f":"[3]!AUDJPY","v":91.36},{"$f":"[3]!CADJPY","v":88.17},{"$f":"[3]!CHFJPY","v":94.24},{"$f":"[3]!EURJPY","v":113.94},{"$f":"[3]!GBPJPY","v":140.44999999999999},{"$f":"[3]!NZDJPY","v":72.27},{"$f":"[3]!USDJPY","v":86.88}]
["Min",{"$f":"MIN(D54:J54)","v":0.48257372654156133},"Low",{"$f":"[4]!CADCHF","v":0.93030000000000002},{"$f":"[4]!CHFJPY","v":93.97},{"$f":"[4]!EURCHF","v":1.2081999999999999},{"$f":"[4]!GBPCHF","v":1.4898},{"$f":"[4]!USDCHF","v":0.9173},{"$f":"[4]!AUDCHF","v":0.96220000000000006},{"$f":"[4]!NZDCHF","v":0.76270000000000004},null,"Min",{"$f":"MIN(O54:U54)","v":0.77192982456141612},"Low",{"$f":"[4]!AUDJPY","v":91.1},{"$f":"[4]!CADJPY","v":87.94},{"$f":"[4]!CHFJPY","v":93.97},{"$f":"[4]!EURJPY","v":113.64},{"$f":"[4]!GBPJPY","v":140.15},{"$f":"[4]!NZDJPY","v":72.17},{"$f":"[4]!USDJPY","v":86.76}]
[]
["Max",{"$f":"MAX(D54:J54)","v":1.3750000000000089},"Volatilita",76.8,88,40.700000000000003,111.9,93.3,85.7,71.400000000000006,null,"Max",{"$f":"MAX(O54:U54)","v":1.7353787152444893},"Volatilita",85.5,69,88,105.5,104.3,68,45.9]
[null,null,"Dnes",{"$f":"(D47-D50)*10000","v":74.999999999999517},{"$f":"(E47-E50)*100","v":121.0000000000008},{"$f":"(F47-F50)*10000","v":23.999999999999577},{"$f":"(G47-G50)*10000","v":54.000000000000711},{"$f":"(H47-H50)*10000","v":70.000000000000057},{"$f":"(I47-I50)*10000","v":88.999999999999076},{"$f":"(J47-J50)*10000","v":71.999999999999844},null,null,null,"Dnes",{"$f":"(O47-O50)*100","v":66.00000000000108},71.000000000000796,121.0000000000008,157.99999999999983,181.00000000000023,62.999999999999545,61.999999999999034]
[null,null,null,{"$f":"1/(D52/D53)","v":0.97656249999999389},1.3750000000000089,0.58968058968057924,0.48257372654156133,0.75026795284030079,1.0385064177362786,1.0084033613445356,null,null,null,null,{"$f":"1/(O52/O53)","v":0.77192982456141612},1.0289855072463883,1.3750000000000089,1.4976303317535531,1.7353787152444893,0.9264705882352875,1.3507625272330945]
[]
[]
[]
[null,"NZD",null,"GBPNZD","NZDJPY","NZDUSD","EURNZD","NZDCAD","NZDCHF","AUDNZD",null,null,"USD",null,"AUDUSD","GBPUSD","NZDUSD","USDCAD","USDCHF","USDJPY","EURUSD"]
[null,null,"High",{"$f":"[1]!GBPNZD","v":1.9517},{"$f":"[1]!NZDJPY","v":72.8},{"$f":"[1]!NZDUSD","v":0.83540000000000003},{"$f":"[1]!EURNZD","v":1.5833999999999999},{"$f":"[1]!NZDCAD","v":0.82220000000000004},{"$f":"[1]!NZDCHF","v":0.76990000000000003},{"$f":"[1]!AUDNZD","v":1.2626999999999999},null,null,null,"High",{"$f":"[1]!AUDUSD","v":1.0528},{"$f":"[1]!GBPUSD","v":1.6256999999999999},{"$f":"[1]!NZDUSD","v":0.83540000000000003},{"$f":"[1]!USDCAD","v":0.98699999999999999},{"$f":"[1]!USDCHF","v":0.92430000000000001},{"$f":"[1]!USDJPY","v":87.38},{"$f":"[1]!EURUSD","v":1.3190999999999999}]
["Priemer",{"$f":"SUM(D66:J66)/7","v":0.82478791287173492},"Ask",{"$f":"[2]!GBPNZD","v":1.9436},{"$f":"[2]!NZDJPY","v":72.41},{"$f":"[2]!NZDUSD","v":0.83279999999999998},{"$f":"[2]!EURNZD","v":1.5763},{"$f":"[2]!NZDCAD","v":0.82089999999999996},{"$f":"[2]!NZDCHF","v":0.76849999999999996},{"$f":"[2]!AUDNZD","v":1.2646999999999999},null,"Priemer",{"$f":"SUM(O66:U66)/7","v":0.75724015373617515},"Ask",{"$f":"[2]!AUDUSD","v":1.0521},{"$f":"[2]!GBPUSD","v":1.6171},{"$f":"[2]!NZDUSD","v":0.83279999999999998},{"$f":"[2]!USDCAD","v":0.98529999999999995},{"$f":"[2]!USDCHF","v":0.92190000000000005},{"$f":"[2]!USDJPY","v":86.91},{"$f":"[2]!EURUSD","v":1.3118000000000001}]
[null,null,"Bid",{"$f":"[3]!GBPNZD","v":1.9401999999999999},{"$f":"[3]!NZDJPY","v":72.27},{"$f":"[3]!NZDUSD","v":0.83250000000000002},{"$f":"[3]!EURNZD","v":1.5739000000000001},{"$f":"[3]!NZDCAD","v":0.81950000000000001},{"$f":"[3]!NZDCHF","v":0.76659999999999995},{"$f":"[3]!AUDNZD","v":1.2618},null,null,null,"Bid",{"$f":"[3]!AUDUSD","v":1.0518000000000001},{"$f":"[3]!GBPUSD","v":1.6168},{"$f":"[3]!NZDUSD","v":0.83250000000000002},{"$f":"[3]!USDCAD","v":0.98499999999999999},{"$f":"[3]!USDCHF","v":0.92159999999999997},{"$f":"[3]!USDJPY","v":86.88},{"$f":"[3]!EURUSD","v":1.3115000000000001}]
["Min",{"$f":"MIN(D66:J66)","v":0.48780487804877842},"Low",{"$f":"[4]!GBPNZD","v":1.9339},{"$f":"[4]!NZDJPY","v":72.17},{"$f":"[4]!NZDUSD","v":0.83120000000000005},{"$f":"[4]!EURNZD","v":1.5680000000000001},{"$f":"[4]!NZDCAD","v":0.81910000000000005},{"$f":"[4]!NZDCHF","v":0.76270000000000004},{"$f":"[4]!AUDNZD","v":1.2565999999999999},null,"Min",{"$f":"MIN(O66:U66)","v":0.37859007832898356},"Low",{"$f":"[4]!AUDUSD","v":1.0474000000000001},{"$f":"[4]!GBPUSD","v":1.6144000000000001},{"$f":"[4]!NZDUSD","v":0.83120000000000005},{"$f":"[4]!USDCAD","v":0.98409999999999997},{"$f":"[4]!USDCHF","v":0.9173},{"$f":"[4]!USDJPY","v":86.76},{"$f":"[4]!EURUSD","v":1.3081}]
[]
["Max",{"$f":"MAX(D66:J66)","v":1.0118265440210157},"Volatilita",181.3,68,86.1,152.19999999999999,61.5,71.400000000000006,71.5,null,"Max",{"$f":"MAX(O66:U66)","v":1.3507625272330945},"Volatilita",108.8,116.4,86.1,76.599999999999994,93.3,45.9,127]
[null,null,"Dnes",{"$f":"(D59-D62)*10000","v":178.00000000000037},{"$f":"(E59-E62)*100","v":62.999999999999545},{"$f":"(F59-F62)*10000","v":41.999999999999815},{"$f":"(G59-G62)*10000","v":153.99999999999858},{"$f":"(H59-H62)*10000","v":30.999999999999915},{"$f":"(I59-I62)*10000","v":71.999999999999844},{"$f":"(J59-J62)*10000","v":60.999999999999943},null,null,null,"Dnes",{"$f":"(O59-O62)*10000","v":53.999999999998494},{"$f":"(P59-P62)*10000","v":112.99999999999866},{"$f":"(Q59-Q62)*10000","v":41.999999999999815},{"$f":"(R59-R62)*10000","v":29.000000000000135},{"$f":"(S59-S62)*10000","v":70.000000000000057},{"$f":"(T59-T62)*100","v":61.999999999999034},{"$f":"(U59-U62)*10000","v":109.99999999999899}]
[null,null,null,{"$f":"1/(D64/D65)","v":0.98179812465526939},0.9264705882352875,0.48780487804877842,1.0118265440210157,0.50406504065040514,1.0084033613445356,0.85314685314685224,null,null,null,null,{"$f":"1/(O64/O65)","v":0.49632352941175084},0.97079037800686141,0.48780487804877842,0.37859007832898356,0.75026795284030079,1.3507625272330945,0.86614173228345659]

{"sheet":"Poriadok","index":3,"n_rows":56,"n_cols":23,"rows_kept":56,"cut":false,"hidden":false,"merged":[]}
[]
[null,null,"aud","CADAUD","JPYAUD","NZDAUD","USDAUD","EURAUD","GBPAUD","CHFAUD",null,null,null,"cad","AUDCAD","CHFCAD","JPYCAD","EURCAD","GBPCAD","USDCAD","NZDCAD"]
[null,null,null,{"$f":"1.0038","v":1.0038},{"$f":"1.2534","v":1.2534000000000001},{"$f":"0.8029","v":0.80289999999999995},{"$f":"0.9838","v":0.98380000000000001},1.2732000000000001,1.58453,{"$f":"1.0515","v":1.0515000000000001},null,null,null,null,1.0153000000000001,{"$f":"1.0331","v":1.0330999999999999},{"$f":"1.249","v":1.2490000000000001},1.2471000000000001,1.56247,0.97230000000000005,0.79020000000000001]
[]
[null,null,"eur","AUDEUR","CADEUR","CHFEUR","GBPEUR","JPYEUR","USDEUR","NZDEUR",null,null,null,"gbp","EURGBP","CADGBP","AUDGBP","NZDGBP","CHFGBP","JPYGBP","USDGBP"]
[null,null,null,{"$f":"0.8516","v":0.85160000000000002},{"$f":"0.817","v":0.81699999999999995},{"$f":"0.8327","v":0.8327},{"$f":"1.2716","v":1.2716000000000001},{"$f":"1.0347","v":1.0347},{"$f":"0.8108","v":0.81079999999999997},{"$f":"0.6553","v":0.65529999999999999},null,null,null,null,0.80220000000000002,{"$f":"0.6261","v":0.62609999999999999},{"$f":"0.63","v":0.63},{"$f":"0.4895","v":0.48949999999999999},{"$f":"0.6614","v":0.66139999999999999},{"$f":"0.8329","v":0.83289999999999997},{"$f":"0.6506","v":0.65059999999999996}]
[]
[null,null,"chf","CADCHF","JPYCHF","EURCHF","GBPCHF","USDCHF","AUDCHF","NZDCHF",null,null,null,"jpy","AUDJPY","CADJPY","CHFJPY","EURJPY","GBPJPY","NZDJPY","USDJPY"]
[null,null,null,0.97399999999999998,{"$f":"1.2812","v":1.2811999999999999},1.2010000000000001,1.5255000000000001,0.9768,1.0281,0.78049999999999997,null,null,null,null,0.86939999999999995,0.83199999999999996,0.88200000000000001,1.0652900000000001,1.3239000000000001,0.68600000000000005,0.8236]
[]
[null,null,"nzd","GBPNZD","JPYNZD","USDNZD","EURNZD","CADNZD","CHFNZD","AUDNZD",null,null,null,"usd","AUDUSD","GBPUSD","NZDUSD","CADUSD","CHFUSD","JPYUSD","EURUSD"]
[null,null,null,1.9912099999999999,{"$f":"1.6017","v":1.6016999999999999},{"$f":"1.254","v":1.254},1.5730999999999999,{"$f":"1.2782","v":1.2782},{"$f":"1.3156","v":1.3156000000000001},1.2835000000000001,null,null,null,null,1.0576000000000001,1.6224000000000001,0.83420000000000005,{"$f":"1.036","v":1.036},{"$f":"1.078","v":1.0780000000000001},{"$f":"1.2881","v":1.2881},1.3139000000000001]
[]
[]
[]
["Aktuálny kurz","AUD",null,"CADAUD","JPYAUD","NZDAUD","USDAUD","EURAUD","GBPAUD","CHFAUD","pv",null,"CAD",null,"AUDCAD","CHFCAD","JPYCAD","EURCAD","GBPCAD","USDCAD","NZDCAD","pv"]
[null,null,"Ask",{"$f":"1/[2]!AUDCAD","v":0.96469226316804946},{"$f":"1/[2]!AUDJPY*100","v":1.0940919037199124},{"$f":"1/[2]!AUDNZD","v":0.79070135209931214},{"$f":"1/[2]!AUDUSD","v":0.95047999239615999},{"$f":"[2]!EURAUD","v":1.2475000000000001},{"$f":"[2]!GBPAUD","v":1.5383},{"$f":"1/[2]!AUDCHF","v":1.0307153164296021},{"$f":"(0.0001/G19)*10000","v":1.0519499786111508},null,null,"Ask",{"$f":"[2]!AUDCAD","v":1.0366},{"$f":"1/[2]!CADCHF","v":1.0682619378271552},{"$f":"1/[2]!CADJPY*100","v":1.1330160888284613},{"$f":"[2]!EURCAD","v":1.2925},{"$f":"[2]!GBPCAD","v":1.5933999999999999},{"$f":"[2]!USDCAD","v":0.98529999999999995},{"$f":"[2]!NZDCAD","v":0.82089999999999996},{"$f":"(0.0001/T19)*10000","v":1.0150738466223419}]
[null,null,"Bid",{"$f":"1/[3]!AUDCAD","v":0.96553055904219365},{"$f":"1/[3]!AUDJPY*100","v":1.0945709281961471},{"$f":"1/[3]!AUDNZD","v":0.79251862418766839},{"$f":"1/[3]!AUDUSD","v":0.95075109336375729},{"$f":"[3]!EURAUD","v":1.2464},{"$f":"[3]!GBPAUD","v":1.5364},{"$f":"1/[3]!AUDCHF","v":1.0322047894302229},null,null,null,"Bid",{"$f":"[3]!AUDCAD","v":1.0357000000000001},{"$f":"1/[3]!CADCHF","v":1.0690613641223006},{"$f":"1/[3]!CADJPY*100","v":1.1341726210729273},{"$f":"[3]!EURCAD","v":1.2916000000000001},{"$f":"[3]!GBPCAD","v":1.5920000000000001},{"$f":"[3]!USDCAD","v":0.98499999999999999},{"$f":"[3]!NZDCAD","v":0.81950000000000001}]
[null,null,"Priemer",{"$f":"(D17+D18)/2","v":0.96511141110512155},{"$f":"(E17+E18)/2","v":1.0943314159580297},0.79160998814349026,0.95061554287995864,1.24695,1.53735,1.0314600529299125,null,null,null,"Priemer",{"$f":"(O17+O18)/2","v":1.0361500000000001},{"$f":"(P17+P18)/2","v":1.068661650974728},1.1335943549506942,1.2920500000000001,1.5927,0.98514999999999997,0.82020000000000004]
[null,null,"spread",{"$f":"ABS(D17-D18)*10000","v":8.3829587414419038},{"$f":"ABS(E17-E18)*10000","v":4.7902447623471289},18.172720883562477,2.7110096759730418,11.000000000001009,19.000000000000128,14.894730006207446,{"$f":"SUM(D20:J20)","v":78.951664069533138},null,null,"spread",{"$f":"ABS(O17-O18)*10000","v":8.9999999999990088},{"$f":"ABS(P17-P18)*10000","v":7.9942629514540009},11.565322444659909,8.9999999999990088,13.999999999998458,2.9999999999996696,13.999999999999568,{"$f":"SUM(O20:U20)","v":68.559585396109625}]
[]
[null,"EUR",null,"AUDEUR","CADEUR","CHFEUR","GBPEUR","JPYEUR","USDEUR","NZDEUR","pv",null,"GBP",null,"EURGBP","CADGBP","AUDGBP","NZDGBP","CHFGBP","JPYGBP","USDGBP","pv"]
[null,null,"Ask",{"$f":"1/[2]!EURAUD","v":0.80160320641282556},{"$f":"1/[2]!EURCAD","v":0.77369439071566737},{"$f":"1/[2]!EURCHF","v":0.82712985938792383},{"$f":"1/[2]!EURGBP","v":1.2325896708985578},{"$f":"1/[2]!EURJPY*100","v":0.87742388347810829},{"$f":"1/[2]!EURUSD","v":0.76231132794633327},{"$f":"1/[2]!EURNZD","v":0.63439700564613333},{"$f":"(0.0001/I25)*10000","v":1.311649982846034},null,null,"Ask",{"$f":"[2]!EURGBP","v":0.81130000000000002},{"$f":"1/[2]!GBPCAD","v":0.62758880381574},{"$f":"1/[2]!GBPAUD","v":0.65006825716700256},{"$f":"1/[2]!GBPNZD","v":0.51450915826301713},{"$f":"1/[2]!GBPCHF","v":0.67078078883820769},{"$f":"1/[2]!GBPJPY*100","v":0.71164247082265863},{"$f":"1/[2]!GBPUSD","v":0.61839094675653949},{"$f":"(0.0001/U25)*10000","v":1.616949986084913}]
[null,null,"Bid",{"$f":"1/[3]!EURAUD","v":0.80231065468549423},{"$f":"1/[3]!EURCAD","v":0.77423350882626196},{"$f":"1/[3]!EURCHF","v":0.82740360747972863},{"$f":"1/[3]!EURGBP","v":1.2330456226880393},{"$f":"1/[3]!EURJPY*100","v":0.87765490609092511},{"$f":"1/[3]!EURUSD","v":0.76248570339306132},{"$f":"1/[3]!EURNZD","v":0.63536438147277463},null,null,null,"Bid",{"$f":"[3]!EURGBP","v":0.81100000000000005},{"$f":"1/[3]!GBPCAD","v":0.62814070351758788},{"$f":"1/[3]!GBPAUD","v":0.65087216870606612},{"$f":"1/[3]!GBPNZD","v":0.51541078239356775},{"$f":"1/[3]!GBPCHF","v":0.67109589960405347},{"$f":"1/[3]!GBPJPY*100","v":0.71199715201139202},{"$f":"1/[3]!GBPUSD","v":0.61850569025235036}]
[null,null,"Priemer",{"$f":"(D23+D24)/2","v":0.80195693054915984},{"$f":"(E23+E24)/2","v":0.77396394977096472},0.82726673343382617,1.2328176467932985,0.8775393947845167,0.7623985156696973,0.63488069355945398,null,null,null,"Priemer",{"$f":"(O23+O24)/2","v":0.81115000000000004},{"$f":"(P23+P24)/2","v":0.62786475366666394},0.65047021293653429,0.51495997032829244,0.67093834422113052,0.71181981141702533,0.61844831850444493]
[null,null,"spread",{"$f":"ABS(D23-D24)*10000","v":7.0744827266866483},{"$f":"ABS(E23-E24)*10000","v":5.3911811059459414},2.7374809180480408,4.5595178948154569,2.3102261281682246,1.7437544672804783,9.673758266413035,{"$f":"SUM(D26:J26)","v":33.490401507357824},null,null,"spread",{"$f":"ABS(O23-O24)*10000","v":2.9999999999996696},{"$f":"ABS(P23-P24)*10000","v":5.5189970184787995},8.0391153906356205,9.0162413055061563,3.1511076584578301,3.5468118873338561,1.1474349581086507,{"$f":"SUM(O26:U26)","v":33.419708218520583}]
[]
[null,"CHF",null,"CADCHF","JPYCHF","EURCHF","GBPCHF","USDCHF","AUDCHF","NZDCHF","pv",null,"JPY",null,"AUDJPY","CADJPY","CHFJPY","EURJPY","GBPJPY","NZDJPY","USDJPY","pv"]
[null,null,"Ask",{"$f":"[2]!CADCHF","v":0.93610000000000004},{"$f":"1/[2]!CHFJPY*100","v":1.0605578534309046},{"$f":"[2]!EURCHF","v":1.2090000000000001},{"$f":"[2]!GBPCHF","v":1.4907999999999999},{"$f":"[2]!USDCHF","v":0.92190000000000005},{"$f":"[2]!AUDCHF","v":0.97019999999999995},{"$f":"[2]!NZDCHF","v":0.76849999999999996},{"$f":"(0.0001/H31)*10000","v":1.0848928668294004},null,null,"Ask",{"$f":"[2]!AUDJPY/100","v":0.91400000000000003},{"$f":"[2]!CADJPY/100","v":0.88260000000000005},{"$f":"[2]!CHFJPY/100","v":0.94290000000000007},{"$f":"[2]!EURJPY/100","v":1.1396999999999999},{"$f":"[2]!GBPJPY/100","v":1.4052},{"$f":"[2]!NZDJPY/100","v":0.72409999999999997},{"$f":"[2]!USDJPY/100","v":0.86909999999999998},{"$f":"(0.0001/U31)*10000","v":1.1508142010472411}]
[null,null,"Bid",{"$f":"[3]!CADCHF","v":0.93540000000000001},{"$f":"1/[3]!CHFJPY*100","v":1.0611205432937183},{"$f":"[3]!EURCHF","v":1.2085999999999999},{"$f":"[3]!GBPCHF","v":1.4901},{"$f":"[3]!USDCHF","v":0.92159999999999997},{"$f":"[3]!AUDCHF","v":0.96879999999999999},{"$f":"[3]!NZDCHF","v":0.76659999999999995},null,null,null,"Bid",{"$f":"[3]!AUDJPY/100","v":0.91359999999999997},{"$f":"[3]!CADJPY/100","v":0.88170000000000004},{"$f":"[3]!CHFJPY/100","v":0.9423999999999999},{"$f":"[3]!EURJPY/100","v":1.1394},{"$f":"[3]!GBPJPY/100","v":1.4044999999999999},{"$f":"[3]!NZDJPY/100","v":0.72270000000000001},{"$f":"[3]!USDJPY/100","v":0.86879999999999991}]
[null,null,"Priemer",{"$f":"(D29+D30)/2","v":0.93575000000000008},{"$f":"(E29+E30)/2","v":1.0608391983623116},1.2088000000000001,1.4904500000000001,0.92175000000000007,0.96950000000000003,0.76754999999999995,null,null,null,"Priemer",{"$f":"(O29+O30)/2","v":0.91379999999999995},{"$f":"(P29+P30)/2","v":0.88214999999999999},0.94264999999999999,1.1395499999999998,1.4048499999999999,0.72340000000000004,0.86894999999999989]
[null,null,"spread",{"$f":"ABS(D29-D30)*10000","v":7.0000000000003393},{"$f":"ABS(E29-E30)*10000","v":5.6268986281371447},4.0000000000017799,6.9999999999992291,3.0000000000007798,13.999999999999568,19.000000000000128,{"$f":"SUM(D32:J32)","v":59.626898628138967},null,null,"spread",{"$f":"ABS(O29-O30)*10000","v":4.0000000000006697},{"$f":"ABS(P29-P30)*10000","v":9.000000000000119},5.0000000000016698,2.9999999999996696,7.0000000000014495,13.999999999999568,3.0000000000007798,{"$f":"SUM(O32:U32)","v":45.000000000003929}]
[]
[null,null,"NZD","GBPNZD","JPYNZD","USDNZD","EURNZD","CADNZD","CHFNZD","AUDNZD","pv",null,"USD",null,"AUDUSD","GBPUSD","NZDUSD","CADUSD","CHFUSD","JPYUSD","EURUSD","pv"]
[null,null,"Ask",{"$f":"[2]!GBPNZD","v":1.9436},{"$f":"1/[2]!NZDJPY*100","v":1.3810247203424941},{"$f":"1/[2]!NZDUSD","v":1.2007684918347743},{"$f":"[2]!EURNZD","v":1.5763},{"$f":"1/[2]!NZDCAD","v":1.2181751735899622},{"$f":"1/[2]!NZDCHF","v":1.3012361743656475},{"$f":"[2]!AUDNZD","v":1.2646999999999999},{"$f":"(0.0001/F37)*10000","v":0.83264997297784182},null,null,"Ask",{"$f":"[2]!AUDUSD","v":1.0521},{"$f":"[2]!GBPUSD","v":1.6171},{"$f":"[2]!NZDUSD","v":0.83279999999999998},{"$f":"1/[2]!USDCAD","v":1.0149193139145438},{"$f":"1/[2]!USDCHF","v":1.0847163466753444},{"$f":"1/[2]!USDJPY*100","v":1.1506155793349442},{"$f":"[2]!EURUSD","v":1.3118000000000001},1]
[null,null,"Bid",{"$f":"[3]!GBPNZD","v":1.9401999999999999},{"$f":"1/[3]!NZDJPY*100","v":1.3837000138370001},{"$f":"1/[3]!NZDUSD","v":1.2012012012012012},{"$f":"[3]!EURNZD","v":1.5739000000000001},{"$f":"1/[3]!NZDCAD","v":1.2202562538133008},{"$f":"1/[3]!NZDCHF","v":1.3044612575006522},{"$f":"[3]!AUDNZD","v":1.2618},null,null,null,"Bid",{"$f":"[3]!AUDUSD","v":1.0518000000000001},{"$f":"[3]!GBPUSD","v":1.6168},{"$f":"[3]!NZDUSD","v":0.83250000000000002},{"$f":"1/[3]!USDCAD","v":1.015228426395939},{"$f":"1/[3]!USDCHF","v":1.0850694444444444},{"$f":"1/[3]!USDJPY*100","v":1.1510128913443831},{"$f":"[3]!EURUSD","v":1.3115000000000001}]
[null,null,"Priemer",{"$f":"(D35+D36)/2","v":1.9419},{"$f":"(E35+E36)/2","v":1.3823623670897471},{"$f":"(F35+F36)/2","v":1.2009848465179878},1.5750999999999999,1.2192157137016315,1.3028487159331499,1.26325,null,null,null,"Priemer",{"$f":"(O35+O36)/2","v":1.0519500000000002},{"$f":"(P35+P36)/2","v":1.6169500000000001},0.83265,1.0150738701552413,1.0848928955598944,1.1508142353396638,1.3116500000000002]
[null,null,"spread",{"$f":"ABS(D35-D36)*10000","v":34.000000000000696},26.752934945060147,4.3270936642691993,23.999999999999577,20.810802233386383,32.250831350046916,28.999999999999027,{"$f":"SUM(D38:J38)","v":171.14166219276194},null,null,"spread",{"$f":"ABS(O35-O36)*10000","v":2.9999999999996696},2.9999999999996696,2.9999999999996696,3.0911248139520175,3.5309776909997481,3.9731200943893263,2.9999999999996696,{"$f":"SUM(O38:U38)","v":22.59522259933977}]
[]
[]
["Rozdiely",null,"aud","CADAUD","JPYAUD","NZDAUD","USDAUD","EURAUD","GBPAUD","CHFAUD",null,null,null,"cad","AUDCAD","CHFCAD","JPYCAD","EURCAD","GBPCAD","USDCAD","NZDCAD"]
[null,null,{"$f":"(D42+E42+F42+G42+H42+I42+J42)","v":3357.0158898348755},{"$f":"((D3-D19))*10000","v":386.88588894878473},{"$f":"((E3-E19))*10000","v":1590.6858404197033},{"$f":"((F3-F19))*10000","v":112.90011856509685},{"$f":"((G3-G19))*10000","v":331.84457120041367},{"$f":"((H3-H19))*10000","v":262.50000000000108},{"$f":"((I3-I19))*10000","v":471.8},{"$f":"((J3-J19))*10000","v":200.39947070087604},null,null,null,{"$f":"O42+P42+Q42+R42+S42+T42+U42","v":-590.36005925422137},{"$f":"(O3-O19)*10000","v":-208.50000000000034},{"$f":"(P3-P19)*10000","v":-355.61650974728076},{"$f":"(Q3-Q19)*10000","v":1154.0564504930594},{"$f":"(R3-R19)*10000","v":-449.50000000000045},{"$f":"(S3-S19)*10000","v":-302.29999999999978},{"$f":"(T3-T19)*10000","v":-128.49999999999918},{"$f":"(U3-U19)*10000","v":-300.00000000000028}]
[]
[null,null,"eur","AUDEUR","CADEUR","CHFEUR","GBPEUR","JPYEUR","USDEUR","NZDEUR",null,null,null,"gbp","EURGBP","CADGBP","AUDGBP","NZDGBP","CHFGBP","JPYGBP","USDGBP"]
[null,null,{"$f":"D45+E45+F45+G45+H45+I45+J45","v":3628.7613543908269},{"$f":"((D6-D25))*10000","v":496.43069450840181},{"$f":"((E6-E25))*10000","v":430.36050229035226},{"$f":"((F6-F25))*10000","v":54.332665661738218},387.82353206701538,1571.6060521548325,484.01484330302668,204.19306440546015,null,null,null,{"$f":"O45+P45+Q45+R45+S45+T45+U45","v":870.48588925908439},{"$f":"(O6-O25)*10000","v":-89.500000000000142},{"$f":"(P6-P25)*10000","v":-17.647536666639539},-204.70212936534281,-254.59970328292448,-95.383442211305351,1210.8018858297464,321.51681495555027]
[]
[null,null,"chf","CADCHF","JPYCHF","EURCHF","GBPCHF","USDCHF","AUDCHF","NZDCHF",null,null,null,"jpy","AUDJPY","CADJPY","CHFJPY","EURJPY","GBPJPY","NZDJPY","USDJPY"]
[null,null,{"$f":"D48+E48+F48+G48+H48+I48+J48","v":4124.6080163768811},{"$f":"(D9-D31)*10000","v":382.49999999999898},{"$f":"(E9-E31)*10000","v":2203.6080163768834},-78.000000000000284,350.50000000000023,550.49999999999932,585.99999999999989,129.50000000000017,null,null,null,{"$f":"O48+P48+Q48+R48+S48+T48+U48","v":-3931.5999999999954},{"$f":"(O9-O31)*10000","v":-443.99999999999994},{"$f":"(P9-P31)*10000","v":-501.50000000000028},-606.49999999999977,-742.59999999999775,-809.49999999999852,-373.99999999999989,-453.49999999999892,null,{"$f":"-1","v":-1}]
[null,null,null,null,null,null,null,null,null,null,null,null,null,null,null,null,null,null,null,null,null,null,1]
[null,null,"nzd","GBPNZD","JPYNZD","USDNZD","EURNZD","CADNZD","CHFNZD","AUDNZD",null,null,null,"usd","AUDUSD","GBPUSD","NZDUSD","CADUSD","CHFUSD","JPYUSD","EURUSD"]
[null,null,{"$f":"D51+E51+F51+G51+H51+I51+J51","v":4116.4835675748373},{"$f":"(D12-D37)*10000","v":493.09999999999962},2193.3763291025275,530.15153482012249,-20.000000000000018,589.84286298368488,127.51284066850221,202.50000000000102,null,null,null,{"$f":"O51+P51+Q51+R51+S51+T51+U51","v":1662.1899894520043},{"$f":"(O12-O37)*10000","v":56.499999999999332},54.499999999999545,15.500000000000513,209.26129844758722,-68.928955598943631,1372.8576466033626,22.499999999998632]
[]
[]
[]
[]
[null,null,null,null,null,null,null,null,null,null,null,null,null,null,null,null,null,null,null,null,null,{"$f":"SUM(#REF!)","v":{"$error":"#REF!"}}]