{"text_format":"1","workbook":"xlsx","n_sheets":4,"sheets":["+NZD","List1","28 párový prehľad","Poriadok"],"not_rendered":{"charts":5,"images":1,"macros":1,"external_links":4,"defined_names":4,"comments":1,"pivot_tables":0},"unopened":[],"bounds":{"document_bytes":16777216,"sheet_cells":100000,"rows_first":2000,"rows_last":500,"rows_between":2000,"halvings":0,"cell_chars":16384,"cell_head_chars":4096},"cells_cut":0,"cells_raw":0,"read":"whole","date_system":"1900"}

{"sheet":"+NZD","index":0,"n_rows":53,"n_cols":36,"rows_kept":53,"cut":false,"hidden":false,"merged":[[16,0,17,1]]}
[]
[null,null,null,null,null,null,null,null,null,null,null,null,null,null,null,null,null,null,null,null,null,null,null,null,null,null,null,null,null,null,null,null,null,"Pair","BUY","SELL"]
[null,"AUDCAD","AUDJPY","AUDNZD","AUDUSD","CADCHF","CADJPY","CHFJPY","EURAUD","EURCAD","EURCHF","EURGBP","EURJPY","GBPCAD","GBPAUD","GBPNZD","GBPCHF","GBPJPY","GBPUSD","NZDJPY","NZDUSD","USDCAD","USDCHF","USDJPY","AUDCHF","EURUSD","EURNZD","NZDCAD","NZDCHF",null,null,null,null,"AUDCAD",{"$f":"HLOOKUP(LEFT(AH3,3),$C$17:$J$18,2,FALSE)","v":5.1428571428571432},{"$f":"HLOOKUP(RIGHT(AH3,3),$C$17:$J$18,2,FALSE)","v":3.8571428571428572}]
["High",{"$f":"[1]!AUDCAD","v":1.0353699999999999},{"$f":"[1]!AUDJPY","v":92.468000000000004},{"$f":"[1]!AUDNZD","v":1.2680199999999999},{"$f":"[1]!AUDUSD","v":1.04864},{"$f":"[1]!CADCHF","v":0.94118999999999997},{"$f":"[1]!CADJPY","v":89.629000000000005},{"$f":"[1]!CHFJPY","v":95.495999999999995},{"$f":"[1]!EURAUD","v":1.25152},{"$f":"[1]!EURCAD","v":1.2916000000000001},{"$f":"[1]!EURCHF","v":1.2093400000000001},{"$f":"[1]!EURGBP","v":0.81425999999999998},{"$f":"[1]!EURJPY","v":115.398},{"$f":"[1]!GBPCAD","v":1.59135},{"$f":"[1]!GBPAUD","v":1.5412999999999999},{"$f":"[1]!GBPNZD","v":1.95383},{"$f":"[1]!GBPCHF","v":1.4926600000000001},{"$f":"[1]!GBPJPY","v":141.80500000000001},{"$f":"[1]!GBPUSD","v":1.60877},{"$f":"[1]!NZDJPY","v":73.372},{"$f":"[1]!NZDUSD","v":0.83225000000000005},{"$f":"[1]!USDCAD","v":0.99222999999999995},{"$f":"[1]!USDCHF","v":0.93023},{"$f":"[1]!USDJPY","v":88.4},{"$f":"[1]!AUDCHF","v":0.97087000000000001},{"$f":"[1]!EURUSD","v":1.3088599999999999},{"$f":"[1]!EURNZD","v":1.58406},{"$f":"[1]!NZDCAD","v":0.82167000000000001},{"$f":"[1]!NZDCHF","v":0.76902000000000004},null,null,null,null,"AUDJPY",{"$f":"HLOOKUP(LEFT(AH4,3),$C$17:$J$18,2,FALSE)","v":5.1428571428571432},{"$f":"HLOOKUP(RIGHT(AH4,3),$C$17:$J$18,2,FALSE)","v":2}]
["Ask",{"$f":"[2]!AUDCAD","v":1.03508},{"$f":"[2]!AUDJPY","v":92.444000000000003},{"$f":"[2]!AUDNZD","v":1.26004},{"$f":"[2]!AUDUSD","v":1.0481100000000001},{"$f":"[2]!CADCHF","v":0.93667999999999996},{"$f":"[2]!CADJPY","v":89.290999999999997},{"$f":"[2]!CHFJPY","v":95.405000000000001},{"$f":"[2]!EURAUD","v":1.2477},{"$f":"[2]!EURCAD","v":1.2909900000000001},{"$f":"[2]!EURCHF","v":1.2086600000000001},{"$f":"[2]!EURGBP","v":0.81344000000000005},{"$f":"[2]!EURJPY","v":115.271},{"$f":"[2]!GBPCAD","v":1.58724},{"$f":"[2]!GBPAUD","v":1.5340499999999999},{"$f":"[2]!GBPNZD","v":1.93255},{"$f":"[2]!GBPCHF","v":1.48647},{"$f":"[2]!GBPJPY","v":141.76400000000001},{"$f":"[2]!GBPUSD","v":1.60704},{"$f":"[2]!NZDJPY","v":73.391999999999996},{"$f":"[2]!NZDUSD","v":0.83211000000000002},{"$f":"[2]!USDCAD","v":0.98778999999999995},{"$f":"[2]!USDCHF","v":0.92532000000000003},{"$f":"[2]!USDJPY","v":88.179000000000002},{"$f":"[2]!AUDCHF","v":0.96989999999999998},{"$f":"[2]!EURUSD","v":1.3070900000000001},{"$f":"[2]!EURNZD","v":1.5719399999999999},{"$f":"[2]!NZDCAD","v":0.82186000000000003},{"$f":"[2]!NZDCHF","v":0.76951000000000003},null,0,0,null,"AUDNZD",5.1428571428571432,6.7142857142857144]
["Bid",{"$f":"[3]!AUDCAD","v":1.0344500000000001},{"$f":"[3]!AUDJPY","v":92.341999999999999},{"$f":"[3]!AUDNZD","v":1.25945},{"$f":"[3]!AUDUSD","v":1.04772},{"$f":"[3]!CADCHF","v":0.93572999999999995},{"$f":"[3]!CADJPY","v":89.244},{"$f":"[3]!CHFJPY","v":95.284000000000006},{"$f":"[3]!EURAUD","v":1.24641},{"$f":"[3]!EURCAD","v":1.2904},{"$f":"[3]!EURCHF","v":1.20825},{"$f":"[3]!EURGBP","v":0.81306999999999996},{"$f":"[3]!EURJPY","v":115.154},{"$f":"[3]!GBPCAD","v":1.5865100000000001},{"$f":"[3]!GBPAUD","v":1.5326900000000001},{"$f":"[3]!GBPNZD","v":1.9303699999999999},{"$f":"[3]!GBPCHF","v":1.4850000000000001},{"$f":"[3]!GBPJPY","v":141.619},{"$f":"[3]!GBPUSD","v":1.60663},{"$f":"[3]!NZDJPY","v":73.28},{"$f":"[3]!NZDUSD","v":0.83160000000000001},{"$f":"[3]!USDCAD","v":0.98736000000000002},{"$f":"[3]!USDCHF","v":0.92422000000000004},{"$f":"[3]!USDJPY","v":88.144000000000005},{"$f":"[3]!AUDCHF","v":0.96828999999999998},{"$f":"[3]!EURUSD","v":1.3066800000000001},{"$f":"[3]!EURNZD","v":1.57039},{"$f":"[3]!NZDCAD","v":0.82108000000000003},{"$f":"[3]!NZDCHF","v":0.76866999999999996},null,3,1,null,"AUDUSD",5.1428571428571432,2.7142857142857144]
["Low",{"$f":"[4]!AUDCAD","v":1.0285200000000001},{"$f":"[4]!AUDJPY","v":91.442999999999998},{"$f":"[4]!AUDNZD","v":1.2588699999999999},{"$f":"[4]!AUDUSD","v":1.0393600000000001},{"$f":"[4]!CADCHF","v":0.93525999999999998},{"$f":"[4]!CADJPY","v":88.578000000000003},{"$f":"[4]!CHFJPY","v":94.344999999999999},{"$f":"[4]!EURAUD","v":1.2452300000000001},{"$f":"[4]!EURCAD","v":1.2845299999999999},{"$f":"[4]!EURCHF","v":1.2081299999999999},{"$f":"[4]!EURGBP","v":0.80961000000000005},{"$f":"[4]!EURJPY","v":114.09399999999999},{"$f":"[4]!GBPCAD","v":1.5799099999999999},{"$f":"[4]!GBPAUD","v":1.5323100000000001},{"$f":"[4]!GBPNZD","v":1.92997},{"$f":"[4]!GBPCHF","v":1.4836499999999999},{"$f":"[4]!GBPJPY","v":140.51400000000001},{"$f":"[4]!GBPUSD","v":1.6008100000000001},{"$f":"[4]!NZDJPY","v":72.131},{"$f":"[4]!NZDUSD","v":0.82125000000000004},{"$f":"[4]!USDCAD","v":0.98472000000000004},{"$f":"[4]!USDCHF","v":0.92303000000000002},{"$f":"[4]!USDJPY","v":87.551000000000002},{"$f":"[4]!AUDCHF","v":0.96594000000000002},{"$f":"[4]!EURUSD","v":1.2996300000000001},{"$f":"[4]!EURNZD","v":1.5700799999999999},{"$f":"[4]!NZDCAD","v":0.81230000000000002},{"$f":"[4]!NZDCHF","v":0.76310999999999996},null,10,2,null,"CADCHF",3.8571428571428572,7.1428571428571432]
[null,null,null,null,null,null,null,null,null,null,null,null,null,null,null,null,null,null,null,null,null,null,null,null,null,null,null,null,null,null,25,3,null,"CADJPY",3.8571428571428572,2]
["PIP Range",{"$f":"($B4:$AC4-$B7:$AC7)*100000","v":684.9999999999801},{"$f":"($B4:$AC4-$B7:$AC7)*1000","v":1025.0000000000057},{"$f":"($B4:$AC4-$B7:$AC7)*100000","v":914.99999999999909},927.99999999999545,592.99999999999909,{"$f":"($B4:$AC4-$B7:$AC7)*1000","v":1051.0000000000018},{"$f":"($B4:$AC4-$B7:$AC7)*1000","v":1150.9999999999964},{"$f":"($B4:$AC4-$B7:$AC7)*100000","v":628.99999999999068},707.00000000001319,121.00000000001555,464.99999999999318,{"$f":"($B4:$AC4-$B7:$AC7)*1000","v":1304.000000000002},1144.0000000000116,898.99999999998317,2385.9999999999991,901.00000000001842,{"$f":"($B4:$AC4-$B7:$AC7)*1000","v":1290.9999999999968},795.9999999999967,{"$f":"($B4:$AC4-$B7:$AC7)*1000","v":1240.9999999999995},1100.0000000000009,750.99999999999056,719.99999999999841,{"$f":"($B4:$AC4-$B7:$AC7)*1000","v":849.00000000000375},492.99999999999898,922.99999999998499,1398.0000000000105,936.99999999999898,{"$f":"($B4:$AC4-$B7:$AC7)*100000","v":591.00000000000819},null,40,4,null,"CHFJPY",7.1428571428571432,2]
["Bid Ratio",{"$f":"($B6:$AC6-$B7:$AC7)/$B22:$AC22*100000","v":0.45741772196864083},{"$f":"($B6:$AC6-$B7:$AC7)/$B22:$AC22*1000","v":0.85711809317444598},{"$f":"($B6:$AC6-$B7:$AC7)/$B22:$AC22*100000","v":3.960796534336368E-2},0.72553860362681011,4.8462135878434703E-2,{"$f":"($B6:$AC6-$B7:$AC7)/$B22:$AC22*1000","v":0.6727069605527316},{"$f":"($B6:$AC6-$B7:$AC7)/$B22:$AC22*1000","v":0.80352769834646609},0.13146972630232606,0.66051752449814494,1.320152486628084E-2,0.30084697569804625,{"$f":"($B6:$AC6-$B7:$AC7)/$B22:$AC22*1000","v":1.3906346020638589},0.77979326146034489,2.0551916335802844E-2,6.1061819731867112E-2,0.19431836346524148,{"$f":"($B6:$AC6-$B7:$AC7)/$B22:$AC22*1000","v":1.7292426691295437},0.64182919366480096,{"$f":"($B6:$AC6-$B7:$AC7)/$B22:$AC22*1000","v":0.8586429675150673},0.70522642907774324,0.15843418645542978,0.10033857391742777,{"$f":"($B6:$AC6-$B7:$AC7)/$B22:$AC22*1000","v":0.4744273839759976},0.24602350431835557,0.76381365113760735,3.9524520734407771E-2,0.60136889201771337,0.45401404414104385,null,50,5,null,"EURAUD",4,5.1428571428571432]
[null,null,null,null,null,null,null,null,null,null,null,null,null,null,null,null,null,null,null,null,null,null,null,null,null,null,null,null,null,null,60,6,null,"EURCAD",4,3.8571428571428572]
["Relative",{"$f":"LEFT(B3,3)","v":"AUD"},{"$f":"LEFT(C3,3)","v":"AUD"},"AUD","AUD",{"$f":"LEFT(F3,3)","v":"CAD"},"CAD","CHF","EUR","EUR","EUR","EUR","EUR","GBP","GBP","GBP","GBP","GBP","GBP","NZD","NZD","USD","USD","USD",{"$f":"LEFT(Y3,3)","v":"AUD"},{"$f":"LEFT(Z3,3)","v":"EUR"},{"$f":"LEFT(AA3,3)","v":"EUR"},{"$f":"LEFT(AB3,3)","v":"NZD"},{"$f":"LEFT(AC3,3)","v":"NZD"},null,75,7,null,"EURCHF",4,7.1428571428571432]
["Strength",{"$f":"LOOKUP(100*B10,$AE5:$AE14,$AF5:$AF14)","v":4},{"$f":"LOOKUP(100*C10,$AE5:$AE14,$AF5:$AF14)","v":7},1,6,{"$f":"LOOKUP(100*F10,$AE5:$AE14,$AF5:$AF14)","v":1},6,7,2,6,0,3,9,7,0,1,2,9,6,7,6,2,2,4,{"$f":"LOOKUP(100*Y10,$AE5:$AE14,$AF5:$AF14)","v":2},{"$f":"LOOKUP(100*Z10,$AE5:$AE14,$AF5:$AF14)","v":7},{"$f":"LOOKUP(100*AA10,$AE5:$AE14,$AF5:$AF14)","v":1},{"$f":"LOOKUP(100*AB10,$AE5:$AE14,$AF5:$AF14)","v":6},{"$f":"LOOKUP(100*AC10,$AE5:$AE14,$AF5:$AF14)","v":4},null,90,8,null,"EURGBP",4,4.4285714285714288]
[null,{"$f":"RIGHT(B3,3)","v":"CAD"},{"$f":"RIGHT(C3,3)","v":"JPY"},"NZD","USD",{"$f":"RIGHT(F3,3)","v":"CHF"},"JPY","JPY","AUD","CAD","CHF","GBP","JPY","CAD","AUD","NZD","CHF","JPY","USD","JPY","USD","CAD","CHF","JPY",{"$f":"RIGHT(Y3,3)","v":"CHF"},{"$f":"RIGHT(Z3,3)","v":"USD"},{"$f":"RIGHT(AA3,3)","v":"NZD"},{"$f":"RIGHT(AB3,3)","v":"CAD"},{"$f":"RIGHT(AC3,3)","v":"CHF"},null,97,9,null,"EURJPY",4,2]
[null,{"$f":"9-B13","v":5},{"$f":"9-C13","v":2},8,3,{"$f":"9-F13","v":8},3,2,7,3,9,6,0,2,9,8,7,0,3,2,3,7,7,5,{"$f":"9-Y13","v":7},{"$f":"9-Z13","v":2},{"$f":"9-AA13","v":8},{"$f":"9-AB13","v":3},{"$f":"9-AC13","v":5},null,null,null,null,"GBPCAD",4.4285714285714288,3.8571428571428572]
[null,null,null,null,null,null,null,null,null,null,null,null,null,null,null,null,null,null,null,null,null,null,null,null,null,null,null,null,null,null,null,null,null,"GBPAUD",4.4285714285714288,5.1428571428571432]
["Total Strength",null,"USD","EUR","GBP","CHF","NZD","AUD","JPY","CAD",null,"Strong",null,null,null,null,null,null,null,null,null,null,null,null,null,null,null,null,null,null,null,null,null,"GBPCAD",4.4285714285714288,3.8571428571428572]
[null,null,{"$f":"(V13+W13+X13+E15+S15+U15+Z15)/C19","v":2.7142857142857144},{"$f":"(I13+J13+K13+L13+M13+Z13+AA13)/D19","v":4},{"$f":"(N13+O13+P13+Q13+R13+S13+L15)/E19","v":4.4285714285714288},{"$f":"(F15+H13+K15+Q15+W15+Y15+AC15)/F19","v":7.1428571428571432},{"$f":"(T13+U13+D15+P15+AA15+AB13+AC13)/G19","v":6.7142857142857144},{"$f":"(B13+C13+D13+E13+I15+O15+Y13)/H19","v":5.1428571428571432},{"$f":"(C15+G15+H15+M15+R15+T15+X15)/I19","v":2},{"$f":"(F13+G13+B15+J15+N15+V15+AB15)/J19","v":3.8571428571428572},null,"Rising",null,null,null,null,null,null,null,null,null,null,null,null,null,null,null,null,null,null,null,null,null,"GBPCHF",4.4285714285714288,7.1428571428571432]
[null,"# of evaluation points",{"$f":"COUNTIF($B$12:$AC$15,\"=USD\")","v":7},{"$f":"COUNTIF($B$12:$AC$15,\"=EUR\")","v":7},{"$f":"COUNTIF($B$12:$AC$15,\"=GBP\")","v":7},{"$f":"COUNTIF($B$12:$AC$15,\"=CHF\")","v":7},{"$f":"COUNTIF($B$12:$AC$15,\"=NZD\")","v":7},{"$f":"COUNTIF($B$12:$AC$15,\"=AUD\")","v":7},{"$f":"COUNTIF($B$12:$AC$15,\"=JPY\")","v":7},{"$f":"COUNTIF($B$12:$AC$15,\"=CAD\")","v":7},null,"Neutral",null,null,null,null,null,null,null,null,null,null,null,null,null,null,null,null,null,null,null,null,null,"GBPJPY",4.4285714285714288,2]
[null,null,null,null,null,null,null,null,null,null,null,"Weak",null,null,null,null,null,null,null,null,null,null,null,null,null,"eurusd",null,null,null,null,null,null,null,"GBPUSD",4.4285714285714288,2.7142857142857144]
[null,{"$f":"B9*C41*F41","v":65449.009999998096},{"$f":"C9*C46*F46","v":121048.40000000066},{"$f":"D9*C52*F52","v":77398.019999999917},{"$f":"E9*C42*F42","v":99759.999999999505},{"$f":"F9*C39*F39","v":75737.959999999875},{"$f":"G9*C40*F40","v":131494.81400000025},{"$f":"H9*C35*F35","v":122001.3959999996},{"$f":"I9*C43*F43","v":86805.773999998724},{"$f":"J9*C37*F37","v":98541.660000001837},{"$f":"K9*C31*F31","v":16488.54900000212},{"$f":"L9*C30*F30","v":50081.429999999265},{"$f":"M9*C32*F32","v":211903.91200000036},{"$f":"N9*C38*F38","v":167423.25600000171},{"$f":"O9*C44*F44","v":60225.807999998877},{"$f":"P9*C49*F49","v":451163.96799999988},{"$f":"Q9*C33*F33","v":160641.99300000328},{"$f":"R9*C34*F34","v":250250.02199999939},{"$f":"S9*C27*F27","v":108733.59999999954},{"$f":"T9*C51*F51","v":114873.16499999996},{"$f":"U9*C48*F48","v":92840.000000000087},{"$f":"V9*C36*F36","v":55826.33599999929},{"$f":"(W9*C28*F28)","v":75198.239999999831},{"$f":"(X9*C29*F29)","v":84135.051000000371},{"$f":"(Y9*C45*F45)","v":63930.760999999868},{"$f":"(Z9*C26*F26)","v":123866.59999999797},{"$f":"(AA9*C47*F47)","v":220783.34400000167},{"$f":"(AB9*C53*F53)","v":79495.079999999914},{"$f":"(AC9*C50*F50)","v":59777.28600000083},null,null,null,null,"NZDJPY",6.7142857142857144,2]
[null,{"$f":"(Z21/$B21:$AC21)*$B9:$AC9","v":1296.4080128942915},{"$f":"(Z21/$B21:$AC21)*$B9:$AC9","v":1048.8636363636194},{"$f":"(Z21/$B21:$AC21)*$B9:$AC9","v":1464.3519175296492},{"$f":"(Z21/$B21:$AC21)*$B9:$AC9","v":1152.2474418604463},{"$f":"(Z21/$B21:$AC21)*$B9:$AC9","v":969.82931412463176},{"$f":"(Z21/$B21:$AC21)*$B9:$AC9","v":990.02989273780679},{"$f":"(Z21/$B21:$AC21)*$B9:$AC9","v":1168.5969281859502},{"$f":"(Z21/$B21:$AC21)*$B9:$AC9","v":897.54503427385737},{"$f":"(Z21/$B21:$AC21)*$B9:$AC9","v":888.69708709999975},{"$f":"(Z21/$B21:$AC21)*$B9:$AC9","v":908.98590288325272},{"$f":"(Z21/$B21:$AC21)*$B9:$AC9","v":1150.0863493713948},{"$f":"(Z21/$B21:$AC21)*$B9:$AC9","v":762.24192784131958},{"$f":"(Z21/$B21:$AC21)*$B9:$AC9","v":846.37817819047598},{"$f":"(Z21/$B21:$AC21)*$B9:$AC9","v":1848.9759971339556},{"$f":"(Z21/$B21:$AC21)*$B9:$AC9","v":655.07382805888244},{"$f":"(Z21/$B21:$AC21)*$B9:$AC9","v":694.73619267160223},{"$f":"(Z21/$B21:$AC21)*$B9:$AC9","v":639.0080581091712},{"$f":"(Z21/$B21:$AC21)*$B9:$AC9","v":906.78330893117106},{"$f":"(Z21/$B21:$AC21)*$B9:$AC9","v":1338.1580510992055},{"$f":"(Z21/$B21:$AC21)*$B9:$AC9","v":1467.6137440758052},{"$f":"(Z21/$B21:$AC21)*$B9:$AC9","v":1666.3070383124998},{"$f":"(Z21/$B21:$AC21)*$B9:$AC9","v":1185.9845655961967},{"$f":"(Z21/$B21:$AC21)*$B9:$AC9","v":1249.9278499278296},{"$f":"(Z21/$B21:$AC21)*$B9:$AC9","v":955.19328793847774},{"$f":"(Z21/$B21:$AC21)*$B9:$AC9","v":922.99999999998499},{"$f":"(Z21/$B21:$AC21)*$B9:$AC9","v":784.32323590495639},{"$f":"(Z21/$B21:$AC21)*$B9:$AC9","v":1460.0023573785711},{"$f":"(Z21/$B21:$AC21)*$B9:$AC9","v":1224.6317204832417}]
[]
[null,null,null,null,null,null,null,null,null,null,null,null,null,null,null,null,null,null,null,null,null,null,null,null,null,null,null,null,null,null,null,null,null,"NZDUSD",6.7142857142857144,2.7142857142857144]
[null,null,"pips","$","%","pip value",null,null,null,null,null,null,null,null,null,null,null,null,null,null,null,null,null,null,null,null,null,null,null,null,null,null,null,"USDCAD",2.7142857142857144,3.8571428571428572]
[null,"EURUSD",134.19999999999999,"1,342.0",0.95,1,null,null,null,null,null,null,null,null,null,null,null,null,null,null,null,null,null,null,null,null,null,null,null,null,null,null,null,"USDCHF",2.7142857142857144,7.1428571428571432]
[null,"GBPUSD",136.6,"1,366.2",0.84,1,null,null,null,null,null,null,null,null,null,null,null,null,null,null,null,null,null,null,null,null,null,null,null,null,null,null,null,"USDJPY",2.7142857142857144,2]
[null,"USDCHF",101.4,"1,125.8",1.1200000000000001,1.03]
[null,"USDJPY",81.900000000000006,"1,016.3",1.01,1.21]
[null,"EURGBP",68.599999999999994,"1,113.5",0.79,1.57]
[null,"EURCHF",132.30000000000001,"1,469.1",1.03,1.03]
[null,"EURJPY",134.30000000000001,"1,666.7",1.17,1.21]
[null,"GBPCHF",173.1,"1,921.8",1.18,1.03]
[null,"GBPJPY",160.19999999999999,"1,987.3",1.21,1.21]
[null,"CHFJPY",87.6,"1,087.0",0.98,1.21]
[null,"USDCAD",73.599999999999994,748,0.75,1.01]
[null,"EURCAD",138,"1,402.6",1,1.01]
[null,"GBPCAD",144.9,"1,472.3",0.91,1.01]
[null,"CADCHF",124,"1,376.3",1.34,1.03]
[null,"CADJPY",103.4,"1,282.5",1.25,1.21]
[null,"AUDCAD",94.6,961.9,0.96,1.01]
[null,"AUDUSD",107.5,"1,074.8",1.07,1]
[null,"EURAUD",139.4,"1,388.0",0.99,0.99]
[null,"AUDGBP",63.2,"1,025.9",1.02,1.06]
[null,"AUDCHF",125.9,"1,398.0",1.38,1.03]
[null,"AUDJPY",97.6,"1,211.3",1.2,1.21]
[null,"EURNZD",207.8,"1,517.4",1.08,0.76]
[null,"NZDUSD",84.4,844.2,1.1499999999999999,1]
[null,"GBPNZD",248.8,"1,816.6",1.1299999999999999,0.76]
[null,"NZDCHF",98.2,"1,090.5",1.48,1.03]
[null,"NZDJPY",76.5,949.2,1.28,1.21]
[null,"AUDNZD",111.3,812.5,0.81,0.76]
[null,"NZDCAD",84,853.5,1.17,1.01]

{"sheet":"List1","index":1,"n_rows":0,"n_cols":0,"rows_kept":0,"cut":false,"hidden":true,"merged":[]}

{"sheet":"28 párový prehľad","index":2,"n_rows":66,"n_cols":30,"rows_kept":66,"cut":false,"hidden":false,"merged":[]}
[]
[]
[]
[null,null,"AUDCAD","AUDJPY","AUDNZD","AUDUSD","CADCHF","CADJPY","CHFJPY","EURAUD","EURCAD","EURCHF","EURGBP","EURJPY","GBPCAD","GBPAUD","GBPNZD","GBPCHF","GBPJPY","GBPUSD","NZDJPY","NZDUSD","USDCAD","USDCHF","USDJPY","AUDCHF","EURUSD","EURNZD","NZDCAD","NZDCHF"]
[null,"High",{"$f":"[1]!AUDCAD","v":1.0353699999999999},{"$f":"[1]!AUDJPY","v":92.468000000000004},{"$f":"[1]!AUDNZD","v":1.2680199999999999},{"$f":"[1]!AUDUSD","v":1.04864},{"$f":"[1]!CADCHF","v":0.94118999999999997},{"$f":"[1]!CADJPY","v":89.629000000000005},{"$f":"[1]!CHFJPY","v":95.495999999999995},{"$f":"[1]!EURAUD","v":1.25152},{"$f":"[1]!EURCAD","v":1.2916000000000001},{"$f":"[1]!EURCHF","v":1.2093400000000001},{"$f":"[1]!EURGBP","v":0.81425999999999998},{"$f":"[1]!EURJPY","v":115.398},{"$f":"[1]!GBPCAD","v":1.59135},{"$f":"[1]!GBPAUD","v":1.5412999999999999},{"$f":"[1]!GBPNZD","v":1.95383},{"$f":"[1]!GBPCHF","v":1.4926600000000001},{"$f":"[1]!GBPJPY","v":141.80500000000001},{"$f":"[1]!GBPUSD","v":1.60877},{"$f":"[1]!NZDJPY","v":73.372},{"$f":"[1]!NZDUSD","v":0.83225000000000005},{"$f":"[1]!USDCAD","v":0.99222999999999995},{"$f":"[1]!USDCHF","v":0.93023},{"$f":"[1]!USDJPY","v":88.4},{"$f":"[1]!AUDCHF","v":0.97087000000000001},{"$f":"[1]!EURUSD","v":1.3088599999999999},{"$f":"[1]!EURNZD","v":1.58406},{"$f":"[1]!NZDCAD","v":0.82167000000000001},{"$f":"[1]!NZDCHF","v":0.76902000000000004}]
[null,"Ask",{"$f":"[2]!AUDCAD","v":1.03508},{"$f":"[2]!AUDJPY","v":92.444000000000003},{"$f":"[2]!AUDNZD","v":1.26004},{"$f":"[2]!AUDUSD","v":1.0481100000000001},{"$f":"[2]!CADCHF","v":0.93667999999999996},{"$f":"[2]!CADJPY","v":89.290999999999997},{"$f":"[2]!CHFJPY","v":95.405000000000001},{"$f":"[2]!EURAUD","v":1.2477},{"$f":"[2]!EURCAD","v":1.2909900000000001},{"$f":"[2]!EURCHF","v":1.2086600000000001},{"$f":"[2]!EURGBP","v":0.81344000000000005},{"$f":"[2]!EURJPY","v":115.271},{"$f":"[2]!GBPCAD","v":1.58724},{"$f":"[2]!GBPAUD","v":1.5340499999999999},{"$f":"[2]!GBPNZD","v":1.93255},{"$f":"[2]!GBPCHF","v":1.48647},{"$f":"[2]!GBPJPY","v":141.76400000000001},{"$f":"[2]!GBPUSD","v":1.60704},{"$f":"[2]!NZDJPY","v":73.391999999999996},{"$f":"[2]!NZDUSD","v":0.83211000000000002},{"$f":"[2]!USDCAD","v":0.98778999999999995},{"$f":"[2]!USDCHF","v":0.92532000000000003},{"$f":"[2]!USDJPY","v":88.179000000000002},{"$f":"[2]!AUDCHF","v":0.96989999999999998},{"$f":"[2]!EURUSD","v":1.3070900000000001},{"$f":"[2]!EURNZD","v":1.5719399999999999},{"$f":"[2]!NZDCAD","v":0.82186000000000003},{"$f":"[2]!NZDCHF","v":0.76951000000000003}]
[null,"Bid",{"$f":"[3]!AUDCAD","v":1.0344500000000001},{"$f":"[3]!AUDJPY","v":92.341999999999999},{"$f":"[3]!AUDNZD","v":1.25945},{"$f":"[3]!AUDUSD","v":1.04772},{"$f":"[3]!CADCHF","v":0.93572999999999995},{"$f":"[3]!CADJPY","v":89.244},{"$f":"[3]!CHFJPY","v":95.284000000000006},{"$f":"[3]!EURAUD","v":1.24641},{"$f":"[3]!EURCAD","v":1.2904},{"$f":"[3]!EURCHF","v":1.20825},{"$f":"[3]!EURGBP","v":0.81306999999999996},{"$f":"[3]!EURJPY","v":115.154},{"$f":"[3]!GBPCAD","v":1.5865100000000001},{"$f":"[3]!GBPAUD","v":1.5326900000000001},{"$f":"[3]!GBPNZD","v":1.9303699999999999},{"$f":"[3]!GBPCHF","v":1.4850000000000001},{"$f":"[3]!GBPJPY","v":141.619},{"$f":"[3]!GBPUSD","v":1.60663},{"$f":"[3]!NZDJPY","v":73.28},{"$f":"[3]!NZDUSD","v":0.83160000000000001},{"$f":"[3]!USDCAD","v":0.98736000000000002},{"$f":"[3]!USDCHF","v":0.92422000000000004},{"$f":"[3]!USDJPY","v":88.144000000000005},{"$f":"[3]!AUDCHF","v":0.96828999999999998},{"$f":"[3]!EURUSD","v":1.3066800000000001},{"$f":"[3]!EURNZD","v":1.57039},{"$f":"[3]!NZDCAD","v":0.82108000000000003},{"$f":"[3]!NZDCHF","v":0.76866999999999996}]
[null,"Low",{"$f":"[4]!AUDCAD","v":1.0285200000000001},{"$f":"[4]!AUDJPY","v":91.442999999999998},{"$f":"[4]!AUDNZD","v":1.2588699999999999},{"$f":"[4]!AUDUSD","v":1.0393600000000001},{"$f":"[4]!CADCHF","v":0.93525999999999998},{"$f":"[4]!CADJPY","v":88.578000000000003},{"$f":"[4]!CHFJPY","v":94.344999999999999},{"$f":"[4]!EURAUD","v":1.2452300000000001},{"$f":"[4]!EURCAD","v":1.2845299999999999},{"$f":"[4]!EURCHF","v":1.2081299999999999},{"$f":"[4]!EURGBP","v":0.80961000000000005},{"$f":"[4]!EURJPY","v":114.09399999999999},{"$f":"[4]!GBPCAD","v":1.5799099999999999},{"$f":"[4]!GBPAUD","v":1.5323100000000001},{"$f":"[4]!GBPNZD","v":1.92997},{"$f":"[4]!GBPCHF","v":1.4836499999999999},{"$f":"[4]!GBPJPY","v":140.51400000000001},{"$f":"[4]!GBPUSD","v":1.6008100000000001},{"$f":"[4]!NZDJPY","v":72.131},{"$f":"[4]!NZDUSD","v":0.82125000000000004},{"$f":"[4]!USDCAD","v":0.98472000000000004},{"$f":"[4]!USDCHF","v":0.92303000000000002},{"$f":"[4]!USDJPY","v":87.551000000000002},{"$f":"[4]!AUDCHF","v":0.96594000000000002},{"$f":"[4]!EURUSD","v":1.2996300000000001},{"$f":"[4]!EURNZD","v":1.5700799999999999},{"$f":"[4]!NZDCAD","v":0.81230000000000002},{"$f":"[4]!NZDCHF","v":0.76310999999999996}]
[]
["12w","Volatilita",69.7,85.5,71.5,108.8,76.8,69,88,104.8,98.7,40.700000000000003,58.7,105.5,114,132.80000000000001,181.3,111.9,104.3,116.4,68,86.1,76.599999999999994,93.3,45.9,85.7,127,152.19999999999999,61.5,71.400000000000006]
[null,"Dnes",{"$f":"(C5-C8)*10000","v":68.49999999999801},{"$f":"(D5-D8)*100","v":102.50000000000057},{"$f":"(E5-E8)*10000","v":91.499999999999915},92.799999999999557,59.299999999999912,{"$f":"(H5-H8)*100","v":105.10000000000019},{"$f":"(I5-I8)*100","v":115.09999999999962},62.899999999999068,70.700000000001324,12.100000000001554,46.499999999999318,{"$f":"(N5-N8)*100","v":130.4000000000002},114.40000000000117,89.899999999998315,238.59999999999991,90.100000000001842,{"$f":"(S5-S8)*100","v":129.09999999999968},79.599999999999667,{"$f":"(U5-U8)*100","v":124.09999999999997},110.0000000000001,75.099999999999056,71.999999999999844,{"$f":"(Y5-Y8)*100","v":84.900000000000375},49.299999999999898,92.299999999998491,139.80000000000103,93.699999999999889,59.100000000000819]
[null,null,{"$f":"1/(C10/C11)","v":0.98278335724530852},{"$f":"1/(D10/D11)","v":1.1988304093567317},1.2797202797202785,0.85294117647058409,0.77213541666666552,1.5231884057971044,1.3079545454545412,0.60019083969464759,0.71631205673760201,0.29729729729733545,0.79216354344121498,1.2360189573459734,1.0035087719298348,0.67695783132528842,1.3160507446221725,0.80518319928509241,1.2377756471716173,0.68384879725085623,1.8249999999999993,1.277584204413474,0.98041775456917835,0.77170418006430708,1.8496732026143872,0.57526254375729169,0.7267716535432952,0.91852825229961266,1.5235772357723558,0.82773109243698617]
[]
[]
[]
[null,null,"Priemer:",{"$f":"SUM(C12:AD12)/28","v":1.0199682641529906},null,"MIN:",{"$f":"MIN(C12:AD12)","v":0.29729729729733545},null,"MAX:",{"$f":"MAX(C12:AD12)","v":1.8496732026143872}]
[]
[]
[]
[]
[]
[null,"AUD",null,"AUDCAD","AUDJPY","AUDNZD","AUDUSD","EURAUD","GBPAUD","AUDCHF",null,null,"CAD",null,"AUDCAD","CADCHF","CADJPY","EURCAD","GBPCAD","USDCAD","NZDCAD"]
[null,null,"High",{"$f":"[1]!AUDCAD","v":1.0353699999999999},{"$f":"[1]!AUDJPY","v":92.468000000000004},{"$f":"[1]!AUDNZD","v":1.2680199999999999},{"$f":"[1]!AUDUSD","v":1.04864},{"$f":"[1]!EURAUD","v":1.25152},{"$f":"[1]!GBPAUD","v":1.5412999999999999},{"$f":"[1]!AUDCHF","v":0.97087000000000001},null,null,null,"High",{"$f":"[1]!AUDCAD","v":1.0353699999999999},{"$f":"[1]!CADCHF","v":0.94118999999999997},{"$f":"[1]!CADJPY","v":89.629000000000005},{"$f":"[1]!EURCAD","v":1.2916000000000001},{"$f":"[1]!GBPCAD","v":1.59135},{"$f":"[1]!USDCAD","v":0.99222999999999995},{"$f":"[1]!NZDCAD","v":0.82167000000000001}]
["Priemer",{"$f":"SUM(D30:J30)/7","v":0.88095520536716154},"Ask",{"$f":"[2]!AUDCAD","v":1.03508},{"$f":"[2]!AUDJPY","v":92.444000000000003},{"$f":"[2]!AUDNZD","v":1.26004},{"$f":"[2]!AUDUSD","v":1.0481100000000001},{"$f":"[2]!EURAUD","v":1.2477},{"$f":"[2]!GBPAUD","v":1.5340499999999999},{"$f":"[2]!AUDCHF","v":0.96989999999999998},null,"Priemer",{"$f":"SUM(O30:U30)/7","v":1.0717032855311499},"Ask",{"$f":"[2]!AUDCAD","v":1.03508},{"$f":"[2]!CADCHF","v":0.93667999999999996},{"$f":"[2]!CADJPY","v":89.290999999999997},{"$f":"[2]!EURCAD","v":1.2909900000000001},{"$f":"[2]!GBPCAD","v":1.58724},{"$f":"[2]!USDCAD","v":0.98778999999999995},{"$f":"[2]!NZDCAD","v":0.82186000000000003}]
[null,null,"Bid",{"$f":"[3]!AUDCAD","v":1.0344500000000001},{"$f":"[3]!AUDJPY","v":92.341999999999999},{"$f":"[3]!AUDNZD","v":1.25945},{"$f":"[3]!AUDUSD","v":1.04772},{"$f":"[3]!EURAUD","v":1.24641},{"$f":"[3]!GBPAUD","v":1.5326900000000001},{"$f":"[3]!AUDCHF","v":0.96828999999999998},null,null,null,"Bid",{"$f":"[3]!AUDCAD","v":1.0344500000000001},{"$f":"[3]!CADCHF","v":0.93572999999999995},{"$f":"[3]!CADJPY","v":89.244},{"$f":"[3]!EURCAD","v":1.2904},{"$f":"[3]!GBPCAD","v":1.5865100000000001},{"$f":"[3]!USDCAD","v":0.98736000000000002},{"$f":"[3]!NZDCAD","v":0.82108000000000003}]
["Min",{"$f":"MIN(D30:J30)","v":0.57526254375729169},"Low",{"$f":"[4]!AUDCAD","v":1.0285200000000001},{"$f":"[4]!AUDJPY","v":91.442999999999998},{"$f":"[4]!AUDNZD","v":1.2588699999999999},{"$f":"[4]!AUDUSD","v":1.0393600000000001},{"$f":"[4]!EURAUD","v":1.2452300000000001},{"$f":"[4]!GBPAUD","v":1.5323100000000001},{"$f":"[4]!AUDCHF","v":0.96594000000000002},null,"Min",{"$f":"MIN(O30:U30)","v":0.71631205673760201},"Low",{"$f":"[4]!AUDCAD","v":1.0285200000000001},{"$f":"[4]!CADCHF","v":0.93525999999999998},{"$f":"[4]!CADJPY","v":88.578000000000003},{"$f":"[4]!EURCAD","v":1.2845299999999999},{"$f":"[4]!GBPCAD","v":1.5799099999999999},{"$f":"[4]!USDCAD","v":0.98472000000000004},{"$f":"[4]!NZDCAD","v":0.81230000000000002}]
[]
["Max",{"$f":"MAX(D30:J30)","v":1.2797202797202785},"Volatilita",69.7,85.5,71.5,108.8,104.8,132.80000000000001,85.7,null,"Max",{"$f":"MAX(O30:U30)","v":1.5235772357723558},"Volatilita",69.7,76.8,69,98.7,114,76.599999999999994,61.5]
[null,null,"Dnes",{"$f":"(D23-D26)*10000","v":68.49999999999801},{"$f":"(E23-E26)*100","v":102.50000000000057},{"$f":"(F23-F26)*10000","v":91.499999999999915},{"$f":"(G23-G26)*10000","v":92.799999999999557},{"$f":"(H23-H26)*10000","v":62.899999999999068},{"$f":"(I23-I26)*10000","v":89.899999999998315},{"$f":"(J23-J26)*10000","v":49.299999999999898},null,null,null,"Dnes",{"$f":"(O23-O26)*10000","v":68.49999999999801},{"$f":"(P23-P26)*10000","v":59.299999999999912},{"$f":"(Q23-Q26)*100","v":105.10000000000019},{"$f":"(R23-R26)*10000","v":70.700000000001324},{"$f":"(S23-S26)*10000","v":114.40000000000117},{"$f":"(T23-T26)*10000","v":75.099999999999056},{"$f":"(U23-U26)*10000","v":93.699999999999889}]
[null,null,null,{"$f":"1/(D28/D29)","v":0.98278335724530852},{"$f":"1/(E28/E29)","v":1.1988304093567317},1.2797202797202785,0.85294117647058409,0.60019083969464759,0.67695783132528842,0.57526254375729169,null,null,null,null,{"$f":"1/(O28/O29)","v":0.98278335724530852},{"$f":"1/(P28/P29)","v":0.77213541666666552},1.5231884057971044,0.71631205673760201,1.0035087719298348,0.98041775456917835,1.5235772357723558]
[]
[]
[]
[null,"EUR",null,"EURAUD","EURCAD","EURCHF","EURGBP","EURJPY","EURUSD","EURNZD",null,null,"GBP",null,"EURGBP","GBPCAD","GBPAUD","GBPNZD","GBPCHF","GBPJPY","GBPUSD"]
[null,null,"High",{"$f":"[1]!EURAUD","v":1.25152},{"$f":"[1]!EURCAD","v":1.2916000000000001},{"$f":"[1]!EURCHF","v":1.2093400000000001},{"$f":"[1]!EURGBP","v":0.81425999999999998},{"$f":"[1]!EURJPY","v":115.398},{"$f":"[1]!EURUSD","v":1.3088599999999999},{"$f":"[1]!EURNZD","v":1.58406},null,null,null,"High",{"$f":"[1]!EURGBP","v":0.81425999999999998},{"$f":"[1]!GBPCAD","v":1.59135},{"$f":"[1]!GBPAUD","v":1.5412999999999999},{"$f":"[1]!GBPNZD","v":1.95383},{"$f":"[1]!GBPCHF","v":1.4926600000000001},{"$f":"[1]!GBPJPY","v":141.80500000000001},{"$f":"[1]!GBPUSD","v":1.60877}]
["Priemer",{"$f":"SUM(D42:J42)/7","v":0.75532608576566873},"Ask",{"$f":"[2]!EURAUD","v":1.2477},{"$f":"[2]!EURCAD","v":1.2909900000000001},{"$f":"[2]!EURCHF","v":1.2086600000000001},{"$f":"[2]!EURGBP","v":0.81344000000000005},{"$f":"[2]!EURJPY","v":115.271},{"$f":"[2]!EURUSD","v":1.3070900000000001},{"$f":"[2]!EURNZD","v":1.5719399999999999},null,"Priemer",{"$f":"SUM(O42:U42)/7","v":0.93078407643229666},"Ask",{"$f":"[2]!EURGBP","v":0.81344000000000005},{"$f":"[2]!GBPCAD","v":1.58724},{"$f":"[2]!GBPAUD","v":1.5340499999999999},{"$f":"[2]!GBPNZD","v":1.93255},{"$f":"[2]!GBPCHF","v":1.48647},{"$f":"[2]!GBPJPY","v":141.76400000000001},{"$f":"[2]!GBPUSD","v":1.60704}]
[null,null,"Bid",{"$f":"[3]!EURAUD","v":1.24641},{"$f":"[3]!EURCAD","v":1.2904},{"$f":"[3]!EURCHF","v":1.20825},{"$f":"[3]!EURGBP","v":0.81306999999999996},{"$f":"[3]!EURJPY","v":115.154},{"$f":"[3]!EURUSD","v":1.3066800000000001},{"$f":"[3]!EURNZD","v":1.57039},null,null,null,"Bid",{"$f":"[3]!EURGBP","v":0.81306999999999996},{"$f":"[3]!GBPCAD","v":1.5865100000000001},{"$f":"[3]!GBPAUD","v":1.5326900000000001},{"$f":"[3]!GBPNZD","v":1.9303699999999999},{"$f":"[3]!GBPCHF","v":1.4850000000000001},{"$f":"[3]!GBPJPY","v":141.619},{"$f":"[3]!GBPUSD","v":1.60663}]
["Min",{"$f":"MIN(D42:J42)","v":0.29729729729733545},"Low",{"$f":"[4]!EURAUD","v":1.2452300000000001},{"$f":"[4]!EURCAD","v":1.2845299999999999},{"$f":"[4]!EURCHF","v":1.2081299999999999},{"$f":"[4]!EURGBP","v":0.80961000000000005},{"$f":"[4]!EURJPY","v":114.09399999999999},{"$f":"[4]!EURUSD","v":1.2996300000000001},{"$f":"[4]!EURNZD","v":1.5700799999999999},null,"Min",{"$f":"MIN(O42:U42)","v":0.67695783132528842},"Low",{"$f":"[4]!EURGBP","v":0.80961000000000005},{"$f":"[4]!GBPCAD","v":1.5799099999999999},{"$f":"[4]!GBPAUD","v":1.5323100000000001},{"$f":"[4]!GBPNZD","v":1.92997},{"$f":"[4]!GBPCHF","v":1.4836499999999999},{"$f":"[4]!GBPJPY","v":140.51400000000001},{"$f":"[4]!GBPUSD","v":1.6008100000000001}]
[]
["Max",{"$f":"MAX(D42:J42)","v":1.2360189573459734},"Volatilita",104.8,98.7,40.700000000000003,58.7,105.5,127,152.19999999999999,null,"Max",{"$f":"MAX(O42:U42)","v":1.3160507446221725},"Volatilita",58.7,114,132.80000000000001,181.3,111.9,104.3,116.4]
[null,null,"Dnes",{"$f":"(D35-D38)*10000","v":62.899999999999068},{"$f":"(E35-E38)*10000","v":70.700000000001324},{"$f":"(F35-F38)*10000","v":12.100000000001554},{"$f":"(G35-G38)*10000","v":46.499999999999318},{"$f":"(H35-H38)*100","v":130.4000000000002},{"$f":"(I35-I38)*10000","v":92.299999999998491},{"$f":"(J35-J38)*10000","v":139.80000000000103},null,null,null,"Dnes",{"$f":"(O35-O38)*10000","v":46.499999999999318},{"$f":"(P35-P38)*10000","v":114.40000000000117},{"$f":"(Q35-Q38)*10000","v":89.899999999998315},{"$f":"(R35-R38)*10000","v":238.59999999999991},{"$f":"(S35-S38)*10000","v":90.100000000001842},{"$f":"(T35-T38)*100","v":129.09999999999968},{"$f":"(U35-U38)*10000","v":79.599999999999667}]
[null,null,null,{"$f":"1/(D40/D41)","v":0.60019083969464759},0.71631205673760201,0.29729729729733545,0.79216354344121498,1.2360189573459734,0.7267716535432952,0.91852825229961266,null,null,null,null,{"$f":"1/(O40/O41)","v":0.79216354344121498},1.0035087719298348,0.67695783132528842,1.3160507446221725,0.80518319928509241,1.2377756471716173,0.68384879725085623]
[]
[]
[]
[null,"CHF",null,"CADCHF","CHFJPY","EURCHF","GBPCHF","USDCHF","AUDCHF","NZDCHF",null,null,"JPY",null,"AUDJPY","CADJPY","CHFJPY","EURJPY","GBPJPY","NZDJPY","USDJPY"]
[null,null,"High",{"$f":"[1]!CADCHF","v":0.94118999999999997},{"$f":"[1]!CHFJPY","v":95.495999999999995},{"$f":"[1]!EURCHF","v":1.2093400000000001},{"$f":"[1]!GBPCHF","v":1.4926600000000001},{"$f":"[1]!USDCHF","v":0.93023},{"$f":"[1]!AUDCHF","v":0.97087000000000001},{"$f":"[1]!NZDCHF","v":0.76902000000000004},null,null,null,"High",{"$f":"[1]!AUDJPY","v":92.468000000000004},{"$f":"[1]!CADJPY","v":89.629000000000005},{"$f":"[1]!CHFJPY","v":95.495999999999995},{"$f":"[1]!EURJPY","v":115.398},{"$f":"[1]!GBPJPY","v":141.80500000000001},{"$f":"[1]!NZDJPY","v":73.372},{"$f":"[1]!USDJPY","v":88.4}]
["Priemer",{"$f":"SUM(D54:J54)/7","v":0.76532403928031711},"Ask",{"$f":"[2]!CADCHF","v":0.93667999999999996},{"$f":"[2]!CHFJPY","v":95.405000000000001},{"$f":"[2]!EURCHF","v":1.2086600000000001},{"$f":"[2]!GBPCHF","v":1.48647},{"$f":"[2]!USDCHF","v":0.92532000000000003},{"$f":"[2]!AUDCHF","v":0.96989999999999998},{"$f":"[2]!NZDCHF","v":0.76951000000000003},null,"Priemer",{"$f":"SUM(O54:U54)/7","v":1.4540630239629078},"Ask",{"$f":"[2]!AUDJPY","v":92.444000000000003},{"$f":"[2]!CADJPY","v":89.290999999999997},{"$f":"[2]!CHFJPY","v":95.405000000000001},{"$f":"[2]!EURJPY","v":115.271},{"$f":"[2]!GBPJPY","v":141.76400000000001},{"$f":"[2]!NZDJPY","v":73.391999999999996},{"$f":"[2]!USDJPY","v":88.179000000000002}]
[null,null,"Bid",{"$f":"[3]!CADCHF","v":0.93572999999999995},{"$f":"[3]!CHFJPY","v":95.284000000000006},{"$f":"[3]!EURCHF","v":1.20825},{"$f":"[3]!GBPCHF","v":1.4850000000000001},{"$f":"[3]!USDCHF","v":0.92422000000000004},{"$f":"[3]!AUDCHF","v":0.96828999999999998},{"$f":"[3]!NZDCHF","v":0.76866999999999996},null,null,null,"Bid",{"$f":"[3]!AUDJPY","v":92.341999999999999},{"$f":"[3]!CADJPY","v":89.244},{"$f":"[3]!CHFJPY","v":95.284000000000006},{"$f":"[3]!EURJPY","v":115.154},{"$f":"[3]!GBPJPY","v":141.619},{"$f":"[3]!NZDJPY","v":73.28},{"$f":"[3]!USDJPY","v":88.144000000000005}]
["Min",{"$f":"MIN(D54:J54)","v":0.29729729729733545},"Low",{"$f":"[4]!CADCHF","v":0.93525999999999998},{"$f":"[4]!CHFJPY","v":94.344999999999999},{"$f":"[4]!EURCHF","v":1.2081299999999999},{"$f":"[4]!GBPCHF","v":1.4836499999999999},{"$f":"[4]!USDCHF","v":0.92303000000000002},{"$f":"[4]!AUDCHF","v":0.96594000000000002},{"$f":"[4]!NZDCHF","v":0.76310999999999996},null,"Min",{"$f":"MIN(O54:U54)","v":1.1988304093567317},"Low",{"$f":"[4]!AUDJPY","v":91.442999999999998},{"$f":"[4]!CADJPY","v":88.578000000000003},{"$f":"[4]!CHFJPY","v":94.344999999999999},{"$f":"[4]!EURJPY","v":114.09399999999999},{"$f":"[4]!GBPJPY","v":140.51400000000001},{"$f":"[4]!NZDJPY","v":72.131},{"$f":"[4]!USDJPY","v":87.551000000000002}]
[]
["Max",{"$f":"MAX(D54:J54)","v":1.3079545454545412},"Volatilita",76.8,88,40.700000000000003,111.9,93.3,85.7,71.400000000000006,null,"Max",{"$f":"MAX(O54:U54)","v":1.8496732026143872},"Volatilita",85.5,69,88,105.5,104.3,68,45.9]
[null,null,"Dnes",{"$f":"(D47-D50)*10000","v":59.299999999999912},{"$f":"(E47-E50)*100","v":115.09999999999962},{"$f":"(F47-F50)*10000","v":12.100000000001554},{"$f":"(G47-G50)*10000","v":90.100000000001842},{"$f":"(H47-H50)*10000","v":71.999999999999844},{"$f":"(I47-I50)*10000","v":49.299999999999898},{"$f":"(J47-J50)*10000","v":59.100000000000819},null,null,null,"Dnes",{"$f":"(O47-O50)*100","v":102.50000000000057},105.10000000000019,115.09999999999962,130.4000000000002,129.09999999999968,124.09999999999997,84.900000000000375]
[null,null,null,{"$f":"1/(D52/D53)","v":0.77213541666666552},1.3079545454545412,0.29729729729733545,0.80518319928509241,0.77170418006430708,0.57526254375729169,0.82773109243698617,null,null,null,null,{"$f":"1/(O52/O53)","v":1.1988304093567317},1.5231884057971044,1.3079545454545412,1.2360189573459734,1.2377756471716173,1.8249999999999993,1.8496732026143872]
[]
[]
[]
[null,"NZD",null,"GBPNZD","NZDJPY","NZDUSD","EURNZD","NZDCAD","NZDCHF","AUDNZD",null,null,"USD",null,"AUDUSD","GBPUSD","NZDUSD","USDCAD","USDCHF","USDJPY","EURUSD"]
[null,null,"High",{"$f":"[1]!GBPNZD","v":1.95383},{"$f":"[1]!NZDJPY","v":73.372},{"$f":"[1]!NZDUSD","v":0.83225000000000005},{"$f":"[1]!EURNZD","v":1.58406},{"$f":"[1]!NZDCAD","v":0.82167000000000001},{"$f":"[1]!NZDCHF","v":0.76902000000000004},{"$f":"[1]!AUDNZD","v":1.2680199999999999},null,null,null,"High",{"$f":"[1]!AUDUSD","v":1.04864},{"$f":"[1]!GBPUSD","v":1.60877},{"$f":"[1]!NZDUSD","v":0.83225000000000005},{"$f":"[1]!USDCAD","v":0.99222999999999995},{"$f":"[1]!USDCHF","v":0.93023},{"$f":"[1]!USDJPY","v":88.4},{"$f":"[1]!EURUSD","v":1.3088599999999999}]
["Priemer",{"$f":"SUM(D66:J66)/7","v":1.2811702584664111},"Ask",{"$f":"[2]!GBPNZD","v":1.93255},{"$f":"[2]!NZDJPY","v":73.391999999999996},{"$f":"[2]!NZDUSD","v":0.83211000000000002},{"$f":"[2]!EURNZD","v":1.5719399999999999},{"$f":"[2]!NZDCAD","v":0.82186000000000003},{"$f":"[2]!NZDCHF","v":0.76951000000000003},{"$f":"[2]!AUDNZD","v":1.26004},null,"Priemer",{"$f":"SUM(O66:U66)/7","v":1.0204201384180116},"Ask",{"$f":"[2]!AUDUSD","v":1.0481100000000001},{"$f":"[2]!GBPUSD","v":1.60704},{"$f":"[2]!NZDUSD","v":0.83211000000000002},{"$f":"[2]!USDCAD","v":0.98778999999999995},{"$f":"[2]!USDCHF","v":0.92532000000000003},{"$f":"[2]!USDJPY","v":88.179000000000002},{"$f":"[2]!EURUSD","v":1.3070900000000001}]
[null,null,"Bid",{"$f":"[3]!GBPNZD","v":1.9303699999999999},{"$f":"[3]!NZDJPY","v":73.28},{"$f":"[3]!NZDUSD","v":0.83160000000000001},{"$f":"[3]!EURNZD","v":1.57039},{"$f":"[3]!NZDCAD","v":0.82108000000000003},{"$f":"[3]!NZDCHF","v":0.76866999999999996},{"$f":"[3]!AUDNZD","v":1.25945},null,null,null,"Bid",{"$f":"[3]!AUDUSD","v":1.04772},{"$f":"[3]!GBPUSD","v":1.60663},{"$f":"[3]!NZDUSD","v":0.83160000000000001},{"$f":"[3]!USDCAD","v":0.98736000000000002},{"$f":"[3]!USDCHF","v":0.92422000000000004},{"$f":"[3]!USDJPY","v":88.144000000000005},{"$f":"[3]!EURUSD","v":1.3066800000000001}]
["Min",{"$f":"MIN(D66:J66)","v":0.82773109243698617},"Low",{"$f":"[4]!GBPNZD","v":1.92997},{"$f":"[4]!NZDJPY","v":72.131},{"$f":"[4]!NZDUSD","v":0.82125000000000004},{"$f":"[4]!EURNZD","v":1.5700799999999999},{"$f":"[4]!NZDCAD","v":0.81230000000000002},{"$f":"[4]!NZDCHF","v":0.76310999999999996},{"$f":"[4]!AUDNZD","v":1.2588699999999999},null,"Min",{"$f":"MIN(O66:U66)","v":0.68384879725085623},"Low",{"$f":"[4]!AUDUSD","v":1.0393600000000001},{"$f":"[4]!GBPUSD","v":1.6008100000000001},{"$f":"[4]!NZDUSD","v":0.82125000000000004},{"$f":"[4]!USDCAD","v":0.98472000000000004},{"$f":"[4]!USDCHF","v":0.92303000000000002},{"$f":"[4]!USDJPY","v":87.551000000000002},{"$f":"[4]!EURUSD","v":1.2996300000000001}]
[]
["Max",{"$f":"MAX(D66:J66)","v":1.8249999999999993},"Volatilita",181.3,68,86.1,152.19999999999999,61.5,71.400000000000006,71.5,null,"Max",{"$f":"MAX(O66:U66)","v":1.8496732026143872},"Volatilita",108.8,116.4,86.1,76.599999999999994,93.3,45.9,127]
[null,null,"Dnes",{"$f":"(D59-D62)*10000","v":238.59999999999991},{"$f":"(E59-E62)*100","v":124.09999999999997},{"$f":"(F59-F62)*10000","v":110.0000000000001},{"$f":"(G59-G62)*10000","v":139.80000000000103},{"$f":"(H59-H62)*10000","v":93.699999999999889},{"$f":"(I59-I62)*10000","v":59.100000000000819},{"$f":"(J59-J62)*10000","v":91.499999999999915},null,null,null,"Dnes",{"$f":"(O59-O62)*10000","v":92.799999999999557},{"$f":"(P59-P62)*10000","v":79.599999999999667},{"$f":"(Q59-Q62)*10000","v":110.0000000000001},{"$f":"(R59-R62)*10000","v":75.099999999999056},{"$f":"(S59-S62)*10000","v":71.999999999999844},{"$f":"(T59-T62)*100","v":84.900000000000375},{"$f":"(U59-U62)*10000","v":92.299999999998491}]
[null,null,null,{"$f":"1/(D64/D65)","v":1.3160507446221725},1.8249999999999993,1.277584204413474,0.91852825229961266,1.5235772357723558,0.82773109243698617,1.2797202797202785,null,null,null,null,{"$f":"1/(O64/O65)","v":0.85294117647058409},0.68384879725085623,1.277584204413474,0.98041775456917835,0.77170418006430708,1.8496732026143872,0.7267716535432952]

{"sheet":"Poriadok","index":3,"n_rows":288,"n_cols":80,"rows_kept":288,"cut":false,"hidden":false,"merged":[]}
[]
["17/8/2012",null,"aud","CADAUD","JPYAUD","NZDAUD","USDAUD","EURAUD","GBPAUD","CHFAUD",null,null,null,"cad","AUDCAD","CHFCAD","JPYCAD","EURCAD","GBPCAD","USDCAD","NZDCAD",null,null,"EURUSD","EURNZD","NZDCAD","NZDCHF","AUDCAD","AUDJPY","AUDNZD","AUDUSD","CADCHF","CADJPY","CHFJPY","EURAUD","EURCAD","EUECHF"]
["20:00:00",null,null,{"$f":"0.96669","v":0.96669000000000005},{"$f":"1.10721","v":1.10721},{"$f":"0.78494","v":0.78493999999999997},{"$f":"0.96259","v":0.96258999999999995},1.2804199999999999,1.51535,{"$f":"1.03019","v":1.0301899999999999},null,null,null,null,1.0168999999999999,{"$f":"0.95083","v":0.95082999999999995},{"$f":"1.15668","v":1.1566799999999999},1.2727999999999999,1.6029100000000001,1.0374300000000001,0.81428999999999996,null,null,{"$f":"1.26591","v":1.2659100000000001},{"$f":"1.5468","v":1.5468},{"$f":"0.78238","v":0.78237999999999996},{"$f":"0.80254","v":0.80254000000000003},{"$f":"0.99502","v":0.99502000000000002},{"$f":"0.7963","v":0.79630000000000001},{"$f":"1.23697","v":1.2369699999999999},{"$f":"1.03957","v":1.0395700000000001},{"$f":"0.92141","v":0.92140999999999995},{"$f":"0.7439","v":0.74390000000000001},{"$f":"0.8327","v":0.8327},{"$f":"1.21575","v":1.2157500000000001},{"$f":"1.26709","v":1.26709},{"$f":"1.20427","v":1.20427}]
[]
[null,null,"eur","AUDEUR","CADEUR","CHFEUR","GBPEUR","JPYEUR","USDEUR","NZDEUR",null,null,null,"gbp","EURGBP","CADGBP","AUDGBP","NZDGBP","CHFGBP","JPYGBP","USDGBP",null,null,"EURGBP","EURJPY","GBPCAD","GBPAUD","GBPNZD","GBPCHF","GBPJPY","GBPUSD","NZDJPY","NZDUSD","USDCAD","USDCHF","USDJPY","AUDCHF"]
[null,null,null,{"$f":"0.83288","v":0.83287999999999995},0.81103000000000003,{"$f":"0.85154","v":0.85153999999999996},{"$f":"1.26019","v":1.2601899999999999},{"$f":"0.88837","v":0.88836999999999999},{"$f":"0.80351","v":0.80350999999999995},{"$f":"0.62759","v":0.62758999999999998},null,null,null,null,0.80800000000000005,{"$f":"0.6626","v":0.66259999999999997},{"$f":"0.66967","v":0.66966999999999999},{"$f":"0.51518","v":0.51517999999999997},{"$f":"0.66156","v":0.66156000000000004},{"$f":"0.75826","v":0.75826000000000005},{"$f":"0.65256","v":0.65256000000000003},null,null,{"$f":"0.7969","v":0.79690000000000005},1.0032000000000001,{"$f":"1.59549","v":1.5954900000000001},{"$f":"1.58821","v":1.5882099999999999},{"$f":"1.92679","v":1.92679},{"$f":"1.54818","v":1.5481799999999999},{"$f":"1.2567","v":1.2566999999999999},{"$f":"1.5822","v":1.5822000000000001},{"$f":"0.6442","v":0.64419999999999999},{"$f":"0.80516","v":0.80515999999999999},{"$f":"1.0052","v":1.0052000000000001},{"$f":"0.95116","v":0.95116000000000001},{"$f":"0.7907","v":0.79069999999999996},{"$f":"0.94476","v":0.94476000000000004}]
[]
[null,null,"chf","CADCHF","JPYCHF","EURCHF","GBPCHF","USDCHF","AUDCHF","NZDCHF",null,null,null,"jpy","AUDJPY","CADJPY","CHFJPY","EURJPY","GBPJPY","NZDJPY","USDJPY"]
[null,null,null,1.0386500000000001,{"$f":"1.0999","v":1.0999000000000001},1.2466999999999999,1.50614,0.94664000000000004,0.99350000000000005,1.28853,null,null,null,null,0.91090000000000004,0.88239999999999996,0.94830000000000003,1.1287,1.40818,0.71970000000000001,0.87555000000000005]
[]
[null,null,"nzd","GBPNZD","JPYNZD","USDNZD","EURNZD","CADNZD","CHFNZD","AUDNZD",null,null,null,"usd","AUDUSD","GBPUSD","NZDUSD","CADUSD","CHFUSD","JPYUSD","EURUSD"]
[null,null,null,1.9741899999999999,1.3831199999999999,{"$f":"1.19102","v":1.19102},1.61649,{"$f":"1.24817","v":1.24817},{"$f":"0.75319","v":0.75319000000000003},1.2685,null,null,null,null,1.0173000000000001,1.58297,0.81,{"$f":"0.9656","v":0.96560000000000001},{"$f":"1.08617","v":1.0861700000000001},{"$f":"1.157","v":1.157},1.3025]
[]
[]
[]
["Aktuálny kurz","AUD",null,"CADAUD","JPYAUD","NZDAUD","USDAUD","EURAUD","GBPAUD","CHFAUD","pv",null,"CAD",null,"AUDCAD","CHFCAD","JPYCAD","EURCAD","GBPCAD","USDCAD","NZDCAD","pv"]
[null,null,"Ask",{"$f":"1/[2]!AUDCAD","v":0.96610889979518488},{"$f":"(1/[2]!AUDJPY)*100","v":1.0817359698844706},{"$f":"1/[2]!AUDNZD","v":0.79362559918732734},{"$f":"1/[2]!AUDUSD","v":0.95409832937382522},{"$f":"[2]!EURAUD","v":1.2477},{"$f":"[2]!GBPAUD","v":1.5340499999999999},{"$f":"1/[2]!AUDCHF","v":1.0310341272296113},{"$f":"(0.0001/G19)*10000","v":1.0479149637136602},null,null,"Ask",{"$f":"[2]!AUDCAD","v":1.03508},{"$f":"[2]!CADCHF","v":0.93667999999999996},{"$f":"(1/[2]!CADJPY)*100","v":1.1199336999249645},{"$f":"[2]!EURCAD","v":1.2909900000000001},{"$f":"[2]!GBPCAD","v":1.58724},{"$f":"1/[2]!USDCAD","v":1.0123609269176648},{"$f":"[2]!NZDCAD","v":0.82186000000000003},{"$f":"(0.0001/T19)*10000","v":0.98757495319342836}]
[null,null,"Bid",{"$f":"1/[3]!AUDCAD","v":0.96669727874716027},{"$f":"(1/[3]!AUDJPY)*100","v":1.0829308440362999},{"$f":"1/[3]!AUDNZD","v":0.79399737980864671},{"$f":"1/[3]!AUDUSD","v":0.95445347993738783},{"$f":"[3]!EURAUD","v":1.24641},{"$f":"[3]!GBPAUD","v":1.5326900000000001},{"$f":"1/[3]!AUDCHF","v":1.0327484534591909},null,null,null,"Bid",{"$f":"[3]!AUDCAD","v":1.0344500000000001},{"$f":"[3]!CADCHF","v":0.93572999999999995},{"$f":"(1/[3]!CADJPY)*100","v":1.1205235085832101},{"$f":"[3]!EURCAD","v":1.2904},{"$f":"[3]!GBPCAD","v":1.5865100000000001},{"$f":"1/[3]!USDCAD","v":1.0128018149408524},{"$f":"[3]!NZDCAD","v":0.82108000000000003}]
[null,null,"Priemer",{"$f":"(D17+D18)/2","v":0.96640308927117258},{"$f":"(E17+E18)/2","v":1.0823334069603852},0.79381148949798708,0.95427590465560652,1.247055,1.5333700000000001,1.0318912903444011,null,null,null,"Priemer",{"$f":"(O17+O18)/2","v":1.0347650000000002},{"$f":"(P17+P18)/2","v":0.93620499999999995},1.1202286042540872,1.2906949999999999,1.586875,1.0125813709292586,0.82147000000000003]
[null,null,"spread",{"$f":"ABS(D17-D18)*10000","v":5.8837895197538792},{"$f":"ABS(E17-E18)*10000","v":11.948741518292838},3.7178062131937306,3.5515056356261177,12.900000000000134,13.599999999998058,17.143262295795658,{"$f":"SUM(D20:J20)","v":68.74510518266041},null,null,"spread",{"$f":"ABS(O17-O18)*10000","v":6.2999999999990841},{"$f":"ABS(P17-P18)*10000","v":9.5000000000000639},5.8980865824564965,5.9000000000009045,7.299999999998974,4.4088802318764664,7.8000000000000291,{"$f":"SUM(O20:U20)","v":47.106966814332011}]
[]
[null,"EUR",null,"AUDEUR","CADEUR","CHFEUR","GBPEUR","JPYEUR","USDEUR","NZDEUR","pv",null,"GBP",null,"EURGBP","CADGBP","AUDGBP","NZDGBP","CHFGBP","JPYGBP","USDGBP","pv"]
[null,null,"Ask",{"$f":"1/[2]!EURAUD","v":0.80147471347278987},{"$f":"1/[2]!EURCAD","v":0.77459933849216489},{"$f":"1/[2]!EURCHF","v":0.82736253371502322},{"$f":"1/[2]!EURGBP","v":1.2293469708890636},{"$f":"(1/[2]!EURJPY)*100","v":0.86752088556531992},{"$f":"1/[2]!EURUSD","v":0.765058259186437},{"$f":"1/[2]!EURNZD","v":0.63615659630774712},{"$f":"(0.0001/I25)*10000","v":1.3068849678433834},null,null,"Ask",{"$f":"[2]!EURGBP","v":0.81344000000000005},{"$f":"1/[2]!GBPCAD","v":0.63002444494846399},{"$f":"1/[2]!GBPAUD","v":0.65186923503145278},{"$f":"1/[2]!GBPNZD","v":0.51745103619569999},{"$f":"1/[2]!GBPCHF","v":0.67273473396704953},{"$f":"(1/[2]!GBPJPY)*100","v":0.70539770322507822},{"$f":"1/[2]!GBPUSD","v":0.62226204699322973},{"$f":"(0.0001/U25)*10000","v":1.6068349738461012}]
[null,null,"Bid",{"$f":"1/[3]!EURAUD","v":0.80230421771327254},{"$f":"1/[3]!EURCAD","v":0.77495350278983266},{"$f":"1/[3]!EURCHF","v":0.82764328574384438},{"$f":"1/[3]!EURGBP","v":1.2299064041226464},{"$f":"(1/[3]!EURJPY)*100","v":0.86840231342376306},{"$f":"1/[3]!EURUSD","v":0.76529831328251752},{"$f":"1/[3]!EURNZD","v":0.63678449302402584},null,null,null,"Bid",{"$f":"[3]!EURGBP","v":0.81306999999999996},{"$f":"1/[3]!GBPCAD","v":0.63031433776024104},{"$f":"1/[3]!GBPAUD","v":0.65244765738668609},{"$f":"1/[3]!GBPNZD","v":0.51803540253940961},{"$f":"1/[3]!GBPCHF","v":0.67340067340067333},{"$f":"(1/[3]!GBPJPY)*100","v":0.70611994153326885},{"$f":"1/[3]!GBPUSD","v":0.62242084362921146}]
[null,null,"Priemer",{"$f":"(D23+D24)/2","v":0.8018894655930312},{"$f":"(E23+E24)/2","v":0.77477642064099883},0.82750290972943374,1.229626687505855,0.86796159949454155,0.76517828623447726,0.63647054466588648,null,null,null,"Priemer",{"$f":"(O23+O24)/2","v":0.81325500000000006},{"$f":"(P23+P24)/2","v":0.63016939135435246},0.65215844620906949,0.51774321936755485,0.67306770368386148,0.70575882237917353,0.6223414453112206]
[null,null,"spread",{"$f":"ABS(D23-D24)*10000","v":8.2950424048267024},{"$f":"ABS(E23-E24)*10000","v":3.5416429766776947},2.807520288211629,5.5943323358276231,8.8142785844314009,2.4005409608052197,6.2789671627871968,{"$f":"SUM(D26:J26)","v":37.732324713567465},null,null,"spread",{"$f":"ABS(O23-O24)*10000","v":3.7000000000009248},{"$f":"ABS(P23-P24)*10000","v":2.8989281177704829},5.7842235523331009,5.8436634370961915,6.6593943362380781,7.2223830819062584,1.5879663598172833,{"$f":"SUM(O26:U26)","v":33.696558885162318}]
[]
[null,"CHF",null,"CADCHF","JPYCHF","EURCHF","GBPCHF","USDCHF","AUDCHF","NZDCHF","pv",null,"JPY",null,"AUDJPY","CADJPY","CHFJPY","EURJPY","GBPJPY","NZDJPY","USDJPY","pv"]
[null,null,"Ask",{"$f":"1/[2]!CADCHF","v":1.0676004612033994},{"$f":"(1/[2]!CHFJPY)*100","v":1.048163094177454},{"$f":"[2]!EURCHF","v":1.2086600000000001},{"$f":"[2]!GBPCHF","v":1.48647},{"$f":"[2]!USDCHF","v":0.92532000000000003},{"$f":"[2]!AUDCHF","v":0.96989999999999998},{"$f":"1/[2]!NZDCHF","v":1.2995282712375407},{"$f":"(0.0001/H31)*10000","v":1.0813499572866767},null,null,"Ask",{"$f":"[2]!AUDJPY/100","v":0.92444000000000004},{"$f":"[2]!CADJPY/100","v":0.89290999999999998},{"$f":"[2]!CHFJPY/100","v":0.95405000000000006},{"$f":"[2]!EURJPY/100","v":1.1527099999999999},{"$f":"[2]!GBPJPY/100","v":1.41764},{"$f":"[2]!NZDJPY/100","v":0.73391999999999991},{"$f":"[2]!USDJPY/100","v":0.88179000000000007},{"$f":"(0.0001/U31)*10000","v":1.1342819711552095}]
[null,null,"Bid",{"$f":"1/[3]!CADCHF","v":1.0686843427056951},{"$f":"(1/[3]!CHFJPY)*100","v":1.0494941438226773},{"$f":"[3]!EURCHF","v":1.20825},{"$f":"[3]!GBPCHF","v":1.4850000000000001},{"$f":"[3]!USDCHF","v":0.92422000000000004},{"$f":"[3]!AUDCHF","v":0.96828999999999998},{"$f":"1/[3]!NZDCHF","v":1.3009483913773141},null,null,null,"Bid",{"$f":"[3]!AUDJPY/100","v":0.92342000000000002},{"$f":"[3]!CADJPY/100","v":0.89244000000000001},{"$f":"[3]!CHFJPY/100","v":0.95284000000000002},{"$f":"[3]!EURJPY/100","v":1.15154},{"$f":"[3]!GBPJPY/100","v":1.4161900000000001},{"$f":"[3]!NZDJPY/100","v":0.73280000000000001},{"$f":"[3]!USDJPY/100","v":0.88144}]
[null,null,"Priemer",{"$f":"(D29+D30)/2","v":1.0681424019545473},{"$f":"(E29+E30)/2","v":1.0488286190000657},1.2084550000000001,1.485735,0.92477000000000009,0.96909500000000004,1.3002383313074275,null,null,null,"Priemer",{"$f":"(O29+O30)/2","v":0.92393000000000003},{"$f":"(P29+P30)/2","v":0.892675},0.9534450000000001,1.1521249999999998,1.4169149999999999,0.73336000000000001,0.88161500000000004]
[null,null,"spread",{"$f":"ABS(D29-D30)*10000","v":10.838815022957693},{"$f":"ABS(E29-E30)*10000","v":13.310496452232368},4.1000000000002146,14.699999999998603,10.999999999999899,16.100000000000001,14.201201397734398,{"$f":"SUM(D32:J32)","v":84.250512872923167},null,null,"spread",{"$f":"ABS(O29-O30)*10000","v":10.200000000000209},{"$f":"ABS(P29-P30)*10000","v":4.6999999999997044},12.100000000000444,11.699999999998933,14.499999999999513,11.199999999998989,3.5000000000007248,{"$f":"SUM(O32:U32)","v":67.899999999998528}]
[]
[null,"NZD",null,"GBPNZD","JPYNZD","USDNZD","EURNZD","CADNZD","CHFNZD","AUDNZD","pv",null,"USD",null,"AUDUSD","GBPUSD","NZDUSD","CADUSD","CHFUSD","JPYUSD","EURUSD","pv"]
[null,null,"Ask",{"$f":"[2]!GBPNZD","v":1.93255},{"$f":"(1/[2]!NZDJPY)*100","v":1.3625463265751037},{"$f":"1/[2]!NZDUSD","v":1.2017641898306715},{"$f":"[2]!EURNZD","v":1.5719399999999999},{"$f":"1/[2]!NZDCAD","v":1.2167522449078918},{"$f":"[2]!NZDCHF","v":0.76951000000000003},{"$f":"[2]!AUDNZD","v":1.26004},{"$f":"(0.0001/F37)*10000","v":0.8318549218313287},null,null,"Ask",{"$f":"[2]!AUDUSD","v":1.0481100000000001},{"$f":"[2]!GBPUSD","v":1.60704},{"$f":"[2]!NZDUSD","v":0.83211000000000002},{"$f":"[2]!USDCAD","v":0.98778999999999995},{"$f":"1/[2]!USDCHF","v":1.0807072148013659},{"$f":"(1/[2]!USDJPY)*100","v":1.1340568616110411},{"$f":"[2]!EURUSD","v":1.3070900000000001},1]
[null,null,"Bid",{"$f":"[3]!GBPNZD","v":1.9303699999999999},{"$f":"(1/[3]!NZDJPY)*100","v":1.3646288209606987},{"$f":"1/[3]!NZDUSD","v":1.2025012025012025},{"$f":"[3]!EURNZD","v":1.57039},{"$f":"1/[3]!NZDCAD","v":1.2179081210113509},{"$f":"[3]!NZDCHF","v":0.76866999999999996},{"$f":"[3]!AUDNZD","v":1.25945},null,null,null,"Bid",{"$f":"[3]!AUDUSD","v":1.04772},{"$f":"[3]!GBPUSD","v":1.60663},{"$f":"[3]!NZDUSD","v":0.83160000000000001},{"$f":"[3]!USDCAD","v":0.98736000000000002},{"$f":"1/[3]!USDCHF","v":1.0819934647594729},{"$f":"(1/[3]!USDJPY)*100","v":1.1345071700853149},{"$f":"[3]!EURUSD","v":1.3066800000000001}]
[null,null,"Priemer",{"$f":"(D35+D36)/2","v":1.93146},{"$f":"(E35+E36)/2","v":1.3635875737679011},{"$f":"(F35+F36)/2","v":1.2021326961659371},1.5711649999999999,1.2173301829596213,0.76909000000000005,1.2597450000000001,null,null,null,"Priemer",{"$f":"(O35+O36)/2","v":1.0479150000000002},{"$f":"(P35+P36)/2","v":1.606835},0.83185500000000001,0.98757499999999998,1.0813503397804194,1.1342820158481781,1.3068850000000001]
[null,null,"spread",{"$f":"ABS(D35-D36)*10000","v":21.800000000000708},{"$f":"ABS(E35-E36)*10000","v":20.824943855950462},7.3701267053105646,15.499999999999403,11.558761034591303,8.4000000000006292,5.9000000000009045,{"$f":"SUM(D38:J38)","v":91.353831595853976},null,null,"spread",{"$f":"ABS(O35-O36)*10000","v":3.9000000000011248},{"$f":"ABS(P35-P36)*10000","v":4.1000000000002146},5.1000000000001044,4.2999999999993044,12.862499581069997,4.5030847427374177,4.1000000000002146,{"$f":"SUM(O38:U38)","v":38.865584323808378}]
[]
[]
["Rozdiely",null,"aud","CADAUD","JPYAUD","NZDAUD","USDAUD","EURAUD","GBPAUD","CHFAUD",null,null,null,"cad","AUDCAD","CHFCAD","JPYCAD","EURCAD","GBPCAD","USDCAD","NZDCAD"]
[null,null,{"$f":"(D42+E42+F42+G42+H42+I42+J42)","v":-776.92399959249803},{"$f":"((D19-D3))*10000","v":-2.8691072882747193},{"$f":"(E19-E3)*10000","v":-248.76593039614869},{"$f":"((F19-F3))*10000","v":88.714894979871062},{"$f":"((G19-G3))*10000","v":-83.140953443934237},{"$f":"((H19-H3))*10000","v":-333.64999999999867},{"$f":"((I3-I19))*10000","v":-180.20000000000147},{"$f":"((J3-J19))*10000","v":-17.012903444011407},null,null,null,{"$f":"O42+P42+Q42+R42+S42+T42+U42","v":299.27233324829047},{"$f":"(O19-O3)*10000","v":178.65000000000242},{"$f":"(P3-P19)*10000","v":146.25},{"$f":"(Q19-Q3)*10000","v":-364.5139574591272},{"$f":"(R19-R3)*10000","v":178.94999999999993},{"$f":"(S19-S3)*10000","v":-160.35000000000022},{"$f":"(T3-T19)*10000","v":248.48629070741478},{"$f":"(U19-U3)*10000","v":71.80000000000075}]
[]
[null,null,"eur","AUDEUR","CADEUR","CHFEUR","GBPEUR","JPYEUR","USDEUR","NZDEUR",null,null,null,"gbp","EURGBP","CADGBP","AUDGBP","NZDGBP","CHFGBP","JPYGBP","USDGBP"]
[null,null,{"$f":"D45+E45+F45+G45+H45+I45+J45","v":-1717.040861357757},{"$f":"((D25-D6))*10000","v":-309.90534406968749},{"$f":"((E25-E6))*10000","v":-362.53579359001196},{"$f":"((F25-F6))*10000","v":-240.37090270566219},{"$f":"((G25-G6))*10000","v":-305.63312494144901},{"$f":"(H25-H6)*10000","v":-204.08400505458445},{"$f":"((I25-I6))*10000","v":-383.31713765522693},{"$f":"((J25-J6))*10000","v":88.805446658865023},null,null,null,{"$f":"O45+P45+Q45+R45+S45+T45+U45","v":-1133.3597169476761},{"$f":"(O25-O6)*10000","v":52.550000000000097},-324.3060864564751,{"$f":"(Q25-Q6)*10000","v":-175.115537909305},{"$f":"(R25-R6)*10000","v":25.632193675548809},{"$f":"(S25-S6)*10000","v":115.07703683861448},{"$f":"(T25-T6)*10000","v":-525.01177620826513},-302.18554688779432]
[]
[null,null,"chf","CADCHF","JPYCHF","EURCHF","GBPCHF","USDCHF","AUDCHF","NZDCHF",null,null,null,"jpy","AUDJPY","CADJPY","CHFJPY","EURJPY","GBPJPY","NZDJPY","USDJPY"]
[null,null,{"$f":"D48+E48+F48+G48+H48+I48+J48","v":-1737.8045164705395},{"$f":"(D9-D31)*10000","v":-294.92401954547279},{"$f":"(E31-E9)*10000","v":-510.7138099993436},-382.44999999999862,-204.05000000000007,-218.69999999999945,-244.0500000000001,117.08331307427544,null,null,null,{"$f":"O48+P48+Q48+R48+S48+T48+U48","v":803.34999999999809},{"$f":"(O31-O9)*10000","v":130.29999999999987},102.75000000000034,51.450000000000664,234.24999999999807,87.349999999999369,136.60000000000005,60.649999999999871]
[]
[null,null,"nzd","GBPNZD","JPYNZD","USDNZD","EURNZD","CADNZD","CHFNZD","AUDNZD",null,null,null,"usd","AUDUSD","GBPUSD","NZDUSD","CADUSD","CHFUSD","JPYUSD","EURUSD"]
[null,null,{"$f":"D51+E51+F51+G51+H51+I51+J51","v":-1201.6954710654024},{"$f":"(D37-D12)*10000","v":-427.29999999999933},-195.32426232098831,111.1269616593713,-453.25000000000057,-308.3981704037875,159.00000000000026,-87.549999999998462,null,null,null,{"$f":"O51+P51+Q51+R51+S51+T51+U51","v":312.0735562859756},{"$f":"(O37-O12)*10000","v":306.1500000000006},{"$f":"(P37-P12)*10000","v":238.65000000000026},{"$f":"(Q37-Q12)*10000","v":218.54999999999959},{"$f":"(R12-R37)*10000","v":-219.74999999999966},{"$f":"(S37-S12)*10000","v":-48.196602195806904},{"$f":"(T37-T12)*10000","v":-227.17984151821912},{"$f":"(U37-U12)*10000","v":43.850000000000833}]
[]
[null,null,null,null,null,null,null,null,null,null,null,null,null,null,null,null,null,null,null,null,null,null,{"$f":"-1","v":-1}]
[null,null,null,null,null,null,null,null,null,null,null,null,null,null,null,null,null,null,null,null,null,null,1]
[null,null,"aud","eur","chf","nzd","cad","gbp","jpy","usd","AVG","SUM",null,"aud","eur","chf","nzd","cad","gbp","jpy","usd"]
[null,null,{"$f":"C42","v":-776.92399959249803},{"$f":"C45","v":-1717.040861357757},{"$f":"C48","v":-1737.8045164705395},{"$f":"C51","v":-1201.6954710654024},{"$f":"N42","v":299.27233324829047},{"$f":"N45","v":-1133.3597169476761},{"$f":"N48","v":803.34999999999809},{"$f":"N51","v":312.0735562859756},{"$f":"(C56+D56+E56+F56+G56+H56+I56+J56)/8","v":-644.01608448745128},{"$f":"SUM(C56:J56)","v":-5152.1286758996102},{"$f":"N56+O56+P56+Q56+R56+S56+T56+U56","v":7981.5204549681366},{"$f":"ABS(C56)","v":776.92399959249803},1717.040861357757,1737.8045164705395,1201.6954710654024,299.27233324829047,1133.3597169476761,803.34999999999809,312.0735562859756,{"$f":"SUM(N56:U56)","v":7981.5204549681366},null,null,"AUDCHF","AUDCAD","AUDNZD","AUDGBP","AUDJPY","AUDUSD","AUDEUR","CADAUD","CADCHF","CADEUR","CADNZD","CADGBP","CADJPY","CADUSD","CHFAUD","CHFEUR","CHFCAD","CHFNZD","CHFGBP","CHFJPY","CHFUSD","EURAUD","EURCHF","EURCAD","EURNZD","EURGBP","EURJPY","EURUSD","GBPAUD","GBPCAD","GBPCHF","GBPEUR","GBPNZD","GBPJPY","GBPUSD","JPYAUD","JPYCHF","JPYCAD","JPYEUR","JPYGBP","JPYUSD","JPYNZD","NZDAUD","NZDCAD","NZDEUR","NZDCHF","NZDJPY","NZDGBP","NZDUSD","USDAUD","USDCAD","USDCHF","USDEUR","USDGBP","USDNZD","USDJPY"]
[null,"MAX",0.24526048678809098,-0.16716172819857497,-0.17720188658001229,3.2332032875447467E-3,0.12579114689077997,0.12300444977694841,0.24586407729554807,0.12500141703715489,null,null,null,{"$f":"N56/$V$56","v":9.7340350623157004E-2},{"$f":"O56/$V$56","v":0.21512703889507373},0.217728505022979,0.15055971826989445,3.7495654485481762E-2,0.14199797185788215,0.10065124866026609,3.9099512185265889E-2,null,null,null,{"$f":"I48","v":-244.0500000000001},{"$f":"O42","v":178.65000000000242},{"$f":"J51","v":-87.549999999998462},{"$f":"Q45","v":-175.115537909305},{"$f":"O48","v":130.29999999999987},{"$f":"O51","v":306.1500000000006},{"$f":"D45","v":-309.90534406968749},{"$f":"D42","v":-2.8691072882747193},{"$f":"+D48","v":-294.92401954547279},{"$f":"E45","v":-362.53579359001196},{"$f":"H51","v":-308.3981704037875},{"$f":"P45","v":-324.3060864564751},{"$f":"P48","v":102.75000000000034},{"$f":"R51","v":-219.74999999999966},{"$f":"J42","v":-17.012903444011407},{"$f":"F45","v":-240.37090270566219},{"$f":"P42","v":146.25},{"$f":"I51","v":159.00000000000026},{"$f":"S45","v":115.07703683861448},{"$f":"Q48","v":51.450000000000664},{"$f":"S51","v":-48.196602195806904},{"$f":"H42","v":-333.64999999999867},{"$f":"F48","v":-382.44999999999862},{"$f":"R42","v":178.94999999999993},{"$f":"G51","v":-453.25000000000057},{"$f":"O45","v":52.550000000000097},{"$f":"R48","v":234.24999999999807},{"$f":"U51","v":43.850000000000833},{"$f":"I42","v":-180.20000000000147},{"$f":"S42","v":-160.35000000000022},{"$f":"G48","v":-204.05000000000007},{"$f":"G45","v":-305.63312494144901},{"$f":"D51","v":-427.29999999999933},{"$f":"S48","v":87.349999999999369},{"$f":"P51","v":238.65000000000026},{"$f":"E42","v":-248.76593039614869},{"$f":"E48","v":-510.7138099993436},{"$f":"Q42","v":-364.5139574591272},{"$f":"H45","v":-204.08400505458445},{"$f":"T45","v":-525.01177620826513},{"$f":"T51","v":-227.17984151821912},{"$f":"E51","v":-195.32426232098831},{"$f":"F42","v":88.714894979871062},{"$f":"U42","v":71.80000000000075},{"$f":"J45","v":88.805446658865023},{"$f":"J48","v":117.08331307427544},{"$f":"T48","v":136.60000000000005},{"$f":"R45","v":25.632193675548809},{"$f":"Q51","v":218.54999999999959},{"$f":"G42","v":-83.140953443934237},{"$f":"T42","v":248.48629070741478},{"$f":"H48","v":-218.69999999999945},{"$f":"I45","v":-383.31713765522693},{"$f":"U45","v":-302.18554688779432},{"$f":"F51","v":111.1269616593713},{"$f":"U48","v":60.649999999999871}]
[null,"MIN",1.0391618480453835E-2,-0.2513482416025164,-0.23416701369816814,-3.8989278492730921E-2,4.2843516703304357E-2,2.5796087925488861E-2,6.5325840881229363E-2,-0.16491924096377691,null,null,null,{"$f":"(N57/25)*100","v":0.38936140249262802},{"$f":"(O57/25)*100","v":0.86050815558029492},0.8709140200919161,0.6022388730795778,0.14998261794192705,0.56799188743152862,0.40260499464106436,0.15639804874106356]
[null,null,{"$f":"IF(C56<0,N57*$W$53,N57*$W$54)","v":-9.7340350623157004E-2},-0.21512703889507373,-0.217728505022979,-0.15055971826989445,3.7495654485481762E-2,-0.14199797185788215,0.10065124866026609,3.9099512185265889E-2,{"$f":"(C59+D59+E59+F59+G59+H59+I59+J59)/8","v":-8.0688396167246573E-2},{"$f":"C59+D59+E59+F59+G59+H59+I59+J59","v":-0.64550716933797259}]
[null,null,{"$f":"IF(C56<0,N58*$W$53,N58*$W$54)","v":-0.38936140249262802},-0.86050815558029492,-0.8709140200919161,-0.6022388730795778,0.14998261794192705,-0.56799188743152862,0.40260499464106436,0.15639804874106356]
[]
[]
[]
[]
[]
[]
[null,null,null,null,null,null,null,null,null,null,null,null,null,null,null,null,null,null,null,null,null,null,null,null,{"$f":"AM56","v":"CHFAUD"},{"$f":"AF56","v":"CADAUD"},{"$f":"BO56","v":"NZDAUD"},{"$f":"BA56","v":"GBPAUD"},{"$f":"BH56","v":"JPYAUD"},{"$f":"BV56","v":"USDAUD"},{"$f":"AT56","v":"EURAUD"},{"$f":"Z56","v":"AUDCAD"},{"$f":"AO56","v":"CHFCAD"},{"$f":"AV56","v":"EURCAD"},{"$f":"BP56","v":"NZDCAD"},{"$f":"BB56","v":"GBPCAD"},{"$f":"BJ56","v":"JPYCAD"},{"$f":"BW56","v":"USDCAD"},{"$f":"Y56","v":"AUDCHF"},{"$f":"AU56","v":"EURCHF"},{"$f":"AG56","v":"CADCHF"},{"$f":"BR56","v":"NZDCHF"},{"$f":"BC56","v":"GBPCHF"},{"$f":"BI56","v":"JPYCHF"},{"$f":"BX56","v":"USDCHF"},{"$f":"AE56","v":"AUDEUR"},{"$f":"AN56","v":"CHFEUR"},{"$f":"AH56","v":"CADEUR"},{"$f":"BQ56","v":"NZDEUR"},{"$f":"BD56","v":"GBPEUR"},{"$f":"BK56","v":"JPYEUR"},{"$f":"BY56","v":"USDEUR"},{"$f":"AB56","v":"AUDGBP"},{"$f":"AJ56","v":"CADGBP"},{"$f":"AQ56","v":"CHFGBP"},{"$f":"AX56","v":"EURGBP"},{"$f":"BT56","v":"NZDGBP"},{"$f":"BL56","v":"JPYGBP"},{"$f":"BZ56","v":"USDGBP"},{"$f":"AC56","v":"AUDJPY"},{"$f":"AR56","v":"CHFJPY"},{"$f":"AK56","v":"CADJPY"},{"$f":"AY56","v":"EURJPY"},{"$f":"BF56","v":"GBPJPY"},{"$f":"CB56","v":"USDJPY"},{"$f":"BS56","v":"NZDJPY"},{"$f":"AA56","v":"AUDNZD"},{"$f":"AI56","v":"CADNZD"},{"$f":"AW56","v":"EURNZD"},{"$f":"AP56","v":"CHFNZD"},{"$f":"BN56","v":"JPYNZD"},{"$f":"BE56","v":"GBPNZD"},{"$f":"CA56","v":"USDNZD"},{"$f":"AD56","v":"AUDUSD"},{"$f":"AL56","v":"CADUSD"},{"$f":"AS56","v":"CHFUSD"},{"$f":"AZ56","v":"EURUSD"},{"$f":"BG56","v":"GBPUSD"},{"$f":"BU56","v":"NZDUSD"},{"$f":"BM56","v":"JPYUSD"}]
[null,null,null,"JPYAUD","GBPAUD","CADAUD","USDAUD","EURAUD","CHFAUD","NZDAUD",null,null,null,null,null,null,null,null,null,null,null,null,null,null,{"$f":"AM57","v":-17.012903444011407},{"$f":"AF57","v":-2.8691072882747193},{"$f":"BO57","v":88.714894979871062},{"$f":"BA57","v":-180.20000000000147},{"$f":"BH57","v":-248.76593039614869},{"$f":"BV57","v":-83.140953443934237},{"$f":"AT57","v":-333.64999999999867},{"$f":"Z57","v":178.65000000000242},{"$f":"AO57","v":146.25},{"$f":"AV57","v":178.94999999999993},{"$f":"BP57","v":71.80000000000075},{"$f":"BB57","v":-160.35000000000022},{"$f":"BJ57","v":-364.5139574591272},{"$f":"BW57","v":248.48629070741478},{"$f":"Y57","v":-244.0500000000001},{"$f":"AU57","v":-382.44999999999862},{"$f":"AG57","v":-294.92401954547279},{"$f":"BR57","v":117.08331307427544},{"$f":"BC57","v":-204.05000000000007},{"$f":"BI57","v":-510.7138099993436},{"$f":"BX57","v":-218.69999999999945},{"$f":"AE57","v":-309.90534406968749},{"$f":"AN57","v":-240.37090270566219},{"$f":"AH57","v":-362.53579359001196},{"$f":"BQ57","v":88.805446658865023},{"$f":"BD57","v":-305.63312494144901},{"$f":"BK57","v":-204.08400505458445},{"$f":"BY57","v":-383.31713765522693},{"$f":"AB57","v":-175.115537909305},{"$f":"AJ57","v":-324.3060864564751},{"$f":"AQ57","v":115.07703683861448},{"$f":"AX57","v":52.550000000000097},{"$f":"BT57","v":25.632193675548809},{"$f":"BL57","v":-525.01177620826513},{"$f":"BZ57","v":-302.18554688779432},{"$f":"AC57","v":130.29999999999987},{"$f":"AR57","v":51.450000000000664},{"$f":"AK57","v":102.75000000000034},{"$f":"AY57","v":234.24999999999807},{"$f":"BF57","v":87.349999999999369},{"$f":"CB57","v":60.649999999999871},{"$f":"BS57","v":136.60000000000005},{"$f":"AA57","v":-87.549999999998462},{"$f":"AI57","v":-308.3981704037875},{"$f":"AW57","v":-453.25000000000057},{"$f":"AP57","v":159.00000000000026},{"$f":"BN57","v":-195.32426232098831},{"$f":"BE57","v":-427.29999999999933},{"$f":"CA57","v":111.1269616593713},{"$f":"AD57","v":306.1500000000006},{"$f":"AL57","v":-219.74999999999966},{"$f":"AS57","v":-48.196602195806904},{"$f":"AZ57","v":43.850000000000833},{"$f":"BG57","v":238.65000000000026},{"$f":"BU57","v":218.54999999999959},{"$f":"BM57","v":-227.17984151821912}]
[null,null,null,{"$f":"E42","v":-248.76593039614869},{"$f":"I42","v":-180.20000000000147},{"$f":"D42","v":-2.8691072882747193},{"$f":"G42","v":-83.140953443934237},{"$f":"H42","v":-333.64999999999867},{"$f":"J42","v":-17.012903444011407},{"$f":"F42","v":88.714894979871062}]
[]
[]
[]
[]
[]
[]
[]
[]
[]
[]
[]
[]
[]
[]
[]
[]
[]
[]
[]
[]
[]
[]
[]
[]
[]
[]
[]
[]
[]
[]
[]
[]
[]
[]
[]
[]
[]
[]
[null,null,{"$f":"D108/8","v":997.69005687101708},{"$f":"M56","v":7981.5204549681366}]
[]
[]
[]
[]
[]
[]
[]
[]
[]
[]
[]
[]
[]
[]
[]
[]
[]
[]
[]
[]
[]
[]
[]
[]
[]
[]
[]
[]
[]
[]
[]
[]
[]
[]
[]
[]
[]
[]
[]
[]
[]
[]
[]
[]
[]
[]
[]
[]
[]
[]
[]
[]
[]
[]
[]
[]
[]
[]
[]
[]
[]
[]
[]
[]
[]
[]
[]
[]
[]
[]
[]
[]
[]
[]
[]
[]
[]
[]
[]
[]
[]
[]
[]
[]
[]
[]
[]
[]
[]
[]
[]
[]
[]
[]
[]
[]
[]
[]
[]
[]
[]
[]
[]
[]
[]
[]
[]
[]
[]
[]
[]
[]
[]
[]
[]
[]
[]
[]
[]
[]
[]
[]
[]
[]
[]
[]
[]
[]
[]
[]
[]
[]
[]
[]
[]
[]
[]
[]
[]
[]
[]
[]
[]
[]
[]
[]
[]
[]
[]
[null,null,null,null,null,null,null,null,null,null,null,null,null,null,null,null,null,null,null,null,null,null,null,null,"AUDCHF","EURUSD","EURNZD","NZDCAD","NZDCHF"]
[null,null,null,null,null,null,null,null,null,null,null,null,null,null,null,null,null,null,null,null,null,null,null,null,{"$f":"(I31-AK6)*10000","v":243.34999999999997},{"$f":"(U37-X3)*10000","v":409.74999999999983},{"$f":"(G37-Y3)*10000","v":243.64999999999969},{"$f":"(U19-Z3)*10000","v":390.90000000000072},{"$f":"(J31-AA3)*10000","v":4976.9833130742745}]
[null,null,null,null,null,null,null,null,null,null,null,null,null,null,null,null,null,null,null,null,null,null,null,null,{"$f":"E56","v":-1737.8045164705395},{"$f":"D56","v":-1717.040861357757},{"$f":"D56","v":-1717.040861357757},{"$f":"G56","v":299.27233324829047},{"$f":"F56","v":-1201.6954710654024}]
[null,null,null,null,null,null,null,null,null,null,null,null,null,null,null,null,null,null,null,null,null,null,null,null,{"$f":"ABS(Y259)/(ABS(Y259)+ABS(Y260))","v":0.12283241815662725},0.19266116262057512,0.12426742267328914,0.5663802809368389,0.80550931468551368]
[null,null,null,null,null,null,null,null,null,null,null,null,null,null,null,null,null,null,null,null,null,null,null,null,{"$f":"ABS(Y260)/(ABS(Y259)+ABS(Y260))","v":0.87716758184337273},0.8073388373794248,0.87573257732671084,0.43361971906316121,0.19449068531448624]
[null,null,null,null,null,null,null,null,null,null,null,null,null,null,null,null,null,null,null,null,null,null,null,null,{"$f":"IF($C$56<0,Y261*$W$53,Y261*$W$54)","v":-0.12283241815662725},{"$f":"IF($J$56<0,Z261*$W$53,Z261*$W$54)","v":0.19266116262057512},{"$f":"IF($F$56<0,AA261*$W$53,AA261*$W$54)","v":-0.12426742267328914},{"$f":"IF($F$56<0,AB261*$W$53,AB261*$W$54)","v":-0.5663802809368389},{"$f":"IF($E$56<0,AC261*$W$53,AC261*$W$54)","v":-0.80550931468551368}]
[null,null,null,null,null,null,null,null,null,null,null,null,null,null,null,null,null,null,null,null,null,null,null,null,{"$f":"IF($E$56<0,Y262*$W$53,Y262*$W$54)","v":-0.87716758184337273},{"$f":"IF($D$56<0,Z262*$W$53,Z262*$W$54)","v":-0.8073388373794248},{"$f":"IF($D$56<0,AA262*$W$53,AA262*$W$54)","v":-0.87573257732671084},{"$f":"IF($G$56<0,AB262*$W$53,AB262*$W$54)","v":0.43361971906316121},{"$f":"IF($F$56<0,AC262*$W$53,AC262*$W$54)","v":-0.19449068531448624}]
[]
[]
[]
[]
[]
[]
[]
[]
[]
[]
[]
[null,null,null,null,null,null,null,null,null,null,null,null,null,null,null,null,null,null,null,null,null,null,null,"USDJPY"]
[null,null,null,null,null,null,null,null,null,null,null,null,null,null,null,null,null,null,null,null,null,null,null,{"$f":"(U31-AJ6)*10000","v":909.15000000000077}]
[null,"AUDCAD","AUDJPY","AUDNZD","AUDUSD","CADCHF","CADJPY","CHFJPY","EURAUD","EURCAD","EURCHF","EURGBP","EURJPY","GBPCAD","GBPAUD","GBPNZD","GBPCHF","GBPJPY","GBPUSD","NZDJPY","NZDUSD","USDCAD","USDCHF",{"$f":"J56","v":312.0735562859756}]
[null,{"$f":"(O19-AB3)*10000","v":397.45000000000141},{"$f":"(O31-AC3)*10000","v":1276.3000000000002},{"$f":"(J37-AD3)*10000","v":227.7500000000021},{"$f":"(O37-AE3)*10000","v":83.450000000000472},{"$f":"(D31-AF3)*10000","v":1467.3240195454739},{"$f":"(P31-AG3)*10000","v":1487.75},{"$f":"(Q31-AH3)*10000","v":1207.450000000001},{"$f":"(H19-AI3)*10000","v":313.04999999999916},{"$f":"(R19-AJ3)*10000","v":236.04999999999876},{"$f":"(F31-AK3)*10000","v":41.850000000001053},{"$f":"(O25-X6)*10000","v":163.5500000000001},{"$f":"(R31-Y6)*10000","v":1489.2499999999975},{"$f":"(S19-Z6)*10000","v":-86.150000000000389},{"$f":"(I19-AA6)*10000","v":-548.39999999999782},{"$f":"(D37-AB6)*10000","v":46.69999999999952},{"$f":"(G31-AC6)*10000","v":-624.44999999999857},{"$f":"(S31-AD6)*10000","v":1602.1499999999999},{"$f":"(P37-AE6)*10000","v":246.34999999999962},{"$f":"(T31-AF6)*10000","v":891.60000000000014},{"$f":"(Q37-AG6)*10000","v":266.95000000000022},{"$f":"(T19-AH6)*10000","v":73.813709292585017},{"$f":"(H31-AI6)*10000","v":-263.89999999999912},0.74445828965577476]
[null,{"$f":"G56","v":299.27233324829047},{"$f":"I56","v":803.34999999999809}," ",{"$f":"J56","v":312.0735562859756},{"$f":"G56","v":299.27233324829047},{"$f":"I56","v":803.34999999999809},{"$f":"I56","v":803.34999999999809},{"$f":"D56","v":-1717.040861357757},{"$f":"D56","v":-1717.040861357757},{"$f":"D56","v":-1717.040861357757},{"$f":"D56","v":-1717.040861357757},{"$f":"D56","v":-1717.040861357757},{"$f":"H56","v":-1133.3597169476761},{"$f":"H56","v":-1133.3597169476761},{"$f":"F56","v":-1201.6954710654024},{"$f":"H56","v":-1133.3597169476761},{"$f":"H56","v":-1133.3597169476761},{"$f":"H56","v":-1133.3597169476761},{"$f":"F56","v":-1201.6954710654024},{"$f":"F56","v":-1201.6954710654024},{"$f":"J56","v":312.0735562859756},{"$f":"J56","v":312.0735562859756},0.25554171034422518]
[null,{"$f":"ABS(B279)/(ABS(B279)+ABS(B280))","v":0.57045681045846652},0.61370903757843931,{"$f":"ABS(D279)/(ABS(D279)+ABS(D280))","v":{"$error":"#VALUE!"}},0.21098616927802774,0.83059382366831591,0.64936056915891982,0.60048239506664092,0.15420492055741114,0.12085971250508068,2.3793403513220467E-2,8.6967348060980984E-2,0.4644775113663116,7.0643143554137575E-2,0.3260870114045315,3.7408017797553317E-2,0.35524322910463624,0.58568609355469725,0.17855205118435954,0.42593127072797415,0.18176612753678809,0.19128309192042436,0.45818075694602028,{"$f":"IF($I$56<0,X279*$W$53,X279*$W$54)","v":0.74445828965577476}]
[null,{"$f":"ABS(B280)/(ABS(B279)+ABS(B280))","v":0.42954318954153342},0.38629096242156075,{"$error":"#VALUE!"},0.78901383072197229,0.16940617633168412,0.35063943084108018,0.39951760493335908,0.8457950794425888,0.87914028749491924,0.97620659648677954,0.91303265193901895,0.53552248863368834,0.92935685644586252,0.67391298859546855,0.96259198220244657,0.64475677089536376,0.4143139064453028,0.82144794881564043,0.5740687292720259,0.81823387246321189,0.80871690807957564,0.54181924305397966,{"$f":"IF($J$56<0,X280*$W$53,X280*$W$54)","v":0.25554171034422518}]
[null,{"$f":"IF($C$56<0,B281*$W$53,B281*$W$54)","v":-0.57045681045846652},{"$f":"IF($C$56<0,C281*$W$53,C281*$W$54)","v":-0.61370903757843931},{"$f":"IF($C$56<0,D281*$W$53,D281*$W$54)","v":{"$error":"#VALUE!"}},-0.21098616927802774,{"$f":"IF($E$56<0,F281*$W$53,F281*$W$54)","v":-0.83059382366831591},{"$f":"IF($G$56<0,G281*$W$53,G281*$W$54)","v":0.64936056915891982},{"$f":"IF($E$56<0,H281*$W$53,H281*$W$54)","v":-0.60048239506664092},{"$f":"IF($C$56<0,I281*$W$53,I281*$W$54)","v":-0.15420492055741114},{"$f":"IF($G$56<0,J281*$W$53,J281*$W$54)","v":0.12085971250508068},{"$f":"IF($E$56<0,K281*$W$53,K281*$W$54)","v":-2.3793403513220467E-2},{"$f":"IF($H$56<0,L281*$W$53,L281*$W$54)","v":-8.6967348060980984E-2},{"$f":"IF($I$56<0,M281*$W$53,M281*$W$54)","v":0.4644775113663116},{"$f":"IF($G$56<0,N281*$W$53,N281*$W$54)","v":7.0643143554137575E-2},{"$f":"IF($C$56<0,O281*$W$53,O281*$W$54)","v":-0.3260870114045315},{"$f":"IF($H$56<0,P281*$W$53,P281*$W$54)","v":-3.7408017797553317E-2},{"$f":"IF($E$56<0,Q281*$W$53,Q281*$W$54)","v":-0.35524322910463624},{"$f":"IF($I$56<0,R281*$W$53,R281*$W$54)","v":0.58568609355469725},{"$f":"IF($J$56<0,S281*$W$53,S281*$W$54)","v":0.17855205118435954},{"$f":"IF($I$56<0,T281*$W$53,T281*$W$54)","v":0.42593127072797415},{"$f":"IF($J$56<0,U281*$W$53,U281*$W$54)","v":0.18176612753678809},{"$f":"IF($G$56<0,V281*$W$53,V281*$W$54)","v":0.19128309192042436},{"$f":"IF($E$56<0,W281*$W$53,W281*$W$54)","v":-0.45818075694602028}]
[null,{"$f":"IF($G$56<0,B282*$W$53,B282*$W$54)","v":0.42954318954153342},{"$f":"IF($I$56<0,C282*$W$53,C282*$W$54)","v":0.38629096242156075},{"$f":"IF($F$56<0,D282*$W$53,D282*$W$54)","v":{"$error":"#VALUE!"}},{"$f":"IF($J$56<0,E282*$W$53,E282*$W$54)","v":0.78901383072197229},{"$f":"IF($G$56<0,F282*$W$53,F282*$W$54)","v":0.16940617633168412},{"$f":"IF($I$56<0,G282*$W$53,G282*$W$54)","v":0.35063943084108018},{"$f":"IF($I$56<0,H282*$W$53,H282*$W$54)","v":0.39951760493335908},{"$f":"IF($D$56<0,I282*$W$53,I282*$W$54)","v":-0.8457950794425888},{"$f":"IF($D$56<0,J282*$W$53,J282*$W$54)","v":-0.87914028749491924},-0.97620659648677954,-0.91303265193901895,-0.53552248863368834,{"$f":"IF($H$56<0,N282*$W$53,N282*$W$54)","v":-0.92935685644586252},{"$f":"IF($H$56<0,O282*$W$53,O282*$W$54)","v":-0.67391298859546855},{"$f":"IF($F$56<0,P282*$W$53,P282*$W$54)","v":-0.96259198220244657},{"$f":"IF($H$56<0,Q282*$W$53,Q282*$W$54)","v":-0.64475677089536376},{"$f":"IF($H$56<0,R282*$W$53,R282*$W$54)","v":-0.4143139064453028},{"$f":"IF($H$56<0,S282*$W$53,S282*$W$54)","v":-0.82144794881564043},{"$f":"IF($F$56<0,T282*$W$53,T282*$W$54)","v":-0.5740687292720259},-0.81823387246321189,{"$f":"IF($J$56<0,V282*$W$53,V282*$W$54)","v":0.80871690807957564},0.54181924305397966]
[]
[]
[]
[null,"IF(C56<0;N57*$W$53;N57*$W$54)"]